BEGIN:VCALENDAR
VERSION:2.0
PRODID:-//Discover Cathedral City - ECPv6.15.13//NONSGML v1.0//EN
CALSCALE:GREGORIAN
METHOD:PUBLISH
X-WR-CALNAME:Discover Cathedral City
X-ORIGINAL-URL:https://www.discovercathedralcity.com
X-WR-CALDESC:Events for Discover Cathedral City
REFRESH-INTERVAL;VALUE=DURATION:PT1H
X-Robots-Tag:noindex
X-PUBLISHED-TTL:PT1H
BEGIN:VTIMEZONE
TZID:America/Los_Angeles
BEGIN:DAYLIGHT
TZOFFSETFROM:-0800
TZOFFSETTO:-0700
TZNAME:PDT
DTSTART:20230312T100000
END:DAYLIGHT
BEGIN:STANDARD
TZOFFSETFROM:-0700
TZOFFSETTO:-0800
TZNAME:PST
DTSTART:20231105T090000
END:STANDARD
BEGIN:DAYLIGHT
TZOFFSETFROM:-0800
TZOFFSETTO:-0700
TZNAME:PDT
DTSTART:20240310T100000
END:DAYLIGHT
BEGIN:STANDARD
TZOFFSETFROM:-0700
TZOFFSETTO:-0800
TZNAME:PST
DTSTART:20241103T090000
END:STANDARD
BEGIN:DAYLIGHT
TZOFFSETFROM:-0800
TZOFFSETTO:-0700
TZNAME:PDT
DTSTART:20250309T100000
END:DAYLIGHT
BEGIN:STANDARD
TZOFFSETFROM:-0700
TZOFFSETTO:-0800
TZNAME:PST
DTSTART:20251102T090000
END:STANDARD
END:VTIMEZONE
BEGIN:VEVENT
DTSTART;TZID=America/Los_Angeles:20240319T170000
DTEND;TZID=America/Los_Angeles:20240319T190000
DTSTAMP:20260420T033205
CREATED:20231222T062139Z
LAST-MODIFIED:20240314T171609Z
UID:418-1710867600-1710874800@www.discovercathedralcity.com
SUMMARY:Tastes & Sounds of Cathedral City - Avenida Music
DESCRIPTION:Change in Line-up\nAvenida is a live music band that specializes in corporate events\, weddings\, parties\, celebrations\, and special events. We play a unique mix of English and Spanish music for all age ranges. Whether you are looking for Classic Rock\, Motown\, Disco\, Cumbia\, Rock en Espanol\, Country\, Top 40\, and more. Brothers Josiah\, Vincent\, and Samuel and business partner Sean have 7 years of experience playing together and have a combined 60+ years of experience as musicians and DJ’s. \nhttps://www.littlestreetmusic.com/ \n\nIndulge in a weekly feast for the senses at\nImmerse yourself in a musical and culinary adventure like no other. \nJoin us in Downtown Cathedral City every week from\nFebruary 13 to April 9\, 2024\nand savor the flavors\, rhythms\, and talents of our vibrant community! \nCommunity Amphitheater
URL:https://www.discovercathedralcity.com/event/tastes-sounds-of-cathedral-city-avenida-music/
LOCATION:Cathedral City Community Amphitheater\, 68526 Avenida Lalo Guerrero\, Cathedral City\, CA\, 92234\, United States
CATEGORIES:Community Events,Food,Music
ATTACH;FMTTYPE=image/jpeg:https://www.discovercathedralcity.com/wp-content/uploads/2023/12/Avenida-sq.jpg
GEO:33.7813769;-116.4655492
X-APPLE-STRUCTURED-LOCATION;VALUE=URI;X-ADDRESS=Cathedral City Community Amphitheater 68526 Avenida Lalo Guerrero Cathedral City CA 92234 United States;X-APPLE-RADIUS=500;X-TITLE=68526 Avenida Lalo Guerrero:geo:-116.4655492,33.7813769
END:VEVENT
END:VCALENDAR