BEGIN:VCALENDAR
VERSION:2.0
PRODID:-//Discover Cathedral City - ECPv6.15.13//NONSGML v1.0//EN
CALSCALE:GREGORIAN
METHOD:PUBLISH
X-ORIGINAL-URL:https://www.discovercathedralcity.com
X-WR-CALDESC:Events for Discover Cathedral City
REFRESH-INTERVAL;VALUE=DURATION:PT1H
X-Robots-Tag:noindex
X-PUBLISHED-TTL:PT1H
BEGIN:VTIMEZONE
TZID:America/Los_Angeles
BEGIN:DAYLIGHT
TZOFFSETFROM:-0800
TZOFFSETTO:-0700
TZNAME:PDT
DTSTART:20210314T100000
END:DAYLIGHT
BEGIN:STANDARD
TZOFFSETFROM:-0700
TZOFFSETTO:-0800
TZNAME:PST
DTSTART:20211107T090000
END:STANDARD
BEGIN:DAYLIGHT
TZOFFSETFROM:-0800
TZOFFSETTO:-0700
TZNAME:PDT
DTSTART:20220313T100000
END:DAYLIGHT
BEGIN:STANDARD
TZOFFSETFROM:-0700
TZOFFSETTO:-0800
TZNAME:PST
DTSTART:20221106T090000
END:STANDARD
BEGIN:DAYLIGHT
TZOFFSETFROM:-0800
TZOFFSETTO:-0700
TZNAME:PDT
DTSTART:20230312T100000
END:DAYLIGHT
BEGIN:STANDARD
TZOFFSETFROM:-0700
TZOFFSETTO:-0800
TZNAME:PST
DTSTART:20231105T090000
END:STANDARD
END:VTIMEZONE
BEGIN:VEVENT
DTSTART;TZID=America/Los_Angeles:20220401T170000
DTEND;TZID=America/Los_Angeles:20220401T200000
DTSTAMP:20260425T060435
CREATED:20201029T205006Z
LAST-MODIFIED:20201029T205006Z
UID:10003373-1648832400-1648843200@www.discovercathedralcity.com
SUMMARY:First Fridays Art Walk on Perez Road
DESCRIPTION:Looking for an opportunity to walk and view some amazing art at the same time?  Then come to First Fridays Art Walk on Perez Road from 5 pm to 8 pm.  The row of art galleries are located at 68845 & 68895 Perez Road in the “H” and “I” buildings. \n  \n 
URL:https://www.discovercathedralcity.com/event/first-fridays-art-walk-on-perez-road-2/2022-04-01/
LOCATION:Art Walk\, 68895 Perez Rd Unit I-26\, Cathedral City\, CA\, 92234\, United States
CATEGORIES:Art,Community Events
ATTACH;FMTTYPE=image/jpeg:https://www.discovercathedralcity.com/wp-content/uploads/2020/10/artwalkend.jpg
ORGANIZER;CN="The Perez Art District":MAILTO:anne@annebedrick.com
GEO:33.7824048;-116.4606047
X-APPLE-STRUCTURED-LOCATION;VALUE=URI;X-ADDRESS=Art Walk 68895 Perez Rd Unit I-26 Cathedral City CA 92234 United States;X-APPLE-RADIUS=500;X-TITLE=68895 Perez Rd Unit I-26:geo:-116.4606047,33.7824048
END:VEVENT
BEGIN:VEVENT
DTSTART;TZID=America/Los_Angeles:20220401T170000
DTEND;TZID=America/Los_Angeles:20220401T200000
DTSTAMP:20260425T060435
CREATED:20201029T205006Z
LAST-MODIFIED:20201029T205006Z
UID:10003384-1648832400-1648843200@www.discovercathedralcity.com
SUMMARY:First Fridays Art Walk on Perez Road
DESCRIPTION:Looking for an opportunity to walk and view some amazing art at the same time?  Then come to First Fridays Art Walk on Perez Road from 5 pm to 8 pm.  The row of art galleries are located at 68845 & 68895 Perez Road in the “H” and “I” buildings. \n  \n 
URL:https://www.discovercathedralcity.com/event/first-fridays-art-walk-on-perez-road-2/2022-04-01/
LOCATION:Art Walk\, 68895 Perez Rd Unit I-26\, Cathedral City\, CA\, 92234\, United States
CATEGORIES:Art,Community Events
ATTACH;FMTTYPE=image/jpeg:https://www.discovercathedralcity.com/wp-content/uploads/2020/10/artwalkend.jpg
ORGANIZER;CN="The Perez Art District":MAILTO:anne@annebedrick.com
GEO:33.7824048;-116.4606047
X-APPLE-STRUCTURED-LOCATION;VALUE=URI;X-ADDRESS=Art Walk 68895 Perez Rd Unit I-26 Cathedral City CA 92234 United States;X-APPLE-RADIUS=500;X-TITLE=68895 Perez Rd Unit I-26:geo:-116.4606047,33.7824048
END:VEVENT
BEGIN:VEVENT
DTSTART;TZID=America/Los_Angeles:20220430T083000
DTEND;TZID=America/Los_Angeles:20220430T120000
DTSTAMP:20260425T060435
CREATED:20220426T170235Z
LAST-MODIFIED:20220426T170235Z
UID:10002427-1651307400-1651320000@www.discovercathedralcity.com
SUMMARY:Spring Fest
DESCRIPTION:S.C.R.A.P. Gallery\, Cathedral City Parks and Community Events Commission\, and the Cathedral City Public Library invite you to “Spring Fest” that celebrates Earth Day and Global Youth Day on Saturday\, April 30\, 2022\, 8:30 am to 12 (noon) at Century Park located at 69908 Century Park Drive in Cathedral City.  This free event offers family fun activities and pop-up exhibits from the S.C.R.A.P. Gallery. \n  \nSeveral activities include “Walking for Water 6K” that raises awareness and demonstrates the challenges many people worldwide face in getting access to fresh\, clean water.  In addition\, the public library will have a “Lorax Library Booth” where you can sign-up for a library card\, decorate a Truffula Tree\, and get a sign up gift for first time members.  The City of Cathedral City will have a Bicycle Education Booth to learn about how we can improve walking and biking in your neighborhood.  Best of all\, you will have a chance to win a new bicycle! \n  \nFor more information\, email info@scrapgallery.org \nSpring Fest_Flyer_Web
URL:https://www.discovercathedralcity.com/event/spring-fest/
LOCATION:Century Park\, 69908 Century Park Drive\, Cathedral City\, CA\, 92234\, United States
CATEGORIES:Art,Children Activities,Community Events
ATTACH;FMTTYPE=image/jpeg:https://www.discovercathedralcity.com/wp-content/uploads/2022/04/Spring-Fest-April-2022.jpg
GEO:33.8269757;-116.4424591
X-APPLE-STRUCTURED-LOCATION;VALUE=URI;X-ADDRESS=Century Park 69908 Century Park Drive Cathedral City CA 92234 United States;X-APPLE-RADIUS=500;X-TITLE=69908 Century Park Drive:geo:-116.4424591,33.8269757
END:VEVENT
END:VCALENDAR