BEGIN:VCALENDAR
VERSION:2.0
PRODID:-//Discover Cathedral City - ECPv6.15.13//NONSGML v1.0//EN
CALSCALE:GREGORIAN
METHOD:PUBLISH
X-ORIGINAL-URL:https://www.discovercathedralcity.com
X-WR-CALDESC:Events for Discover Cathedral City
REFRESH-INTERVAL;VALUE=DURATION:PT1H
X-Robots-Tag:noindex
X-PUBLISHED-TTL:PT1H
BEGIN:VTIMEZONE
TZID:America/Los_Angeles
BEGIN:DAYLIGHT
TZOFFSETFROM:-0800
TZOFFSETTO:-0700
TZNAME:PDT
DTSTART:20220313T100000
END:DAYLIGHT
BEGIN:STANDARD
TZOFFSETFROM:-0700
TZOFFSETTO:-0800
TZNAME:PST
DTSTART:20221106T090000
END:STANDARD
BEGIN:DAYLIGHT
TZOFFSETFROM:-0800
TZOFFSETTO:-0700
TZNAME:PDT
DTSTART:20230312T100000
END:DAYLIGHT
BEGIN:STANDARD
TZOFFSETFROM:-0700
TZOFFSETTO:-0800
TZNAME:PST
DTSTART:20231105T090000
END:STANDARD
BEGIN:DAYLIGHT
TZOFFSETFROM:-0800
TZOFFSETTO:-0700
TZNAME:PDT
DTSTART:20240310T100000
END:DAYLIGHT
BEGIN:STANDARD
TZOFFSETFROM:-0700
TZOFFSETTO:-0800
TZNAME:PST
DTSTART:20241103T090000
END:STANDARD
END:VTIMEZONE
BEGIN:VEVENT
DTSTART;TZID=America/Los_Angeles:20230407T170000
DTEND;TZID=America/Los_Angeles:20230407T200000
DTSTAMP:20260424T071908
CREATED:20220922T152451Z
LAST-MODIFIED:20221215T232011Z
UID:10003114-1680886800-1680897600@www.discovercathedralcity.com
SUMMARY:First Friday Art Walk
DESCRIPTION:The Perez Art District hosts a free art walk on the First-Friday of EVERY month\, October-June from 5-8 pm.  Visitors can meander down the street\, visiting artists in their studios to not only see where the art is created but to also buy art directly from the artists.  Unlike other gallery districts\, The Perez Art District is a collection of working artists’ studios where the artists enjoy sharing their work and the ideas behind them.  Visitors will see a wide range of artistic practices including paintings\, sculptures\, mixed media\, photography\, printmaking\, and ceramics. \nStudios are located at 68845 and 68895 Perez Road\, Building H and Building I\, in Cathedral City\, CA.  Look for the Black “Art District” sign on the corner. Parking is plentiful\, in front of and behind the studios\, and visitors can easily walk from one end to the other. \nFollow us! \nInstagram: https://www.instagram.com/ThePerezArtDistrict \nFacebook https://www.facebook.com/ThePerezArtDistrict
URL:https://www.discovercathedralcity.com/event/first-friday-art-walk/2023-04-07/
LOCATION:Art Walk\, 68895 Perez Rd Unit I-26\, Cathedral City\, CA\, 92234\, United States
CATEGORIES:Art
ATTACH;FMTTYPE=image/jpeg:https://www.discovercathedralcity.com/wp-content/uploads/2022/09/PRAD2.jpg
ORGANIZER;CN="The Perez Art District":MAILTO:anne@annebedrick.com
GEO:33.7824048;-116.4606047
X-APPLE-STRUCTURED-LOCATION;VALUE=URI;X-ADDRESS=Art Walk 68895 Perez Rd Unit I-26 Cathedral City CA 92234 United States;X-APPLE-RADIUS=500;X-TITLE=68895 Perez Rd Unit I-26:geo:-116.4606047,33.7824048
END:VEVENT
BEGIN:VEVENT
DTSTART;TZID=America/Los_Angeles:20230414T080000
DTEND;TZID=America/Los_Angeles:20230423T170000
DTSTAMP:20260424T071908
CREATED:20230315T213922Z
LAST-MODIFIED:20230315T223020Z
UID:10004117-1681459200-1682269200@www.discovercathedralcity.com
SUMMARY:Senior Art Exhibit
DESCRIPTION:Featuring Artwork & Sculpture by Senior Citizen Artists \nBenefiting\nThe Cathedral City Senior Center \nOpening Night Reception:\nFriday\, April 14\, 2023 \nRSVP:\ninfo@jjharringtononlinegallery.com \nExhibit Dates:\nApril 14 – 23 \nHours: Thursday to Saturday\, 11:00 am to 4:00 pm.
URL:https://www.discovercathedralcity.com/event/senior-art-exhibit/
LOCATION:JJ Harrington Gallery\, 68895 Perez Road\, Ste I-4\, Cathedral City\, CA\, 92234\, United States
CATEGORIES:Art,Senior
ATTACH;FMTTYPE=image/jpeg:https://www.discovercathedralcity.com/wp-content/uploads/2023/03/SENIOR-EXHIBIT-FLYER-NO.jpg
GEO:33.7824048;-116.4606047
X-APPLE-STRUCTURED-LOCATION;VALUE=URI;X-ADDRESS=JJ Harrington Gallery 68895 Perez Road Ste I-4 Cathedral City CA 92234 United States;X-APPLE-RADIUS=500;X-TITLE=68895 Perez Road\, Ste I-4:geo:-116.4606047,33.7824048
END:VEVENT
BEGIN:VEVENT
DTSTART;TZID=America/Los_Angeles:20230422T083000
DTEND;TZID=America/Los_Angeles:20230422T120000
DTSTAMP:20260424T071908
CREATED:20230417T155958Z
LAST-MODIFIED:20230417T160015Z
UID:10004144-1682152200-1682164800@www.discovercathedralcity.com
SUMMARY:Springfest
DESCRIPTION:S.C.R.A.P. Gallery\, Cathedral City Parks and Community Events Commission\, and the Cathedral City Public Library invite you to “Spring Fest” that celebrates Earth Day and Global Youth Day on Saturday\, April 22\, 2023\, 8:30 am to 12 (noon) at Century Park located at 69908 Century Park Drive in Cathedral City. This free event offers family fun activities and pop-up exhibits from the S.C.R.A.P. Gallery. \nSeveral activities include “Walking for Water 6K” that raises awareness and demonstrates the challenges many people worldwide face in getting access to fresh\, clean water. In addition\, the public library will have a booth for crafts and more\, the City will have a Bicycle Education Booth to learn about how we can improve walking and biking in your neighborhood\, and there will be a Save the Bees\, Plant More Trees Contest. Best of all\, you will have a chance to win a new bicycle! \nFor more information\, please email info@scrapgallery.org.
URL:https://www.discovercathedralcity.com/event/springfest/
LOCATION:Century Park\, 69908 Century Park Drive\, Cathedral City\, CA\, 92234\, United States
CATEGORIES:Art,Children Activities,Community Events,Recycling
ATTACH;FMTTYPE=image/jpeg:https://www.discovercathedralcity.com/wp-content/uploads/2023/04/springfest-tab-2.jpg
GEO:33.8269757;-116.4424591
X-APPLE-STRUCTURED-LOCATION;VALUE=URI;X-ADDRESS=Century Park 69908 Century Park Drive Cathedral City CA 92234 United States;X-APPLE-RADIUS=500;X-TITLE=69908 Century Park Drive:geo:-116.4424591,33.8269757
END:VEVENT
END:VCALENDAR