BEGIN:VCALENDAR
VERSION:2.0
PRODID:-//Discover Cathedral City - ECPv6.15.13//NONSGML v1.0//EN
CALSCALE:GREGORIAN
METHOD:PUBLISH
X-WR-CALNAME:Discover Cathedral City
X-ORIGINAL-URL:https://www.discovercathedralcity.com
X-WR-CALDESC:Events for Discover Cathedral City
REFRESH-INTERVAL;VALUE=DURATION:PT1H
X-Robots-Tag:noindex
X-PUBLISHED-TTL:PT1H
BEGIN:VTIMEZONE
TZID:America/Los_Angeles
BEGIN:DAYLIGHT
TZOFFSETFROM:-0800
TZOFFSETTO:-0700
TZNAME:PDT
DTSTART:20220313T100000
END:DAYLIGHT
BEGIN:STANDARD
TZOFFSETFROM:-0700
TZOFFSETTO:-0800
TZNAME:PST
DTSTART:20221106T090000
END:STANDARD
BEGIN:DAYLIGHT
TZOFFSETFROM:-0800
TZOFFSETTO:-0700
TZNAME:PDT
DTSTART:20230312T100000
END:DAYLIGHT
BEGIN:STANDARD
TZOFFSETFROM:-0700
TZOFFSETTO:-0800
TZNAME:PST
DTSTART:20231105T090000
END:STANDARD
BEGIN:DAYLIGHT
TZOFFSETFROM:-0800
TZOFFSETTO:-0700
TZNAME:PDT
DTSTART:20240310T100000
END:DAYLIGHT
BEGIN:STANDARD
TZOFFSETFROM:-0700
TZOFFSETTO:-0800
TZNAME:PST
DTSTART:20241103T090000
END:STANDARD
END:VTIMEZONE
BEGIN:VEVENT
DTSTART;TZID=America/Los_Angeles:20231027T160000
DTEND;TZID=America/Los_Angeles:20231027T190000
DTSTAMP:20260423T200904
CREATED:20231002T143841Z
LAST-MODIFIED:20231102T224226Z
UID:10005068-1698422400-1698433200@www.discovercathedralcity.com
SUMMARY:The Perez Art District's Fourth Fridays
DESCRIPTION:The Perez Art District’s highly anticipated Art Walk occurs on 4th Fridays @ 4pm. \nThis is an immersive experience for art enthusiasts and the local community alike.  The Art Walk offers a unique chance to witness the creative process across a variety of disciplines\, including painting\, sculpture\, photography\, and mixed media. \nConveniently located at 68845 Perez Rd in Cathedral City\, California\, the Perez Art District is home to a vibrant community of artists. \nVisitors to the district will have the opportunity to explore the working studios of over 30 talented artists in the H and I Buildings\, with an additional 8 artists in the A and C Buildings. Additionally\, some of the home and design stores and galleries in the 68929 building will participate. \nTo stay updated on upcoming events\, follow the Perez Art District on social media: \n\nFacebook (https://www.facebook.com/ThePerezArtDistrict)\nInstagram (https://www.instagram.com/ThePerezArtDistrict/)\n\nFind us in buildings A\, C\, H\, and I as well as in the 68929 building along Perez Rd in Cathedral City\, CA. \nThe Art Walk starts at 4pm and runs until 7pm\, allowing ample time for attendees to discover the diverse range of artistic styles within the district and then head across the walking bridge to downtown Cathedral City to enjoy a dinner out. \nWe look forward to seeing you on 4th Fridays @ 4pm!
URL:https://www.discovercathedralcity.com/event/the-perez-art-districts-fourth-fridays-2/2023-10-27/
LOCATION:Art Walk\, 68895 Perez Rd Unit I-26\, Cathedral City\, CA\, 92234\, United States
CATEGORIES:Art,Community Events,Shopping
ATTACH;FMTTYPE=image/jpeg:https://www.discovercathedralcity.com/wp-content/uploads/2023/10/Artwalk.jpg
ORGANIZER;CN="The Perez Art District":MAILTO:anne@annebedrick.com
GEO:33.7824048;-116.4606047
X-APPLE-STRUCTURED-LOCATION;VALUE=URI;X-ADDRESS=Art Walk 68895 Perez Rd Unit I-26 Cathedral City CA 92234 United States;X-APPLE-RADIUS=500;X-TITLE=68895 Perez Rd Unit I-26:geo:-116.4606047,33.7824048
END:VEVENT
BEGIN:VEVENT
DTSTART;TZID=America/Los_Angeles:20231028T110000
DTEND;TZID=America/Los_Angeles:20231028T150000
DTSTAMP:20260423T200904
CREATED:20230724T212219Z
LAST-MODIFIED:20230727T172626Z
UID:10005080-1698490800-1698505200@www.discovercathedralcity.com
SUMMARY:8th Annual Día de Los Muertos Festival Set for Saturday\, Oct. 28\, 2023 at Desert Memorial Park
DESCRIPTION:Mark your calendars for the 8th Annual Día de Los Muertos Festival from 11 a.m. to 3 p.m. on Saturday\, October 28\, 2023 at Desert Memorial Park! \nDía de Los Muertos Cathedral City invites Palm Springs Unified School District students to participate in the annual Día de Los Muertos Youth Art Exhibition\, sponsored by S.C.R.A.P. Gallery. Selected work will be exhibited at the Día de Los Muertos at Desert Memorial Park. Winners in three age categories will receive cash prizes. For materials and project ideas\, please contact info@scrapgallery.org. Artwork drop off at S.C.R.A.P. Gallery\, 68473 Perez Rd. D-16\, Cathedral City from 11 a.m. to 5 p.m.\, Thursday\, Oct. 19\, 2023\, and Friday\, Oct. 20\, 2023 \nEvery year\, millions of Monarch butterflies arrive in Michoacan\, Mexico\, coinciding with the celebration of Día de Los Muertos. The butterflies settle in the Oyamel fir tree forests for the winter months. It is believed that the Monarchs are the returning spirits of loved ones who have passed. Decorate a butterfly in memory of a loved one and place it on the community altar on Saturday\, October 28\, 2023. \nPlease visit the event website for Sponsorship & Vendor Information. Desert Memorial Park is located at 31-705 Da Vall Dr\, Cathedral City\, CA 92234. \n\n\n\nFor more information about the Día de Los Muertos Festival: \n\nTrinidad Rios – trios327@gmail.com\nKaren Riley – karen@scrapgallery.org
URL:https://www.discovercathedralcity.com/event/8th-annual-dia-de-los-muertos-festival-set-for-saturday-oct-28-2023-at-desert-memorial-park/
LOCATION:Desert Memorial Park\, 31-705 Da Vall\, Cathedral City\, CA\, 92234\, United States
CATEGORIES:Art,Children Activities,Community Events,Latino,Performing Arts
ATTACH;FMTTYPE=image/jpeg:https://www.discovercathedralcity.com/wp-content/uploads/2023/07/Die-de-los-Muertos-Logo_letter.jpg
GEO:33.8170089;-116.4406364
X-APPLE-STRUCTURED-LOCATION;VALUE=URI;X-ADDRESS=Desert Memorial Park 31-705 Da Vall Cathedral City CA 92234 United States;X-APPLE-RADIUS=500;X-TITLE=31-705 Da Vall:geo:-116.4406364,33.8170089
END:VEVENT
END:VCALENDAR