BEGIN:VCALENDAR
VERSION:2.0
PRODID:-//Discover Cathedral City - ECPv6.15.13//NONSGML v1.0//EN
CALSCALE:GREGORIAN
METHOD:PUBLISH
X-WR-CALNAME:Discover Cathedral City
X-ORIGINAL-URL:https://www.discovercathedralcity.com
X-WR-CALDESC:Events for Discover Cathedral City
REFRESH-INTERVAL;VALUE=DURATION:PT1H
X-Robots-Tag:noindex
X-PUBLISHED-TTL:PT1H
BEGIN:VTIMEZONE
TZID:America/Los_Angeles
BEGIN:DAYLIGHT
TZOFFSETFROM:-0800
TZOFFSETTO:-0700
TZNAME:PDT
DTSTART:20220313T100000
END:DAYLIGHT
BEGIN:STANDARD
TZOFFSETFROM:-0700
TZOFFSETTO:-0800
TZNAME:PST
DTSTART:20221106T090000
END:STANDARD
BEGIN:DAYLIGHT
TZOFFSETFROM:-0800
TZOFFSETTO:-0700
TZNAME:PDT
DTSTART:20230312T100000
END:DAYLIGHT
BEGIN:STANDARD
TZOFFSETFROM:-0700
TZOFFSETTO:-0800
TZNAME:PST
DTSTART:20231105T090000
END:STANDARD
BEGIN:DAYLIGHT
TZOFFSETFROM:-0800
TZOFFSETTO:-0700
TZNAME:PDT
DTSTART:20240310T100000
END:DAYLIGHT
BEGIN:STANDARD
TZOFFSETFROM:-0700
TZOFFSETTO:-0800
TZNAME:PST
DTSTART:20241103T090000
END:STANDARD
END:VTIMEZONE
BEGIN:VEVENT
DTSTART;TZID=America/Los_Angeles:20230611T140000
DTEND;TZID=America/Los_Angeles:20230611T150000
DTSTAMP:20260424T030043
CREATED:20230608T152621Z
LAST-MODIFIED:20230608T152621Z
UID:10005056-1686492000-1686495600@www.discovercathedralcity.com
SUMMARY:Swimming Program Open House
DESCRIPTION:We hope you’ll join us for an open house this Sunday\, June 11\, 2023\, from 2-3 p.m. to kick off the summer pool program! Mayor Rita Lamb\, PSUSD Board of Education Member Sergio Espericueta\, Lenny the Landshark\, CCHS standout swimmer Jayden Crittenden and many more will be in attendance. \nThe City of Cathedral City\, the Palm Springs Unified School District and Desert Recreation District will once again provide recreational swim sessions and swim lessons at the Cathedral City High School pool. The pool\, located at 69250 Dinah Shore Drive\, Cathedral City\, CA 92234\, will be open to Cathedral City residents from Sunday\, June 11 – Saturday\, Aug. 5\, 2023. You can read more about the agreement here. \nMayor and a few members of City Council will also be sporting 20s style swimsuits at the event to add a little fun\, and we hope to do an official “first splash” in the pool. \n\n\nAquatic and recreational activities improve our physical and psychological health\, strengthen communities\, and make our neighborhoods more attractive places to live\, work and play. Stay cool this summer and enjoy our water features throughout Cathedral City!
URL:https://www.discovercathedralcity.com/event/swimming-program-open-house/
LOCATION:Cathedral City High School Pool\, 69250 Dinah Shore Dr\,\, Cathedral City\, CA\, 92234\, United States
CATEGORIES:Children Activities,Health
ATTACH;FMTTYPE=image/jpeg:https://www.discovercathedralcity.com/wp-content/uploads/2023/06/2023-Summer-Pool-EventFlyer.jpg
GEO:33.8040016;-116.4506472
X-APPLE-STRUCTURED-LOCATION;VALUE=URI;X-ADDRESS=Cathedral City High School Pool 69250 Dinah Shore Dr Cathedral City CA 92234 United States;X-APPLE-RADIUS=500;X-TITLE=69250 Dinah Shore Dr\,:geo:-116.4506472,33.8040016
END:VEVENT
BEGIN:VEVENT
DTSTART;TZID=America/Los_Angeles:20230616T110000
DTEND;TZID=America/Los_Angeles:20230616T123000
DTSTAMP:20260424T030043
CREATED:20230525T231747Z
LAST-MODIFIED:20230607T174409Z
UID:10004165-1686913200-1686918600@www.discovercathedralcity.com
SUMMARY:Summer Movie Series
DESCRIPTION:The Cathedral City Parks and Community Events Commission (PACE)\, in partnership with the Mary Pickford Theatre\, presents the return of the “Free Summer Kids Movie Series” happening every Friday at 11:00 a.m. starting Friday\, June 16\, 2023\, thru Friday\, August 4\, 2023. Doors open at 10:30 a.m. The film series offers free admission to see a different movie geared towards kids each Friday morning at the Mary Pickford Theatre in Downtown Cathedral City. \nThe Cathedral City Parks and Community Events Commission will be offering free water and a small popcorn for the first fifty kids at each event during the 8-week period. The cost for this participation is $450 from the FY 2022-2023 PACE Small Events Budget\, which was approved by the City Council at the regular meeting on Wednesday\, May 24\, 2023. \nSeating is limited and residents can pick up the free Priority Line Passes one week in advance at the following location: \n\nCathedral City Public Library\, 33520 Date Palm Drive\n\nYou may still attempt to go to the film series without a Priority Line Pass\, but you will be placed in a standby line. Once the Priority Line Pass is empty\, those waiting in the standby line will be admitted if seats are still available. \nSUMMER SCHEDULE \n\n6/16- The Bad Guys\n6/23- Puss in Boots: The Last Wish\n6/30- Lyle\, Lyle\, Crocodile\n7/7- Minions: The Rise of Gru\n7/14- Tom & Jerry\n7/21- Mummies\n7/28- DC League of Super-Pets\n8/4- Hotel Transylvania
URL:https://www.discovercathedralcity.com/event/summer-movie-series/2023-06-16/
LOCATION:Mary Pickford Theatre\, 36850 Pickfair St\, Cathedral City\, CA\, 92234\, United States
CATEGORIES:Children Activities,Community Events,Film
ATTACH;FMTTYPE=image/jpeg:https://www.discovercathedralcity.com/wp-content/uploads/2023/05/Free-Summer-Movie-flyer-6.jpg
ORGANIZER;CN="Cathedral City Parks and Community Events Commission":MAILTO:dpressgrove@cathedralcity.gov
GEO:33.781085;-116.463048
X-APPLE-STRUCTURED-LOCATION;VALUE=URI;X-ADDRESS=Mary Pickford Theatre 36850 Pickfair St Cathedral City CA 92234 United States;X-APPLE-RADIUS=500;X-TITLE=36850 Pickfair St:geo:-116.463048,33.781085
END:VEVENT
BEGIN:VEVENT
DTSTART;TZID=America/Los_Angeles:20230623T110000
DTEND;TZID=America/Los_Angeles:20230623T123000
DTSTAMP:20260424T030043
CREATED:20230525T231747Z
LAST-MODIFIED:20230607T174409Z
UID:10004166-1687518000-1687523400@www.discovercathedralcity.com
SUMMARY:Summer Movie Series
DESCRIPTION:The Cathedral City Parks and Community Events Commission (PACE)\, in partnership with the Mary Pickford Theatre\, presents the return of the “Free Summer Kids Movie Series” happening every Friday at 11:00 a.m. starting Friday\, June 16\, 2023\, thru Friday\, August 4\, 2023. Doors open at 10:30 a.m. The film series offers free admission to see a different movie geared towards kids each Friday morning at the Mary Pickford Theatre in Downtown Cathedral City. \nThe Cathedral City Parks and Community Events Commission will be offering free water and a small popcorn for the first fifty kids at each event during the 8-week period. The cost for this participation is $450 from the FY 2022-2023 PACE Small Events Budget\, which was approved by the City Council at the regular meeting on Wednesday\, May 24\, 2023. \nSeating is limited and residents can pick up the free Priority Line Passes one week in advance at the following location: \n\nCathedral City Public Library\, 33520 Date Palm Drive\n\nYou may still attempt to go to the film series without a Priority Line Pass\, but you will be placed in a standby line. Once the Priority Line Pass is empty\, those waiting in the standby line will be admitted if seats are still available. \nSUMMER SCHEDULE \n\n6/16- The Bad Guys\n6/23- Puss in Boots: The Last Wish\n6/30- Lyle\, Lyle\, Crocodile\n7/7- Minions: The Rise of Gru\n7/14- Tom & Jerry\n7/21- Mummies\n7/28- DC League of Super-Pets\n8/4- Hotel Transylvania
URL:https://www.discovercathedralcity.com/event/summer-movie-series/2023-06-23/
LOCATION:Mary Pickford Theatre\, 36850 Pickfair St\, Cathedral City\, CA\, 92234\, United States
CATEGORIES:Children Activities,Community Events,Film
ATTACH;FMTTYPE=image/jpeg:https://www.discovercathedralcity.com/wp-content/uploads/2023/05/Free-Summer-Movie-flyer-6.jpg
ORGANIZER;CN="Cathedral City Parks and Community Events Commission":MAILTO:dpressgrove@cathedralcity.gov
GEO:33.781085;-116.463048
X-APPLE-STRUCTURED-LOCATION;VALUE=URI;X-ADDRESS=Mary Pickford Theatre 36850 Pickfair St Cathedral City CA 92234 United States;X-APPLE-RADIUS=500;X-TITLE=36850 Pickfair St:geo:-116.463048,33.781085
END:VEVENT
BEGIN:VEVENT
DTSTART;TZID=America/Los_Angeles:20230630T110000
DTEND;TZID=America/Los_Angeles:20230630T123000
DTSTAMP:20260424T030043
CREATED:20230525T231747Z
LAST-MODIFIED:20230607T174409Z
UID:10004167-1688122800-1688128200@www.discovercathedralcity.com
SUMMARY:Summer Movie Series
DESCRIPTION:The Cathedral City Parks and Community Events Commission (PACE)\, in partnership with the Mary Pickford Theatre\, presents the return of the “Free Summer Kids Movie Series” happening every Friday at 11:00 a.m. starting Friday\, June 16\, 2023\, thru Friday\, August 4\, 2023. Doors open at 10:30 a.m. The film series offers free admission to see a different movie geared towards kids each Friday morning at the Mary Pickford Theatre in Downtown Cathedral City. \nThe Cathedral City Parks and Community Events Commission will be offering free water and a small popcorn for the first fifty kids at each event during the 8-week period. The cost for this participation is $450 from the FY 2022-2023 PACE Small Events Budget\, which was approved by the City Council at the regular meeting on Wednesday\, May 24\, 2023. \nSeating is limited and residents can pick up the free Priority Line Passes one week in advance at the following location: \n\nCathedral City Public Library\, 33520 Date Palm Drive\n\nYou may still attempt to go to the film series without a Priority Line Pass\, but you will be placed in a standby line. Once the Priority Line Pass is empty\, those waiting in the standby line will be admitted if seats are still available. \nSUMMER SCHEDULE \n\n6/16- The Bad Guys\n6/23- Puss in Boots: The Last Wish\n6/30- Lyle\, Lyle\, Crocodile\n7/7- Minions: The Rise of Gru\n7/14- Tom & Jerry\n7/21- Mummies\n7/28- DC League of Super-Pets\n8/4- Hotel Transylvania
URL:https://www.discovercathedralcity.com/event/summer-movie-series/2023-06-30/
LOCATION:Mary Pickford Theatre\, 36850 Pickfair St\, Cathedral City\, CA\, 92234\, United States
CATEGORIES:Children Activities,Community Events,Film
ATTACH;FMTTYPE=image/jpeg:https://www.discovercathedralcity.com/wp-content/uploads/2023/05/Free-Summer-Movie-flyer-6.jpg
ORGANIZER;CN="Cathedral City Parks and Community Events Commission":MAILTO:dpressgrove@cathedralcity.gov
GEO:33.781085;-116.463048
X-APPLE-STRUCTURED-LOCATION;VALUE=URI;X-ADDRESS=Mary Pickford Theatre 36850 Pickfair St Cathedral City CA 92234 United States;X-APPLE-RADIUS=500;X-TITLE=36850 Pickfair St:geo:-116.463048,33.781085
END:VEVENT
END:VCALENDAR