BEGIN:VCALENDAR
VERSION:2.0
PRODID:-//Discover Cathedral City - ECPv6.15.13//NONSGML v1.0//EN
CALSCALE:GREGORIAN
METHOD:PUBLISH
X-ORIGINAL-URL:https://www.discovercathedralcity.com
X-WR-CALDESC:Events for Discover Cathedral City
REFRESH-INTERVAL;VALUE=DURATION:PT1H
X-Robots-Tag:noindex
X-PUBLISHED-TTL:PT1H
BEGIN:VTIMEZONE
TZID:America/Los_Angeles
BEGIN:DAYLIGHT
TZOFFSETFROM:-0800
TZOFFSETTO:-0700
TZNAME:PDT
DTSTART:20240310T100000
END:DAYLIGHT
BEGIN:STANDARD
TZOFFSETFROM:-0700
TZOFFSETTO:-0800
TZNAME:PST
DTSTART:20241103T090000
END:STANDARD
BEGIN:DAYLIGHT
TZOFFSETFROM:-0800
TZOFFSETTO:-0700
TZNAME:PDT
DTSTART:20250309T100000
END:DAYLIGHT
BEGIN:STANDARD
TZOFFSETFROM:-0700
TZOFFSETTO:-0800
TZNAME:PST
DTSTART:20251102T090000
END:STANDARD
BEGIN:DAYLIGHT
TZOFFSETFROM:-0800
TZOFFSETTO:-0700
TZNAME:PDT
DTSTART:20260308T100000
END:DAYLIGHT
BEGIN:STANDARD
TZOFFSETFROM:-0700
TZOFFSETTO:-0800
TZNAME:PST
DTSTART:20261101T090000
END:STANDARD
END:VTIMEZONE
BEGIN:VEVENT
DTSTART;TZID=America/Los_Angeles:20250507T170000
DTEND;TZID=America/Los_Angeles:20250507T190000
DTSTAMP:20260419T233809
CREATED:20250507T160348Z
LAST-MODIFIED:20250507T160348Z
UID:10006645-1746637200-1746644400@www.discovercathedralcity.com
SUMMARY:S.C.R.A.P. Gallery Sustainable Community Series
DESCRIPTION:Join S.C.R.A.P. Gallery in their Sustainable Community Series on May 7th from 5-7pm and on May 24th from 4-5:30pm at the Cathedral City Public Library where kids can craft and learn at several activity stations: Build a Bird’s Nest – It’s a Blue Planet – Earth Day is Every Day.  This event is made possible by the generous support of Anderson Children’s Foundation. \nS.C.R.A.P. Gallery’s mission is to actively engage youth as stewards of their environment through a concentrated\, hands-on\, educational effort to build a creative culture of sustainability in our schools and community. They are committed to working to create a more just\, equitable\, and sustainable future for people and the planet. S.C.R.A.P. links industry\, education\, the arts\, and the environment. Its programs feature environmental presentations\, exhibits\, workshops\, and interactive lessons – using reused and recycled materials from the S.C.R.A.P. Gallery Warehouse\, directly diverting materials from the landfill.
URL:https://www.discovercathedralcity.com/event/s-c-r-a-p-gallery-sustainable-community-series/2025-05-07/
LOCATION:Cathedral City Public Library\, 33520 Date Palm Drive\, Cathedral City\, CA\, 92234\, United States
CATEGORIES:Art,Children Activities,Community Events,Environment
ATTACH;FMTTYPE=image/jpeg:https://www.discovercathedralcity.com/wp-content/uploads/2025/05/Screenshot-2025-05-07-085100.jpg
GEO:33.8042303;-116.45733
X-APPLE-STRUCTURED-LOCATION;VALUE=URI;X-ADDRESS=Cathedral City Public Library 33520 Date Palm Drive Cathedral City CA 92234 United States;X-APPLE-RADIUS=500;X-TITLE=33520 Date Palm Drive:geo:-116.45733,33.8042303
END:VEVENT
BEGIN:VEVENT
DTSTART;TZID=America/Los_Angeles:20250522T090000
DTEND;TZID=America/Los_Angeles:20250522T100000
DTSTAMP:20260419T233809
CREATED:20250422T171051Z
LAST-MODIFIED:20250422T173751Z
UID:10006640-1747904400-1747908000@www.discovercathedralcity.com
SUMMARY:Esperanza Park Grand Opening/Ribbon Cutting
DESCRIPTION:ESPERANZA PARK – OFFICIAL RIBBON CUTTING CEREMONY & GRAND OPENING \n\nDate: Thursday\, May 22\, 2025\nTime: 9:00 AM\nLocation: 30610 San Diego Dr\, Cathedral City\, CA 92234\n\nJoin Cathedral City officials and community members for the official ribbon cutting ceremony and grand opening of Esperanza Park! Public Works Director John Corella will serve as master of ceremonies\, with special remarks from Mayor Nancy Ross\, District Representative Councilmember Ernesto Gutierrez\, Felipe Ortiz (Field Representative for Assemblymember Greg Wallis)\, and a representative from the Desert Recreation District. Located in the historic Dream Homes neighborhood\, this beautiful new 7.5-acre park features children’s play areas\, shaded picnic spaces\, fitness equipment\, sports fields\, basketball courts\, dog parks\, and more. \nThe ceremony will mark the culmination of a community-driven project years in the making\, bringing vital recreational space to a previously underserved neighborhood. “Esperanza” means hope in Spanish\, reflecting the community’s vision for this vibrant new gathering space. \nThis free event is open to the public. Come celebrate this exciting addition to Cathedral City’s recreational facilities and be among the first to enjoy all the amenities this new park has to offer!
URL:https://www.discovercathedralcity.com/event/esperanza-park-grand-opening-ribbon-cutting/
LOCATION:Esperanza Park\, 30610 San Diego Dr\, Cathedral City\, CA 92234\, Cathedral City\, CA\, 92234\, United States
CATEGORIES:Children Activities,Community Events
ATTACH;FMTTYPE=image/jpeg:https://www.discovercathedralcity.com/wp-content/uploads/2025/04/Esperanza-Park-May-22-2025-IG.jpg
GEO:33.8261754;-116.4873147
X-APPLE-STRUCTURED-LOCATION;VALUE=URI;X-ADDRESS=Esperanza Park 30610 San Diego Dr Cathedral City CA 92234 Cathedral City CA 92234 United States;X-APPLE-RADIUS=500;X-TITLE=30610 San Diego Dr\, Cathedral City\, CA 92234:geo:-116.4873147,33.8261754
END:VEVENT
BEGIN:VEVENT
DTSTART;TZID=America/Los_Angeles:20250524T160000
DTEND;TZID=America/Los_Angeles:20250524T173000
DTSTAMP:20260419T233809
CREATED:20250507T160348Z
LAST-MODIFIED:20250507T160348Z
UID:10006646-1748102400-1748107800@www.discovercathedralcity.com
SUMMARY:S.C.R.A.P. Gallery Sustainable Community Series
DESCRIPTION:Join S.C.R.A.P. Gallery in their Sustainable Community Series on May 7th from 5-7pm and on May 24th from 4-5:30pm at the Cathedral City Public Library where kids can craft and learn at several activity stations: Build a Bird’s Nest – It’s a Blue Planet – Earth Day is Every Day.  This event is made possible by the generous support of Anderson Children’s Foundation. \nS.C.R.A.P. Gallery’s mission is to actively engage youth as stewards of their environment through a concentrated\, hands-on\, educational effort to build a creative culture of sustainability in our schools and community. They are committed to working to create a more just\, equitable\, and sustainable future for people and the planet. S.C.R.A.P. links industry\, education\, the arts\, and the environment. Its programs feature environmental presentations\, exhibits\, workshops\, and interactive lessons – using reused and recycled materials from the S.C.R.A.P. Gallery Warehouse\, directly diverting materials from the landfill.
URL:https://www.discovercathedralcity.com/event/s-c-r-a-p-gallery-sustainable-community-series/2025-05-24/
LOCATION:Cathedral City Public Library\, 33520 Date Palm Drive\, Cathedral City\, CA\, 92234\, United States
CATEGORIES:Art,Children Activities,Community Events,Environment
ATTACH;FMTTYPE=image/jpeg:https://www.discovercathedralcity.com/wp-content/uploads/2025/05/Screenshot-2025-05-07-085100.jpg
GEO:33.8042303;-116.45733
X-APPLE-STRUCTURED-LOCATION;VALUE=URI;X-ADDRESS=Cathedral City Public Library 33520 Date Palm Drive Cathedral City CA 92234 United States;X-APPLE-RADIUS=500;X-TITLE=33520 Date Palm Drive:geo:-116.45733,33.8042303
END:VEVENT
END:VCALENDAR