BEGIN:VCALENDAR
VERSION:2.0
PRODID:-//Discover Cathedral City - ECPv6.15.13//NONSGML v1.0//EN
CALSCALE:GREGORIAN
METHOD:PUBLISH
X-WR-CALNAME:Discover Cathedral City
X-ORIGINAL-URL:https://www.discovercathedralcity.com
X-WR-CALDESC:Events for Discover Cathedral City
REFRESH-INTERVAL;VALUE=DURATION:PT1H
X-Robots-Tag:noindex
X-PUBLISHED-TTL:PT1H
BEGIN:VTIMEZONE
TZID:America/Los_Angeles
BEGIN:DAYLIGHT
TZOFFSETFROM:-0800
TZOFFSETTO:-0700
TZNAME:PDT
DTSTART:20250309T100000
END:DAYLIGHT
BEGIN:STANDARD
TZOFFSETFROM:-0700
TZOFFSETTO:-0800
TZNAME:PST
DTSTART:20251102T090000
END:STANDARD
BEGIN:DAYLIGHT
TZOFFSETFROM:-0800
TZOFFSETTO:-0700
TZNAME:PDT
DTSTART:20260308T100000
END:DAYLIGHT
BEGIN:STANDARD
TZOFFSETFROM:-0700
TZOFFSETTO:-0800
TZNAME:PST
DTSTART:20261101T090000
END:STANDARD
BEGIN:DAYLIGHT
TZOFFSETFROM:-0800
TZOFFSETTO:-0700
TZNAME:PDT
DTSTART:20270314T100000
END:DAYLIGHT
BEGIN:STANDARD
TZOFFSETFROM:-0700
TZOFFSETTO:-0800
TZNAME:PST
DTSTART:20271107T090000
END:STANDARD
END:VTIMEZONE
BEGIN:VEVENT
DTSTART;TZID=America/Los_Angeles:20260111T120000
DTEND;TZID=America/Los_Angeles:20260111T160000
DTSTAMP:20260419T215248
CREATED:20260107T230402Z
LAST-MODIFIED:20260107T230552Z
UID:10007605-1768132800-1768147200@www.discovercathedralcity.com
SUMMARY:PSIFF Family Day
DESCRIPTION:COME JOIN THE FUN! \nGet ready for a day of cinematic fun at our special Family Day event on Sunday\, January 11th! Designed for film enthusiasts of all generations\, Family Day features a delightful selection of family-friendly films at the Mary Pickford Theater\, ensuring entertainment for both the young and the young at heart. \nThe excitement doesn’t stop there; head over to the Cathedral City Community Amphitheater for a vibrant array of activities including face painting\, temporary tattoos\, games & prizes\, delicious bites from local food trucks\, and much more. It’s the perfect opportunity to create lasting memories with your loved ones! \n\n\n\n\nFREE MOVIES! \nTickets available at the box office at the Mary Pickford Theater on the day of show \n\n\n\n\n\n\n\n\n\n\n\n\n\n\n\n\nZOOTOPIA 2\nRookie cops Judy Hopps and Nick Wilde find themselves on the twisting trail of a great mystery when Gary De’Snake arrives in Zootopia\, and turns the animal metropolis upside down. \n\n\n\n\n\n\n\n\n\n\n\n\n\n\n\n\n\nARCO\nArco accidentally travels from a peaceful future back to the year 2075 and discovers a world in peril. Along with his new friend\, Iris\, and her trusted robot\, Mikki\, Arco sets out on a quest home—but first must save our planet. \n\n\n\n\n\n\n\n\n\n\n\n\n\n\n\n\n\nKPOP DEMON HUNTERS\nK-pop superstars Rumi\, Mira\, and Zoey use their secret identities as demon hunters to protect their fans from an ever-present supernatural threat. Together\, they face their biggest enemy yet—an irresistible rival boy band of demons in disguise.
URL:https://www.discovercathedralcity.com/event/psiff-family-day/
LOCATION:Mary Pickford Theatre\, 36850 Pickfair St\, Cathedral City\, CA\, 92234\, United States
CATEGORIES:Children Activities,Community Events,Film
ATTACH;FMTTYPE=image/jpeg:https://www.discovercathedralcity.com/wp-content/uploads/2026/01/Untitled-design-8.jpg
GEO:33.781085;-116.463048
X-APPLE-STRUCTURED-LOCATION;VALUE=URI;X-ADDRESS=Mary Pickford Theatre 36850 Pickfair St Cathedral City CA 92234 United States;X-APPLE-RADIUS=500;X-TITLE=36850 Pickfair St:geo:-116.463048,33.781085
END:VEVENT
BEGIN:VEVENT
DTSTART;TZID=America/Los_Angeles:20260314T100000
DTEND;TZID=America/Los_Angeles:20260314T120000
DTSTAMP:20260419T215248
CREATED:20260212T214649Z
LAST-MODIFIED:20260212T214649Z
UID:10007732-1773482400-1773489600@www.discovercathedralcity.com
SUMMARY:Butterfly Festival
DESCRIPTION:Celebrate butterflyies with free SCRAP Gallery activities – Wings! pollinator exhibit\, wildflower seedlings\, recycled crafts\, and more.
URL:https://www.discovercathedralcity.com/event/butterfly-festival-4/
LOCATION:Panorama Park\, 28905 Avenida Maravilla\, Cathedral City\, CA\, 92234\, United States
CATEGORIES:Children Activities,Community Events
ATTACH;FMTTYPE=image/jpeg:https://www.discovercathedralcity.com/wp-content/uploads/2026/02/Screenshot-2026-02-12-134407.jpg
GEO:33.8400854;-116.4669059
X-APPLE-STRUCTURED-LOCATION;VALUE=URI;X-ADDRESS=Panorama Park 28905 Avenida Maravilla Cathedral City CA 92234 United States;X-APPLE-RADIUS=500;X-TITLE=28905 Avenida Maravilla:geo:-116.4669059,33.8400854
END:VEVENT
BEGIN:VEVENT
DTSTART;TZID=America/Los_Angeles:20260322T100000
DTEND;TZID=America/Los_Angeles:20260322T130000
DTSTAMP:20260419T215248
CREATED:20260317T165216Z
LAST-MODIFIED:20260317T165216Z
UID:10007751-1774173600-1774184400@www.discovercathedralcity.com
SUMMARY:2026 Color the Spectrum Autism Art Festival
DESCRIPTION:FREE family-friendly art festival for the Autism and intellectual/developmental disability community to celebrate Autism Awareness and Acceptance. \nCelebrate with us as we highlight youth and adult Artists on the Spectrum\, including a Marketplace featuring entrepreneurs on the spectrum. The event will also have: \n\nArts & Crafts\nKid in a Bubble Activity\nCommunity Arts Resources\nMusic & Performances\nSensory Activities\nSocial Gaming Lounge\nDoor prizes\nFood and more!\n\nFeaturing a Color the Spectrum interactive mural families can contribute to in honor of Autism Awareness and Acceptance.
URL:https://www.discovercathedralcity.com/event/2026-color-the-spectrum-autism-art-festival/
LOCATION:Cathedral City Community Amphitheater\, 68526 Avenida Lalo Guerrero\, Cathedral City\, CA\, 92234\, United States
CATEGORIES:Art,Children Activities,Community Events
ATTACH;FMTTYPE=image/jpeg:https://www.discovercathedralcity.com/wp-content/uploads/2026/03/Color-the-Spectrum-2026.jpg
ORGANIZER;CN="Autism Society Inland Empire":MAILTO:info@ieautism.org
GEO:33.7813769;-116.4655492
X-APPLE-STRUCTURED-LOCATION;VALUE=URI;X-ADDRESS=Cathedral City Community Amphitheater 68526 Avenida Lalo Guerrero Cathedral City CA 92234 United States;X-APPLE-RADIUS=500;X-TITLE=68526 Avenida Lalo Guerrero:geo:-116.4655492,33.7813769
END:VEVENT
BEGIN:VEVENT
DTSTART;TZID=America/Los_Angeles:20260404T090000
DTEND;TZID=America/Los_Angeles:20260404T123000
DTSTAMP:20260419T215248
CREATED:20260317T164208Z
LAST-MODIFIED:20260317T164208Z
UID:10007750-1775293200-1775305800@www.discovercathedralcity.com
SUMMARY:Free Family Fitness Festival
DESCRIPTION:Event Overview:\nJoin the Cathedral City Parks & Community Events Commission and Desert Recreation District for a fun\, family-friendly morning focused on movement\, wellness\, and community! Enjoy a variety of bilingual and family fitness activities led by local instructors. \nWorkout Schedule: \n\n9:00 AM – Bilingual Workout with Jaime Jimenez (111 Conditioning Club)\n9:30 AM – Bilingual Mat Pilates with Ren Fortuna Gutierrez (Sol Barre)\n10:00 AM – Bilingual Dance Cardio with VXN Fitness\n10:30 AM – Workout (English) with Kai Beech (Orangetheory Fitness & NBC Palm Springs)\n11:00 AM – Family Yoga with Carl Grant (Power Yoga Palm Springs)\n11:30 AM – Sound Bath\n12:00 – 12:30 PM – Connect & Reflect with Community Tables\n\nIn addition to the fitness classes\, the DRD team will host a variety of spring-themed family fitness games and activities to theme it with it being Easter weekend designed to encourage movement\, teamwork\, and fun for kids and families of all ages. \nFeatured Kids Activities \n\nEgg & Spoon Fitness Relay\nParticipants balance a plastic egg on a spoon while walking or jogging to a turnaround point and back\, completing quick exercises like squats or jumping jacks along the way.\nSpring Obstacle Course\nA fun movement course with hula hoop jumps\, cone zig-zags\, crawl spaces\, and balance challenges to promote agility and coordination.\nBunny Hop Relay\nA sack-race style relay where participants hop like bunnies to the finish line\, encouraging balance and friendly competition.\nFlower Power Freeze Dance\nKids dance to upbeat music and freeze like statues when the music stops.\nGolden Egg Fitness Hunt\nA scavenger hunt for hidden eggs\, each containing a short fitness challenge such as jumping jacks or high knees.\nBubble Movement Zone\nA sensory-friendly space where younger children can chase and pop bubbles while staying active.\n\nSpecial Feature \n\nPhotos with the Easter Bunny
URL:https://www.discovercathedralcity.com/event/free-family-fitness-festival/
LOCATION:Cathedral City Community Amphitheater\, 68526 Avenida Lalo Guerrero\, Cathedral City\, CA\, 92234\, United States
CATEGORIES:Children Activities,Community Events,Health
ATTACH;FMTTYPE=image/jpeg:https://www.discovercathedralcity.com/wp-content/uploads/2026/03/Family-Fitness-Festival-UPDATED-3-17-2026.jpg
ORGANIZER;CN="Cathedral City Parks and Community Events Commission":MAILTO:dpressgrove@cathedralcity.gov
GEO:33.7813769;-116.4655492
X-APPLE-STRUCTURED-LOCATION;VALUE=URI;X-ADDRESS=Cathedral City Community Amphitheater 68526 Avenida Lalo Guerrero Cathedral City CA 92234 United States;X-APPLE-RADIUS=500;X-TITLE=68526 Avenida Lalo Guerrero:geo:-116.4655492,33.7813769
END:VEVENT
BEGIN:VEVENT
DTSTART;TZID=America/Los_Angeles:20260411T090000
DTEND;TZID=America/Los_Angeles:20260411T120000
DTSTAMP:20260419T215248
CREATED:20260318T155510Z
LAST-MODIFIED:20260318T155510Z
UID:10007752-1775898000-1775908800@www.discovercathedralcity.com
SUMMARY:Esperanza Rising Community Art & Culture Series: Echoes of the Past
DESCRIPTION:Esperanza Rising: Echoes of the Past Ecos del Pasado \nSaturday\, April 11 | 9:00 AM – 12:00 PM Esperanza Park\, Cathedral City \n\nBefore the palm trees and streets we know today\, this land held stories\, traditions\, and voices that shaped our community. The Dream Homes neighborhood has a history worth celebrating — and on April 11\, we’re bringing those stories to life. \nJoin us for the inaugural Esperanza Rising: Echoes of the Past\, the first event in a brand-new community art and culture series celebrating the past\, present\, and future of Cathedral City. \nExperience a morning of cultural performances\, traditional bird singing\, interactive art activities\, local artisan vendors\, and food trucks. \n\nAntes de las calles y las casas que conocemos hoy\, esta tierra tenía historias\, tradiciones y voces que formaron nuestra comunidad. El vecindario Dream Homes tiene una historia que merece ser celebrada — y el 11 de abril\, esas historias cobrarán vida. \nAcompáñanos en el primer evento de Esperanza Rising: Ecos del Pasado\, una nueva serie comunitaria de arte y cultura que celebra el pasado\, presente y futuro de Cathedral City. \nDisfruta de presentaciones culturales\, canto tradicional de aves\, actividades artísticas interactivas\, artesanos locales y camiones de comida.
URL:https://www.discovercathedralcity.com/event/esperanza-rising-community-art-culture-series-echoes-of-the-past/
LOCATION:Esperanza Park\, 30610 San Diego Dr\, Cathedral City\, CA 92234\, Cathedral City\, CA\, 92234\, United States
CATEGORIES:Art,Children Activities,Community Events
ATTACH;FMTTYPE=image/jpeg:https://www.discovercathedralcity.com/wp-content/uploads/2026/03/Esperanza-Rising-4-11-2026.jpg
GEO:33.8261754;-116.4873147
X-APPLE-STRUCTURED-LOCATION;VALUE=URI;X-ADDRESS=Esperanza Park 30610 San Diego Dr Cathedral City CA 92234 Cathedral City CA 92234 United States;X-APPLE-RADIUS=500;X-TITLE=30610 San Diego Dr\, Cathedral City\, CA 92234:geo:-116.4873147,33.8261754
END:VEVENT
END:VCALENDAR