BEGIN:VCALENDAR
VERSION:2.0
PRODID:-//Discover Cathedral City - ECPv6.15.13//NONSGML v1.0//EN
CALSCALE:GREGORIAN
METHOD:PUBLISH
X-ORIGINAL-URL:https://www.discovercathedralcity.com
X-WR-CALDESC:Events for Discover Cathedral City
REFRESH-INTERVAL;VALUE=DURATION:PT1H
X-Robots-Tag:noindex
X-PUBLISHED-TTL:PT1H
BEGIN:VTIMEZONE
TZID:America/Los_Angeles
BEGIN:DAYLIGHT
TZOFFSETFROM:-0800
TZOFFSETTO:-0700
TZNAME:PDT
DTSTART:20250309T100000
END:DAYLIGHT
BEGIN:STANDARD
TZOFFSETFROM:-0700
TZOFFSETTO:-0800
TZNAME:PST
DTSTART:20251102T090000
END:STANDARD
BEGIN:DAYLIGHT
TZOFFSETFROM:-0800
TZOFFSETTO:-0700
TZNAME:PDT
DTSTART:20260308T100000
END:DAYLIGHT
BEGIN:STANDARD
TZOFFSETFROM:-0700
TZOFFSETTO:-0800
TZNAME:PST
DTSTART:20261101T090000
END:STANDARD
BEGIN:DAYLIGHT
TZOFFSETFROM:-0800
TZOFFSETTO:-0700
TZNAME:PDT
DTSTART:20270314T100000
END:DAYLIGHT
BEGIN:STANDARD
TZOFFSETFROM:-0700
TZOFFSETTO:-0800
TZNAME:PST
DTSTART:20271107T090000
END:STANDARD
END:VTIMEZONE
BEGIN:VEVENT
DTSTART;TZID=America/Los_Angeles:20260411T090000
DTEND;TZID=America/Los_Angeles:20260411T120000
DTSTAMP:20260420T070159
CREATED:20260318T155510Z
LAST-MODIFIED:20260318T155510Z
UID:10007752-1775898000-1775908800@www.discovercathedralcity.com
SUMMARY:Esperanza Rising Community Art & Culture Series: Echoes of the Past
DESCRIPTION:Presented by State Farm Agent\,\nPhil Goodge \n\n\n\n	Cathedral City’s 8th Annual Halloween Spooktacular features trick or treating with over 50\,000 pieces of candy!  Join friends\, neighbors\, and family for a Spooktacular time including activities such as Halloween costume contests (two bikes given away each hour)\, police and fire exhibitions\, music\, and family games. \nHalloween Spooktacular provides you with information about the Police and Fire Departments\, to view special demonstrations\, and get to know the men and women who serve you on a daily basis. \nFree admission. Free parking. \n\n\n\n	  Title Sponsor \n\n\n	\n					\n																							\n					\n																							\n					\n																							\n					\n																							\n					\n																							\n					\n																							\n					\n																							\n					\n																							\n					\n																							\n					\n																							\n					\n																							\n					\n																							\n					\n																							\n					\n																							\n			\n\n\n	For Sponsorship Opportunities\, contact: \nAdam Chastain\, City of Cathedral City (760) 202-2426\nAChastain@cathedralcity.gov
URL:https://www.discovercathedralcity.com/event/esperanza-rising-community-art-culture-series-echoes-of-the-past/
LOCATION:Esperanza Park\, 30610 San Diego Dr\, Cathedral City\, CA 92234\, Cathedral City\, CA\, 92234\, United States
CATEGORIES:Art,Children Activities,Community Events
ATTACH;FMTTYPE=image/jpeg:https://www.discovercathedralcity.com/wp-content/uploads/2026/03/Esperanza-Rising-4-11-2026.jpg
GEO:33.8261754;-116.4873147
X-APPLE-STRUCTURED-LOCATION;VALUE=URI;X-ADDRESS=Esperanza Park 30610 San Diego Dr Cathedral City CA 92234 Cathedral City CA 92234 United States;X-APPLE-RADIUS=500;X-TITLE=30610 San Diego Dr\, Cathedral City\, CA 92234:geo:-116.4873147,33.8261754
END:VEVENT
END:VCALENDAR