BEGIN:VCALENDAR
VERSION:2.0
PRODID:-//Discover Cathedral City - ECPv6.15.13//NONSGML v1.0//EN
CALSCALE:GREGORIAN
METHOD:PUBLISH
X-ORIGINAL-URL:https://www.discovercathedralcity.com
X-WR-CALDESC:Events for Discover Cathedral City
REFRESH-INTERVAL;VALUE=DURATION:PT1H
X-Robots-Tag:noindex
X-PUBLISHED-TTL:PT1H
BEGIN:VTIMEZONE
TZID:America/Los_Angeles
BEGIN:DAYLIGHT
TZOFFSETFROM:-0800
TZOFFSETTO:-0700
TZNAME:PDT
DTSTART:20210314T100000
END:DAYLIGHT
BEGIN:STANDARD
TZOFFSETFROM:-0700
TZOFFSETTO:-0800
TZNAME:PST
DTSTART:20211107T090000
END:STANDARD
BEGIN:DAYLIGHT
TZOFFSETFROM:-0800
TZOFFSETTO:-0700
TZNAME:PDT
DTSTART:20220313T100000
END:DAYLIGHT
BEGIN:STANDARD
TZOFFSETFROM:-0700
TZOFFSETTO:-0800
TZNAME:PST
DTSTART:20221106T090000
END:STANDARD
BEGIN:DAYLIGHT
TZOFFSETFROM:-0800
TZOFFSETTO:-0700
TZNAME:PDT
DTSTART:20230312T100000
END:DAYLIGHT
BEGIN:STANDARD
TZOFFSETFROM:-0700
TZOFFSETTO:-0800
TZNAME:PST
DTSTART:20231105T090000
END:STANDARD
BEGIN:DAYLIGHT
TZOFFSETFROM:-0800
TZOFFSETTO:-0700
TZNAME:PDT
DTSTART:20240310T100000
END:DAYLIGHT
BEGIN:STANDARD
TZOFFSETFROM:-0700
TZOFFSETTO:-0800
TZNAME:PST
DTSTART:20241103T090000
END:STANDARD
END:VTIMEZONE
BEGIN:VEVENT
DTSTART;TZID=America/Los_Angeles:20221231T200000
DTEND;TZID=America/Los_Angeles:20230101T140000
DTSTAMP:20260423T172808
CREATED:20221221T183348Z
LAST-MODIFIED:20221221T183348Z
UID:10004098-1672516800-1672581600@www.discovercathedralcity.com
SUMMARY:Party Under the Stars﻿
DESCRIPTION:The Party Under the Stars New Year’s Eve Celebration is happening on Saturday\, December 31\, at 8 p.m. at Agua Caliente Casino Cathedral City.  \nIn partnership with the City of Cathedral City\, free entertainment by Haute Chile and outdoor bars will be offered at the Agave Caliente Terazza\, while DJ Alf Alfa will be spinning the hottest hits on the casino floor from 8 p.m. – 2 a.m. Food and beverage specials will be offered throughout the evening.  \nTickets for the 21 and over event start at $20 for advance sales and can be purchased at www.aguacalientcasinos.com or at this link.
URL:https://www.discovercathedralcity.com/event/party-under-the-stars/
LOCATION:Agua Caliente Casino – Cathedral City\, 68960 E Palm Canyon Drive\, Cathedral City\, CA\, 92234\, United States
CATEGORIES:Community Events
ATTACH;FMTTYPE=image/jpeg:https://www.discovercathedralcity.com/wp-content/uploads/2022/12/27308_05_Light_It_Up_2023_TRI_Poster_22x28-2-scaled-e1671660321330.jpg
GEO:33.7784588;-116.4583244
X-APPLE-STRUCTURED-LOCATION;VALUE=URI;X-ADDRESS=Agua Caliente Casino – Cathedral City 68960 E Palm Canyon Drive Cathedral City CA 92234 United States;X-APPLE-RADIUS=500;X-TITLE=68960 E Palm Canyon Drive:geo:-116.4583244,33.7784588
END:VEVENT
BEGIN:VEVENT
DTSTART;TZID=America/Los_Angeles:20230110T083000
DTEND;TZID=America/Los_Angeles:20230110T230000
DTSTAMP:20260423T172808
CREATED:20230109T235002Z
LAST-MODIFIED:20230109T235859Z
UID:10004032-1673339400-1673391600@www.discovercathedralcity.com
SUMMARY:Yoga at the Amphitheater
DESCRIPTION:EVENT CANCELATION: \nDue to forecasted rain\, tomorrow’s Yoga at the Amphitheater will be canceled.\nWe appreciate your patience as we hope to back next Tuesday weather permitting! \n \nJoin yoga teachers Patti Wexler and Nicole Cuhney every Tuesday morning\, January 10th through March 28th for 2 Free Yoga Classes\nGentle Yoga at 8:30-9:30 and Power Yoga at 10:00-11:00 at the Cathedral City Community Amphitheater\, 68526 Avenida Lalo Guerrero\, Cathedral City. \nA Limited number of mats and blocks on a first-come\, first-served basis. Bring your own yoga mat\, bottled water\, and hand towel. No need to RSVP\, just show up and participate \nFor more information contact volunteer program coordinator Antonio Baciu at adbpsca@verizon.net. \nSponsored by:
URL:https://www.discovercathedralcity.com/event/yoga-at-the-amphitheater-3/
LOCATION:Cathedral City Community Amphitheater\, 68526 Avenida Lalo Guerrero\, Cathedral City\, CA\, 92234\, United States
CATEGORIES:Community Events,Health
ATTACH;FMTTYPE=image/jpeg:https://www.discovercathedralcity.com/wp-content/uploads/2023/01/yogacancel.jpg
ORGANIZER;CN="Antonio Baciu":MAILTO:adbpsca@verizon.net
GEO:33.7813769;-116.4655492
X-APPLE-STRUCTURED-LOCATION;VALUE=URI;X-ADDRESS=Cathedral City Community Amphitheater 68526 Avenida Lalo Guerrero Cathedral City CA 92234 United States;X-APPLE-RADIUS=500;X-TITLE=68526 Avenida Lalo Guerrero:geo:-116.4655492,33.7813769
END:VEVENT
BEGIN:VEVENT
DTSTART;TZID=America/Los_Angeles:20230117T083000
DTEND;TZID=America/Los_Angeles:20230117T230000
DTSTAMP:20260423T172808
CREATED:20221130T223850Z
LAST-MODIFIED:20230331T185035Z
UID:10004033-1673944200-1673996400@www.discovercathedralcity.com
SUMMARY:Yoga at the Amphitheater
DESCRIPTION:Join yoga teachers Patti Wexler and Nicole Cuhney every Tuesday morning\, January 10th through March 28th for 2 Free Yoga Classes\nGentle Yoga at 8:30-9:30 and Power Yoga at 10:00-11:00 at the Cathedral City Community Amphitheater\, 68526 Avenida Lalo Guerrero\, Cathedral City. \nA limited number of mats and blocks are available on a first-come\, first-served basis. Bring your own yoga mat\, bottled water\, and hand towel. No need to RSVP\, just show up and participate \nFor more information contact volunteer program coordinator Antonio Baciu at adbpsca@verizon.net. \nSponsored by:
URL:https://www.discovercathedralcity.com/event/yoga-at-the-amphitheater/2023-01-17/
LOCATION:Cathedral City Community Amphitheater\, 68526 Avenida Lalo Guerrero\, Cathedral City\, CA\, 92234\, United States
CATEGORIES:Community Events,Health
ATTACH;FMTTYPE=image/png:https://www.discovercathedralcity.com/wp-content/uploads/2022/11/Yoga-at-the-Amp-Tabloid.png
ORGANIZER;CN="Antonio Baciu":MAILTO:adbpsca@verizon.net
GEO:33.7813769;-116.4655492
X-APPLE-STRUCTURED-LOCATION;VALUE=URI;X-ADDRESS=Cathedral City Community Amphitheater 68526 Avenida Lalo Guerrero Cathedral City CA 92234 United States;X-APPLE-RADIUS=500;X-TITLE=68526 Avenida Lalo Guerrero:geo:-116.4655492,33.7813769
END:VEVENT
BEGIN:VEVENT
DTSTART;TZID=America/Los_Angeles:20230124T083000
DTEND;TZID=America/Los_Angeles:20230124T230000
DTSTAMP:20260423T172808
CREATED:20221130T223850Z
LAST-MODIFIED:20230331T185035Z
UID:10004034-1674549000-1674601200@www.discovercathedralcity.com
SUMMARY:Yoga at the Amphitheater
DESCRIPTION:Join yoga teachers Patti Wexler and Nicole Cuhney every Tuesday morning\, January 10th through March 28th for 2 Free Yoga Classes\nGentle Yoga at 8:30-9:30 and Power Yoga at 10:00-11:00 at the Cathedral City Community Amphitheater\, 68526 Avenida Lalo Guerrero\, Cathedral City. \nA limited number of mats and blocks are available on a first-come\, first-served basis. Bring your own yoga mat\, bottled water\, and hand towel. No need to RSVP\, just show up and participate \nFor more information contact volunteer program coordinator Antonio Baciu at adbpsca@verizon.net. \nSponsored by:
URL:https://www.discovercathedralcity.com/event/yoga-at-the-amphitheater/2023-01-24/
LOCATION:Cathedral City Community Amphitheater\, 68526 Avenida Lalo Guerrero\, Cathedral City\, CA\, 92234\, United States
CATEGORIES:Community Events,Health
ATTACH;FMTTYPE=image/png:https://www.discovercathedralcity.com/wp-content/uploads/2022/11/Yoga-at-the-Amp-Tabloid.png
ORGANIZER;CN="Antonio Baciu":MAILTO:adbpsca@verizon.net
GEO:33.7813769;-116.4655492
X-APPLE-STRUCTURED-LOCATION;VALUE=URI;X-ADDRESS=Cathedral City Community Amphitheater 68526 Avenida Lalo Guerrero Cathedral City CA 92234 United States;X-APPLE-RADIUS=500;X-TITLE=68526 Avenida Lalo Guerrero:geo:-116.4655492,33.7813769
END:VEVENT
BEGIN:VEVENT
DTSTART;TZID=America/Los_Angeles:20230131T083000
DTEND;TZID=America/Los_Angeles:20230131T230000
DTSTAMP:20260423T172808
CREATED:20221130T223850Z
LAST-MODIFIED:20230331T185035Z
UID:10004035-1675153800-1675206000@www.discovercathedralcity.com
SUMMARY:Yoga at the Amphitheater
DESCRIPTION:Join yoga teachers Patti Wexler and Nicole Cuhney every Tuesday morning\, January 10th through March 28th for 2 Free Yoga Classes\nGentle Yoga at 8:30-9:30 and Power Yoga at 10:00-11:00 at the Cathedral City Community Amphitheater\, 68526 Avenida Lalo Guerrero\, Cathedral City. \nA limited number of mats and blocks are available on a first-come\, first-served basis. Bring your own yoga mat\, bottled water\, and hand towel. No need to RSVP\, just show up and participate \nFor more information contact volunteer program coordinator Antonio Baciu at adbpsca@verizon.net. \nSponsored by:
URL:https://www.discovercathedralcity.com/event/yoga-at-the-amphitheater/2023-01-31/
LOCATION:Cathedral City Community Amphitheater\, 68526 Avenida Lalo Guerrero\, Cathedral City\, CA\, 92234\, United States
CATEGORIES:Community Events,Health
ATTACH;FMTTYPE=image/png:https://www.discovercathedralcity.com/wp-content/uploads/2022/11/Yoga-at-the-Amp-Tabloid.png
ORGANIZER;CN="Antonio Baciu":MAILTO:adbpsca@verizon.net
GEO:33.7813769;-116.4655492
X-APPLE-STRUCTURED-LOCATION;VALUE=URI;X-ADDRESS=Cathedral City Community Amphitheater 68526 Avenida Lalo Guerrero Cathedral City CA 92234 United States;X-APPLE-RADIUS=500;X-TITLE=68526 Avenida Lalo Guerrero:geo:-116.4655492,33.7813769
END:VEVENT
END:VCALENDAR