BEGIN:VCALENDAR
VERSION:2.0
PRODID:-//Discover Cathedral City - ECPv6.15.13//NONSGML v1.0//EN
CALSCALE:GREGORIAN
METHOD:PUBLISH
X-WR-CALNAME:Discover Cathedral City
X-ORIGINAL-URL:https://www.discovercathedralcity.com
X-WR-CALDESC:Events for Discover Cathedral City
REFRESH-INTERVAL;VALUE=DURATION:PT1H
X-Robots-Tag:noindex
X-PUBLISHED-TTL:PT1H
BEGIN:VTIMEZONE
TZID:America/Los_Angeles
BEGIN:DAYLIGHT
TZOFFSETFROM:-0800
TZOFFSETTO:-0700
TZNAME:PDT
DTSTART:20220313T100000
END:DAYLIGHT
BEGIN:STANDARD
TZOFFSETFROM:-0700
TZOFFSETTO:-0800
TZNAME:PST
DTSTART:20221106T090000
END:STANDARD
BEGIN:DAYLIGHT
TZOFFSETFROM:-0800
TZOFFSETTO:-0700
TZNAME:PDT
DTSTART:20230312T100000
END:DAYLIGHT
BEGIN:STANDARD
TZOFFSETFROM:-0700
TZOFFSETTO:-0800
TZNAME:PST
DTSTART:20231105T090000
END:STANDARD
BEGIN:DAYLIGHT
TZOFFSETFROM:-0800
TZOFFSETTO:-0700
TZNAME:PDT
DTSTART:20240310T100000
END:DAYLIGHT
BEGIN:STANDARD
TZOFFSETFROM:-0700
TZOFFSETTO:-0800
TZNAME:PST
DTSTART:20241103T090000
END:STANDARD
END:VTIMEZONE
BEGIN:VEVENT
DTSTART;TZID=America/Los_Angeles:20231209T130000
DTEND;TZID=America/Los_Angeles:20231209T200000
DTSTAMP:20260423T081824
CREATED:20230608T162641Z
LAST-MODIFIED:20231207T191749Z
UID:10005059-1702126800-1702152000@www.discovercathedralcity.com
SUMMARY:North Pole Village at SnowFest
DESCRIPTION:Snow-Fest\, scheduled from 1-8 p.m. on Saturday\, Dec. 9\, 2023\, captures all the holiday spirit and places it at one event with holiday music\, Santa and Mrs. Claus\, a holiday tree lighting ceremony\, CCHS Performing Arts & food. “North Pole Village” comes to life in front of City Hall – all lit with holiday lights. It is the ultimate backdrop for family holiday pictures and social media selfies. The “North Pole Village” features twenty holiday-themed storefronts. Free admission and free parking are available. \nThe annual event also includes: \n\nHoliday Outdoor Market\nSnow Fest Express – Free Train Rides\nReal Snow in the Park!\nBike Giveaways\nHoliday Music by Cathedral City High School Performing Arts\nCharlie Brown Christmas Tree Silent Auction\nPuppet Shows and Storytime Reading for Kids (featuring Cathedral City Police & Fire)\nElf Workshop for Kids by S.C.R.A.P. Gallery and much more…\n\n \n\n\n\nFor sponsorship opportunities\, please get in touch with Sponsorship Specialist Eric Davis at (760) 600-0661 OR SponsorshipSpecialist@cathedralcity.gov. The City of Cathedral City thanks our special event sponsors\, volunteers\, business community\, and city staff for making these events come to life.
URL:https://www.discovercathedralcity.com/event/north-pole-village-at-snowfest/
LOCATION:Town Square Park\, 68700 Ave Lalo Guerrero\, Cathedral City\, CA\, 92234\, United States
CATEGORIES:Children Activities,Community Events,Food,Performing Arts,Public Safety
ATTACH;FMTTYPE=image/jpeg:https://www.discovercathedralcity.com/wp-content/uploads/2023/11/Untitled-1.jpg
GEO:33.7813891;-116.4641156
X-APPLE-STRUCTURED-LOCATION;VALUE=URI;X-ADDRESS=Town Square Park 68700 Ave Lalo Guerrero Cathedral City CA 92234 United States;X-APPLE-RADIUS=500;X-TITLE=68700 Ave Lalo Guerrero:geo:-116.4641156,33.7813891
END:VEVENT
BEGIN:VEVENT
DTSTART;TZID=America/Los_Angeles:20231209T130000
DTEND;TZID=America/Los_Angeles:20231209T200000
DTSTAMP:20260423T081824
CREATED:20240729T220550Z
LAST-MODIFIED:20240729T220550Z
UID:10005604-1702126800-1702152000@www.discovercathedralcity.com
SUMMARY:North Pole Village at SnowFest
DESCRIPTION:Snow-Fest\, scheduled from 1-8 p.m. on Saturday\, Dec. 14\, 2024\, captures all the holiday spirit and places it at one event with holiday music\, Santa and Mrs. Claus\, a holiday tree lighting ceremony\, CCHS Performing Arts & food. “North Pole Village” comes to life in front of City Hall – all lit with holiday lights. It is the ultimate backdrop for family holiday pictures and social media selfies. The “North Pole Village” features twenty holiday-themed storefronts. Free admission and free parking are available. \nThe annual event also includes: \n\nHoliday Outdoor Market\nSnow Fest Express – Free Train Rides\nReal Snow in the Park!\nBike Giveaways\nHoliday Music by Cathedral City High School Performing Arts\nCharlie Brown Christmas Tree Silent Auction\nPuppet Shows and Storytime Reading for Kids (featuring Cathedral City Police & Fire)\nElf Workshop for Kids by S.C.R.A.P. Gallery and much more…\n\n\n\n\nFor sponsorship opportunities\, please get in touch with Events & Recreation Coordinator Adam Chastain at (760) 202-2426 OR AChastain@cathedralcity.gov. The City of Cathedral City thanks our special event sponsors\, volunteers\, business community\, and city staff for making these events come to life.
URL:https://www.discovercathedralcity.com/event/north-pole-village-at-snowfest-24/
LOCATION:Town Square Park\, 68700 Ave Lalo Guerrero\, Cathedral City\, CA\, 92234\, United States
CATEGORIES:Children Activities,Community Events,Food,Performing Arts,Public Safety
ATTACH;FMTTYPE=image/jpeg:https://www.discovercathedralcity.com/wp-content/uploads/2024/07/2024_Poster_Letter-scaled.jpg
GEO:33.7813891;-116.4641156
X-APPLE-STRUCTURED-LOCATION;VALUE=URI;X-ADDRESS=Town Square Park 68700 Ave Lalo Guerrero Cathedral City CA 92234 United States;X-APPLE-RADIUS=500;X-TITLE=68700 Ave Lalo Guerrero:geo:-116.4641156,33.7813891
END:VEVENT
BEGIN:VEVENT
DTSTART;TZID=America/Los_Angeles:20231222T160000
DTEND;TZID=America/Los_Angeles:20231222T190000
DTSTAMP:20260423T081824
CREATED:20231002T143841Z
LAST-MODIFIED:20231102T224226Z
UID:10005070-1703260800-1703271600@www.discovercathedralcity.com
SUMMARY:The Perez Art District's Fourth Fridays
DESCRIPTION:The Perez Art District’s highly anticipated Art Walk occurs on 4th Fridays @ 4pm. \nThis is an immersive experience for art enthusiasts and the local community alike.  The Art Walk offers a unique chance to witness the creative process across a variety of disciplines\, including painting\, sculpture\, photography\, and mixed media. \nConveniently located at 68845 Perez Rd in Cathedral City\, California\, the Perez Art District is home to a vibrant community of artists. \nVisitors to the district will have the opportunity to explore the working studios of over 30 talented artists in the H and I Buildings\, with an additional 8 artists in the A and C Buildings. Additionally\, some of the home and design stores and galleries in the 68929 building will participate. \nTo stay updated on upcoming events\, follow the Perez Art District on social media: \n\nFacebook (https://www.facebook.com/ThePerezArtDistrict)\nInstagram (https://www.instagram.com/ThePerezArtDistrict/)\n\nFind us in buildings A\, C\, H\, and I as well as in the 68929 building along Perez Rd in Cathedral City\, CA. \nThe Art Walk starts at 4pm and runs until 7pm\, allowing ample time for attendees to discover the diverse range of artistic styles within the district and then head across the walking bridge to downtown Cathedral City to enjoy a dinner out. \nWe look forward to seeing you on 4th Fridays @ 4pm!
URL:https://www.discovercathedralcity.com/event/the-perez-art-districts-fourth-fridays-2/2023-12-22/
LOCATION:Art Walk\, 68895 Perez Rd Unit I-26\, Cathedral City\, CA\, 92234\, United States
CATEGORIES:Art,Community Events,Shopping
ATTACH;FMTTYPE=image/jpeg:https://www.discovercathedralcity.com/wp-content/uploads/2023/10/Artwalk.jpg
ORGANIZER;CN="The Perez Art District":MAILTO:anne@annebedrick.com
GEO:33.7824048;-116.4606047
X-APPLE-STRUCTURED-LOCATION;VALUE=URI;X-ADDRESS=Art Walk 68895 Perez Rd Unit I-26 Cathedral City CA 92234 United States;X-APPLE-RADIUS=500;X-TITLE=68895 Perez Rd Unit I-26:geo:-116.4606047,33.7824048
END:VEVENT
END:VCALENDAR