BEGIN:VCALENDAR
VERSION:2.0
PRODID:-//Discover Cathedral City - ECPv6.15.13//NONSGML v1.0//EN
CALSCALE:GREGORIAN
METHOD:PUBLISH
X-WR-CALNAME:Discover Cathedral City
X-ORIGINAL-URL:https://www.discovercathedralcity.com
X-WR-CALDESC:Events for Discover Cathedral City
REFRESH-INTERVAL;VALUE=DURATION:PT1H
X-Robots-Tag:noindex
X-PUBLISHED-TTL:PT1H
BEGIN:VTIMEZONE
TZID:America/Los_Angeles
BEGIN:DAYLIGHT
TZOFFSETFROM:-0800
TZOFFSETTO:-0700
TZNAME:PDT
DTSTART:20230312T100000
END:DAYLIGHT
BEGIN:STANDARD
TZOFFSETFROM:-0700
TZOFFSETTO:-0800
TZNAME:PST
DTSTART:20231105T090000
END:STANDARD
BEGIN:DAYLIGHT
TZOFFSETFROM:-0800
TZOFFSETTO:-0700
TZNAME:PDT
DTSTART:20240310T100000
END:DAYLIGHT
BEGIN:STANDARD
TZOFFSETFROM:-0700
TZOFFSETTO:-0800
TZNAME:PST
DTSTART:20241103T090000
END:STANDARD
BEGIN:DAYLIGHT
TZOFFSETFROM:-0800
TZOFFSETTO:-0700
TZNAME:PDT
DTSTART:20250309T100000
END:DAYLIGHT
BEGIN:STANDARD
TZOFFSETFROM:-0700
TZOFFSETTO:-0800
TZNAME:PST
DTSTART:20251102T090000
END:STANDARD
END:VTIMEZONE
BEGIN:VEVENT
DTSTART;TZID=America/Los_Angeles:20240402T170000
DTEND;TZID=America/Los_Angeles:20240402T190000
DTSTAMP:20260420T235404
CREATED:20231222T064829Z
LAST-MODIFIED:20240321T171450Z
UID:10005136-1712077200-1712084400@www.discovercathedralcity.com
SUMMARY:Tastes & Sounds of Cathedral City - The Dreamboats
DESCRIPTION:Transport back to the flashy fun of the 1950s and 1960s with The Dreamboats. Formed in 2009 in Mississauga\, Ontario\, the energetic four-piece group specializes in beloved hits from the pre-Beatles era\, covering chart-toppers like Elvis Presley\, Dion\, and Frankie Lymon. Consisting of lead vocalist and guitarist Bryan Davies\, bassist Johnny G. Wiz\, saxophonist Barry Cooke\, and drummer Matt Best\, The Dreamboats have brought their impressive harmonies\, snarling saxophones\, groovy guitars\, and infectious beats to venues across Canada and the US\, including the Rock and Roll Hall of Fame. Inspired by retro acts like Sha Na Na and Flash Cadillac\, the band’s vibrancy\, charisma\, and skill will have audiences dancing and singing along in nostalgic bliss wherever they perform – from sock hops to private parties to public concerts. Relive the high-energy early days of rock n’ roll with The Dreamboats! \nFood Provided by: \n  \n\nIndulge in a weekly feast for the senses at\nImmerse yourself in a musical and culinary adventure like no other. \nJoin us in Downtown Cathedral City every week from\nFebruary 13 to April 9\, 2024\nand savor the flavors\, rhythms\, and talents of our vibrant community! \nCommunity Amphitheater
URL:https://www.discovercathedralcity.com/event/tastes-sounds-of-cathedral-city-the-dreamboats/
LOCATION:Cathedral City Community Amphitheater\, 68526 Avenida Lalo Guerrero\, Cathedral City\, CA\, 92234\, United States
CATEGORIES:Community Events,Food,Music
ATTACH;FMTTYPE=image/webp:https://www.discovercathedralcity.com/wp-content/uploads/2023/12/DREAMBOATS@CC-2048x14211-1-e1706574366853.webp
GEO:33.7813769;-116.4655492
X-APPLE-STRUCTURED-LOCATION;VALUE=URI;X-ADDRESS=Cathedral City Community Amphitheater 68526 Avenida Lalo Guerrero Cathedral City CA 92234 United States;X-APPLE-RADIUS=500;X-TITLE=68526 Avenida Lalo Guerrero:geo:-116.4655492,33.7813769
END:VEVENT
BEGIN:VEVENT
DTSTART;TZID=America/Los_Angeles:20240403T090000
DTEND;TZID=America/Los_Angeles:20240403T100000
DTSTAMP:20260420T235404
CREATED:20240325T233341Z
LAST-MODIFIED:20240325T233359Z
UID:10005539-1712134800-1712138400@www.discovercathedralcity.com
SUMMARY:Dream Homes Park Groundbreaking
DESCRIPTION:Residents are invited to attend a Dream Homes Park Groundbreaking Event at 9 a.m. on Wednesday\, April 3\, 2024\, located at San Diego Drive and Chia Place. The event will feature remarks by Mayor Mark Carnevale\, Councilmember Ernesto Gutierrez and project leaders. \nDream Homes Park\, opening to the public in 2025\, will sit on 7.5 acres in the Dream Homes neighborhood east of North Gene Autry Trail and north of the Home Depot shopping center on Ramon Road. \nCalifornia State Parks awarded Cathedral City nearly $8.5 million of Statewide Park Program grant money for the Dream Homes Park Project in 2021 and amenities will include: \n\nA Central Plaza and Drop Off Zone\nChildren’s Play Areas and Equipment\nShaded Picnic and Barbeque Areas\nA Shaded Outdoor Fitness Area\nMulti-Use Field\nSoccer Fields\nBasketball Courts\nLarge and Small Dog Park\nCV Link Connection\nParking Lots\nLighting\nAnd Drought-Tolerant Landscaping and Trees\n\nThe new Dream Homes Park will provide more connectivity to the CV Link\, a multi-modal corridor now open adjacent to the Dream Homes neighborhood that is planned to extend from Palm Springs to the City of Coachella and the Salton Sea.
URL:https://www.discovercathedralcity.com/event/dream-homes-park-groundbreaking/
LOCATION:Dream Homes Park\, San Diego Dr & Chia Place\, Cathedral City\, CA\, 92234\, United States
CATEGORIES:Community Events
ATTACH;FMTTYPE=image/jpeg:https://www.discovercathedralcity.com/wp-content/uploads/2024/03/Groundbreaking.jpg
GEO:33.8241214;-116.4859439
X-APPLE-STRUCTURED-LOCATION;VALUE=URI;X-ADDRESS=Dream Homes Park San Diego Dr & Chia Place Cathedral City CA 92234 United States;X-APPLE-RADIUS=500;X-TITLE=San Diego Dr & Chia Place:geo:-116.4859439,33.8241214
END:VEVENT
BEGIN:VEVENT
DTSTART;TZID=America/Los_Angeles:20240406T080000
DTEND;TZID=America/Los_Angeles:20240406T090000
DTSTAMP:20260420T235404
CREATED:20240228T190825Z
LAST-MODIFIED:20240228T191241Z
UID:10005518-1712390400-1712394000@www.discovercathedralcity.com
SUMMARY:Community Shredding Event
DESCRIPTION:Join us for FREE Document Shredding Events hosted by the City of Cathedral City! \nWhen: The first Saturday of the month from October to May. \nTime: 8:00 a.m. – 9:00 a.m. ​ \nLocation: 68700 Avenida Lalo Guerrero. ​ \n\nBring all your sensitive documents\, including legal documents\, medical records\, financial statements\, tax records\, and more! ​ \nTips: \n\nNo need to remove paper clips\, staples\, file folders\, or binder clips. ​\nYou can bring your documents in boxes or plastic bags. ​\n\nRestrictions: \n\nLimited to Cathedral City residents only. ​\nProof of residency is required. ​\nLimit of 5 banker-sized boxes per resident or household. ​\nNo businesses allowed.\n\nWitness the entire shredding process on-site and ensure your documents are securely destroyed. ​ Arrive early as the event ends once the shredding truck is filled to capacity. ​ \nThis is a FREE event\, so take advantage of this opportunity to protect your identity and dispose of your sensitive documents safely. ​ \nFor more information\, call (760) 770-0369 or email dpressgrove@cathedralcity.gov. ​
URL:https://www.discovercathedralcity.com/event/community-shredding-event/2024-04-06/
LOCATION:Cathedral City Civic Center Plaza\, 68700 Avenida Lalo Guerrero\, Cathedral City\, CA\, 92234\, United States
CATEGORIES:Community Events,Environment,Recycling
ATTACH;FMTTYPE=image/jpeg:https://www.discovercathedralcity.com/wp-content/uploads/2024/02/Insert_ID-Shred-Events-2023-2024_Web_Page_1_Image_0001.jpg
GEO:33.7814432;-116.464137
X-APPLE-STRUCTURED-LOCATION;VALUE=URI;X-ADDRESS=Cathedral City Civic Center Plaza 68700 Avenida Lalo Guerrero Cathedral City CA 92234 United States;X-APPLE-RADIUS=500;X-TITLE=68700 Avenida Lalo Guerrero:geo:-116.464137,33.7814432
END:VEVENT
BEGIN:VEVENT
DTSTART;TZID=America/Los_Angeles:20240409T170000
DTEND;TZID=America/Los_Angeles:20240409T190000
DTSTAMP:20260420T235404
CREATED:20231118T195638Z
LAST-MODIFIED:20240403T153107Z
UID:10005134-1712682000-1712689200@www.discovercathedralcity.com
SUMMARY:Tastes & Sounds of Cathedral City - Giselle Woo and the Night Owls
DESCRIPTION:Giselle Woo & The Night Owls are a band that is all about creating music that is both beautiful and meaningful. Their new album\, Everything\, is a testament to their dedication to their craft\, and they hope that listeners will find something to connect with in the songs. The band is also known for their energetic live shows\, and their pictures from their Coachella performance are a testament to that. \nIf you’re looking for a band that is passionate about their music and that makes music that is both catchy and thought-provoking\, then Giselle Woo & The Night Owls are definitely worth checking out. \nFood provided by: \n   \n  \n\nIndulge in a weekly feast for the senses at\nImmerse yourself in a musical and culinary adventure like no other. \nJoin us in Downtown Cathedral City every week from\nFebruary 13 to April 9\, 2024\nand savor the flavors\, rhythms\, and talents of our vibrant community! \nCommunity Amphitheater
URL:https://www.discovercathedralcity.com/event/tastes-sounds-of-cathedral-city-giselle-woo/
LOCATION:Cathedral City Community Amphitheater\, 68526 Avenida Lalo Guerrero\, Cathedral City\, CA\, 92234\, United States
CATEGORIES:Community Events,Concert,Food,Music
ATTACH;FMTTYPE=image/jpeg:https://www.discovercathedralcity.com/wp-content/uploads/2023/11/GiselleWootheNightOwls1-e1706574424918.jpeg
GEO:33.7813769;-116.4655492
X-APPLE-STRUCTURED-LOCATION;VALUE=URI;X-ADDRESS=Cathedral City Community Amphitheater 68526 Avenida Lalo Guerrero Cathedral City CA 92234 United States;X-APPLE-RADIUS=500;X-TITLE=68526 Avenida Lalo Guerrero:geo:-116.4655492,33.7813769
END:VEVENT
BEGIN:VEVENT
DTSTART;TZID=America/Los_Angeles:20240417T090000
DTEND;TZID=America/Los_Angeles:20240417T120000
DTSTAMP:20260420T235404
CREATED:20240321T181937Z
LAST-MODIFIED:20240327T182658Z
UID:10005536-1713344400-1713355200@www.discovercathedralcity.com
SUMMARY:Coachella Valley Local Government Vendor Fair
DESCRIPTION:Calling all business owners! \nYou’re invited to do business with government agencies! Learn more about the process at the inaugural Coachella Valley Local Government Vendor Fair: \n\nWednesday\, April 17\, 9 a.m. – noon\nPalm Springs Convention Center\, 277 N. Avenida Caballeros\n\nPlease RSVP via Eventbrite so we can keep a headcount for food and other goodies! \nThe purpose of this event is to raise local business awareness of what we buy and how to do business with these public agencies\, which can often times be an intimidating and complicated process. The event will feature some education on how to get started doing business with these agencies and then allow the vendors an opportunity to meet the various decision makers from the departments that determine what is needed to run their operations. \nParticipating agencies include:\n\nCity of Cathedral City \nCity of Desert Hot Springs\nCity of Indio\nCity of Indian Wells\nCity of La Quinta\nCity of Palm Desert\nCity of Palm Springs\nCity of Rancho Mirage\nCoachella Valley Association of Governments (CVAG)\nSunline Transit Agency
URL:https://www.discovercathedralcity.com/event/coachella-valley-local-government-vendor-fair/
LOCATION:Palm Springs Convention Center\, 277 N. Avenida Caballeros\, Palm Springs\, 92262\, United States
CATEGORIES:Community Events,Local Government
ATTACH;FMTTYPE=image/png:https://www.discovercathedralcity.com/wp-content/uploads/2024/03/UPDATED-26MAR_Vendor-Fair-11-x-8.5-in-.png
GEO:33.8257504;-116.5381917
X-APPLE-STRUCTURED-LOCATION;VALUE=URI;X-ADDRESS=Palm Springs Convention Center 277 N. Avenida Caballeros Palm Springs 92262 United States;X-APPLE-RADIUS=500;X-TITLE=277 N. Avenida Caballeros:geo:-116.5381917,33.8257504
END:VEVENT
BEGIN:VEVENT
DTSTART;TZID=America/Los_Angeles:20240420T083000
DTEND;TZID=America/Los_Angeles:20240420T120000
DTSTAMP:20260420T235404
CREATED:20240401T183102Z
LAST-MODIFIED:20240401T183102Z
UID:10005540-1713601800-1713614400@www.discovercathedralcity.com
SUMMARY:Celebrate Earth Day & Global Youth Service Day With S.C.R.A.P. Gallery at Spring Fest
DESCRIPTION:S.C.R.A.P. Gallery\, Cathedral City Parks & Community Events Commission\, and the Cathedral City Library invite you to “Spring Fest” that celebrates Earth Day and Global Youth Day on Saturday\, April 20\, 2024\, 8:30 am to noon at Century Park located at 69908 Century Park Drive in Cathedral City. This free event offers family fun activities and pop-up exhibits from the S.C.R.A.P. Gallery. \nSeveral activities include “Walking for Water 6K” that raises awareness and demonstrates the challenges many people worldwide face in getting access to fresh\, clean water. In addition\, the public library will have a booth for crafts and more\, the Sunny Sands Elementary Sustainability Squad will be on site\, and there will be an Earth Day Art Contest. Best of all\, you will have a chance to win a new bicycle! \nFor more information\, please email info@scrapgallery.org.
URL:https://www.discovercathedralcity.com/event/celebrate-earth-day-global-youth-service-day-with-s-c-r-a-p-gallery-at-spring-fest/
LOCATION:Century Park\, 69908 Century Park Drive\, Cathedral City\, CA\, 92234\, United States
CATEGORIES:Art,Community Events,Environment
ATTACH;FMTTYPE=image/jpeg:https://www.discovercathedralcity.com/wp-content/uploads/2024/04/Insert_SpringFest-R_Page_1.jpg
GEO:33.8269757;-116.4424591
X-APPLE-STRUCTURED-LOCATION;VALUE=URI;X-ADDRESS=Century Park 69908 Century Park Drive Cathedral City CA 92234 United States;X-APPLE-RADIUS=500;X-TITLE=69908 Century Park Drive:geo:-116.4424591,33.8269757
END:VEVENT
BEGIN:VEVENT
DTSTART;TZID=America/Los_Angeles:20240426T160000
DTEND;TZID=America/Los_Angeles:20240426T190000
DTSTAMP:20260420T235404
CREATED:20231002T143841Z
LAST-MODIFIED:20231102T224226Z
UID:10005074-1714147200-1714158000@www.discovercathedralcity.com
SUMMARY:The Perez Art District's Fourth Fridays
DESCRIPTION:The Perez Art District’s highly anticipated Art Walk occurs on 4th Fridays @ 4pm. \nThis is an immersive experience for art enthusiasts and the local community alike.  The Art Walk offers a unique chance to witness the creative process across a variety of disciplines\, including painting\, sculpture\, photography\, and mixed media. \nConveniently located at 68845 Perez Rd in Cathedral City\, California\, the Perez Art District is home to a vibrant community of artists. \nVisitors to the district will have the opportunity to explore the working studios of over 30 talented artists in the H and I Buildings\, with an additional 8 artists in the A and C Buildings. Additionally\, some of the home and design stores and galleries in the 68929 building will participate. \nTo stay updated on upcoming events\, follow the Perez Art District on social media: \n\nFacebook (https://www.facebook.com/ThePerezArtDistrict)\nInstagram (https://www.instagram.com/ThePerezArtDistrict/)\n\nFind us in buildings A\, C\, H\, and I as well as in the 68929 building along Perez Rd in Cathedral City\, CA. \nThe Art Walk starts at 4pm and runs until 7pm\, allowing ample time for attendees to discover the diverse range of artistic styles within the district and then head across the walking bridge to downtown Cathedral City to enjoy a dinner out. \nWe look forward to seeing you on 4th Fridays @ 4pm!
URL:https://www.discovercathedralcity.com/event/the-perez-art-districts-fourth-fridays-2/2024-04-26/
LOCATION:Art Walk\, 68895 Perez Rd Unit I-26\, Cathedral City\, CA\, 92234\, United States
CATEGORIES:Art,Community Events,Shopping
ATTACH;FMTTYPE=image/jpeg:https://www.discovercathedralcity.com/wp-content/uploads/2023/10/Artwalk.jpg
ORGANIZER;CN="The Perez Art District":MAILTO:anne@annebedrick.com
GEO:33.7824048;-116.4606047
X-APPLE-STRUCTURED-LOCATION;VALUE=URI;X-ADDRESS=Art Walk 68895 Perez Rd Unit I-26 Cathedral City CA 92234 United States;X-APPLE-RADIUS=500;X-TITLE=68895 Perez Rd Unit I-26:geo:-116.4606047,33.7824048
END:VEVENT
BEGIN:VEVENT
DTSTART;TZID=America/Los_Angeles:20240427T100000
DTEND;TZID=America/Los_Angeles:20240427T230000
DTSTAMP:20260420T235404
CREATED:20240409T202601Z
LAST-MODIFIED:20240425T175838Z
UID:10005552-1714212000-1714258800@www.discovercathedralcity.com
SUMMARY:Fall Prevention
DESCRIPTION:Staying Active is essential to good health as we get older\, but our risk falling and fracturing bones or suffering a traumatic brain injury increases. \nJoin us for this FREE event to hear all about Fall Prevention from Cathedral City Fire & EMS\, in collaboration with Gael Whetstone from the Desert Care Network\, and a Resident Physician from Eisenhower Medical Center. Learn safe medicine practices\, practical tips to help fall-proof your home\, steps to prevent fall-related injuries\, and the importance of gait and grip strength. According to the Centers for Disease Control and Prevention (CDC)\, falls are a leading cause of injury and death among older adults\, with about 36 million falls occurring each year worldwide”. Don’t be a statistic! \nA one-hour session will be presented @ 10:00am by the Desert Care Network.\nAlso accessible via QR code\n\nCathedralCityFire.org
URL:https://www.discovercathedralcity.com/event/fall-prevention-2/
LOCATION:Cathedral City Fire Department Administrative Headquarters\, 32-100 Desert Vista Road\, Cathedral City\, CA\, 92234\, United States
CATEGORIES:Community Events,Health,Senior
ATTACH;FMTTYPE=image/jpeg:https://www.discovercathedralcity.com/wp-content/uploads/2024/04/Fall-Prevention-Flyer-EOC-04.27.24.jpg
GEO:33.815125;-116.461222
X-APPLE-STRUCTURED-LOCATION;VALUE=URI;X-ADDRESS=Cathedral City Fire Department Administrative Headquarters 32-100 Desert Vista Road Cathedral City CA 92234 United States;X-APPLE-RADIUS=500;X-TITLE=32-100 Desert Vista Road:geo:-116.461222,33.815125
END:VEVENT
END:VCALENDAR