BEGIN:VCALENDAR
VERSION:2.0
PRODID:-//Discover Cathedral City - ECPv6.15.13//NONSGML v1.0//EN
CALSCALE:GREGORIAN
METHOD:PUBLISH
X-WR-CALNAME:Discover Cathedral City
X-ORIGINAL-URL:https://www.discovercathedralcity.com
X-WR-CALDESC:Events for Discover Cathedral City
REFRESH-INTERVAL;VALUE=DURATION:PT1H
X-Robots-Tag:noindex
X-PUBLISHED-TTL:PT1H
BEGIN:VTIMEZONE
TZID:America/Los_Angeles
BEGIN:DAYLIGHT
TZOFFSETFROM:-0800
TZOFFSETTO:-0700
TZNAME:PDT
DTSTART:20230312T100000
END:DAYLIGHT
BEGIN:STANDARD
TZOFFSETFROM:-0700
TZOFFSETTO:-0800
TZNAME:PST
DTSTART:20231105T090000
END:STANDARD
BEGIN:DAYLIGHT
TZOFFSETFROM:-0800
TZOFFSETTO:-0700
TZNAME:PDT
DTSTART:20240310T100000
END:DAYLIGHT
BEGIN:STANDARD
TZOFFSETFROM:-0700
TZOFFSETTO:-0800
TZNAME:PST
DTSTART:20241103T090000
END:STANDARD
BEGIN:DAYLIGHT
TZOFFSETFROM:-0800
TZOFFSETTO:-0700
TZNAME:PDT
DTSTART:20250309T100000
END:DAYLIGHT
BEGIN:STANDARD
TZOFFSETFROM:-0700
TZOFFSETTO:-0800
TZNAME:PST
DTSTART:20251102T090000
END:STANDARD
END:VTIMEZONE
BEGIN:VEVENT
DTSTART;TZID=America/Los_Angeles:20240504T080000
DTEND;TZID=America/Los_Angeles:20240504T090000
DTSTAMP:20260420T214922
CREATED:20240228T190825Z
LAST-MODIFIED:20240228T191241Z
UID:10005519-1714809600-1714813200@www.discovercathedralcity.com
SUMMARY:Community Shredding Event
DESCRIPTION:Join us for FREE Document Shredding Events hosted by the City of Cathedral City! \nWhen: The first Saturday of the month from October to May. \nTime: 8:00 a.m. – 9:00 a.m. ​ \nLocation: 68700 Avenida Lalo Guerrero. ​ \n\nBring all your sensitive documents\, including legal documents\, medical records\, financial statements\, tax records\, and more! ​ \nTips: \n\nNo need to remove paper clips\, staples\, file folders\, or binder clips. ​\nYou can bring your documents in boxes or plastic bags. ​\n\nRestrictions: \n\nLimited to Cathedral City residents only. ​\nProof of residency is required. ​\nLimit of 5 banker-sized boxes per resident or household. ​\nNo businesses allowed.\n\nWitness the entire shredding process on-site and ensure your documents are securely destroyed. ​ Arrive early as the event ends once the shredding truck is filled to capacity. ​ \nThis is a FREE event\, so take advantage of this opportunity to protect your identity and dispose of your sensitive documents safely. ​ \nFor more information\, call (760) 770-0369 or email dpressgrove@cathedralcity.gov. ​
URL:https://www.discovercathedralcity.com/event/community-shredding-event/2024-05-04/
LOCATION:Cathedral City Civic Center Plaza\, 68700 Avenida Lalo Guerrero\, Cathedral City\, CA\, 92234\, United States
CATEGORIES:Community Events,Environment,Recycling
ATTACH;FMTTYPE=image/jpeg:https://www.discovercathedralcity.com/wp-content/uploads/2024/02/Insert_ID-Shred-Events-2023-2024_Web_Page_1_Image_0001.jpg
GEO:33.7814432;-116.464137
X-APPLE-STRUCTURED-LOCATION;VALUE=URI;X-ADDRESS=Cathedral City Civic Center Plaza 68700 Avenida Lalo Guerrero Cathedral City CA 92234 United States;X-APPLE-RADIUS=500;X-TITLE=68700 Avenida Lalo Guerrero:geo:-116.464137,33.7814432
END:VEVENT
BEGIN:VEVENT
DTSTART;TZID=America/Los_Angeles:20240514T110000
DTEND;TZID=America/Los_Angeles:20240514T140000
DTSTAMP:20260420T214922
CREATED:20240418T211157Z
LAST-MODIFIED:20240418T211211Z
UID:10005553-1715684400-1715695200@www.discovercathedralcity.com
SUMMARY:2024 State of the City Business Awards & Expo
DESCRIPTION:The Greater Coachella Valley Chamber of Commerce\, in partnership with the City of Cathedral City\, invites you to attend to the 2024 Cathedral City State of the City\, Business Awards and Business Expo. This annual event offers a review of economic activity from the previous year\, as well as future development and plans significant to the business community. The featured speaker will be Mayor Mark Carnevale\, with appearances by Mayor Pro Tem Nancy Ross and Council Members Raymond Gregory\, Ernesto Gutierrez\, and Rita Lamb. Join us Tuesday\, May 14th\, 2024\, from 11:00 am – 2:00 pm at the DoubleTree by Hilton Golf Resort located at 67967 Vista Chino\, Cathedral City\, CA 92234. \nREGISTER HERE: https://gcvcc.chambermaster.com/eventregistration/register/5039 \nSponsors include Amazon and Desert Care Network (Presenting Sponsors)\, SoCalGas and Southern California Edison (Centerpiece Sponsors)\, along with Alpha Media\, Banc of California\, Burrtec Waste & Recycling Services\, Desert Urgent Care\, FirstBank\, NBC Palm Springs/Univision\, Riverside County Supervisor V. Manuel Perez\, and Visit Greater Palm Springs (Community Sponsors). \nEvent Agenda: \n11:00 a.m. – Registration & Business Expo Opens \n12:00 p.m. – Welcome & Business Awards \n12:30 p.m. – Mayor’s Address \nThis event generally sells out; we strongly encourage those interested to purchase their tickets in advance. For additional information contact the Chamber at 760.347.0676. \nTitle Sponsor – $3\,000 (2 available) \n\nPremium seating and lunch for ten (10) guests at a VIP table\, Premier placement in all marketing\, Recognition in all press releases and web marketing\, Stage recognition\, and two (2) minutes to address the audience.\n\nPresenting Sponsor – $2\,250 (3 available) \n\nPremium seating and lunch for eight (8)\, Premier placement in all marketing\, Recognition in all applicable press releases and web marketing\, Honorable mention at the event.\n\nCenterpiece Sponsor – $700 (2 available) \n\nFour (4) guests will receive seating and lunch\, Placement in all applicable marketing\, Honorable mention at the event.\n\nTable Sponsor – $850 \n\nSeating and lunch for eight (8)\, Placement in all applicable marketing\, Recognition in all applicable press releases and web marketing\, Honorable mention at the event.\n\nExpo Booth Package – $250 \n\nExpo table\, linen\, and two chairs (includes lunch and entry for two (2) to the event).\n\nSingle Admission Member – $79 \n\nIncludes event entry & lunch for one (1).\n\nSingle Admission Non-Member – $99 \n\nIncludes event entry & lunch for one (1).
URL:https://www.discovercathedralcity.com/event/2024-state-of-the-city-business-awards-expo/
LOCATION:DoubleTree by Hilton Golf Resort\, 67967 Vista Chino\, Cathedral City\, CA\, 92234\, United States
CATEGORIES:Chamber of Commerce Event,City Council,Community Events
ATTACH;FMTTYPE=image/jpeg:https://www.discovercathedralcity.com/wp-content/uploads/2024/04/Meeting-the-Momentsq.jpg
GEO:33.8433628;-116.4774199
X-APPLE-STRUCTURED-LOCATION;VALUE=URI;X-ADDRESS=DoubleTree by Hilton Golf Resort 67967 Vista Chino Cathedral City CA 92234 United States;X-APPLE-RADIUS=500;X-TITLE=67967 Vista Chino:geo:-116.4774199,33.8433628
END:VEVENT
BEGIN:VEVENT
DTSTART;TZID=America/Los_Angeles:20240518T100000
DTEND;TZID=America/Los_Angeles:20240518T160000
DTSTAMP:20260420T214922
CREATED:20240508T150605Z
LAST-MODIFIED:20241105T191125Z
UID:10005575-1716026400-1716048000@www.discovercathedralcity.com
SUMMARY:Quarterly Art Exhibit
DESCRIPTION:The Cathedral City Public Library is hosting its Quarterly Art Exhibit\, showcasing works by 10 talented local artists selected from the Cathedral City Public Arts Commissions program. This vibrant exhibition will feature a diverse array of artistic mediums and unique perspectives. Visitors can explore the artwork; some art may be available for purchase\, supporting the creative talents within the community. \nDates:\nMay 18 & 19\, 2024\, August 24 & 25\, 2024\, and November 9 & 10\, 2024 \nTime: 10 AM – 4 PM \nLocation: Cathedral City Public Library 33520 Date Palm Dr\, Cathedral City\, CA 92234 \nThe Quarterly Art Exhibit is Sponsored by:\nCathedral City Public Library and Cathedral City Public Arts Commission.
URL:https://www.discovercathedralcity.com/event/quarterly-art-exhibit/2024-05-18/
LOCATION:Cathedral City Public Library\, 33520 Date Palm Drive\, Cathedral City\, CA\, 92234\, United States
CATEGORIES:Art,Community Events
ATTACH;FMTTYPE=image/jpeg:https://www.discovercathedralcity.com/wp-content/uploads/2024/05/Letter.jpg
GEO:33.8042303;-116.45733
X-APPLE-STRUCTURED-LOCATION;VALUE=URI;X-ADDRESS=Cathedral City Public Library 33520 Date Palm Drive Cathedral City CA 92234 United States;X-APPLE-RADIUS=500;X-TITLE=33520 Date Palm Drive:geo:-116.45733,33.8042303
END:VEVENT
BEGIN:VEVENT
DTSTART;TZID=America/Los_Angeles:20240519T100000
DTEND;TZID=America/Los_Angeles:20240519T160000
DTSTAMP:20260420T214922
CREATED:20240508T150605Z
LAST-MODIFIED:20241105T191125Z
UID:10005576-1716112800-1716134400@www.discovercathedralcity.com
SUMMARY:Quarterly Art Exhibit
DESCRIPTION:The Cathedral City Public Library is hosting its Quarterly Art Exhibit\, showcasing works by 10 talented local artists selected from the Cathedral City Public Arts Commissions program. This vibrant exhibition will feature a diverse array of artistic mediums and unique perspectives. Visitors can explore the artwork; some art may be available for purchase\, supporting the creative talents within the community. \nDates:\nMay 18 & 19\, 2024\, August 24 & 25\, 2024\, and November 9 & 10\, 2024 \nTime: 10 AM – 4 PM \nLocation: Cathedral City Public Library 33520 Date Palm Dr\, Cathedral City\, CA 92234 \nThe Quarterly Art Exhibit is Sponsored by:\nCathedral City Public Library and Cathedral City Public Arts Commission.
URL:https://www.discovercathedralcity.com/event/quarterly-art-exhibit/2024-05-19/
LOCATION:Cathedral City Public Library\, 33520 Date Palm Drive\, Cathedral City\, CA\, 92234\, United States
CATEGORIES:Art,Community Events
ATTACH;FMTTYPE=image/jpeg:https://www.discovercathedralcity.com/wp-content/uploads/2024/05/Letter.jpg
GEO:33.8042303;-116.45733
X-APPLE-STRUCTURED-LOCATION;VALUE=URI;X-ADDRESS=Cathedral City Public Library 33520 Date Palm Drive Cathedral City CA 92234 United States;X-APPLE-RADIUS=500;X-TITLE=33520 Date Palm Drive:geo:-116.45733,33.8042303
END:VEVENT
BEGIN:VEVENT
DTSTART;TZID=America/Los_Angeles:20240524T160000
DTEND;TZID=America/Los_Angeles:20240524T190000
DTSTAMP:20260420T214922
CREATED:20231002T143841Z
LAST-MODIFIED:20231102T224226Z
UID:10005075-1716566400-1716577200@www.discovercathedralcity.com
SUMMARY:The Perez Art District's Fourth Fridays
DESCRIPTION:The Perez Art District’s highly anticipated Art Walk occurs on 4th Fridays @ 4pm. \nThis is an immersive experience for art enthusiasts and the local community alike.  The Art Walk offers a unique chance to witness the creative process across a variety of disciplines\, including painting\, sculpture\, photography\, and mixed media. \nConveniently located at 68845 Perez Rd in Cathedral City\, California\, the Perez Art District is home to a vibrant community of artists. \nVisitors to the district will have the opportunity to explore the working studios of over 30 talented artists in the H and I Buildings\, with an additional 8 artists in the A and C Buildings. Additionally\, some of the home and design stores and galleries in the 68929 building will participate. \nTo stay updated on upcoming events\, follow the Perez Art District on social media: \n\nFacebook (https://www.facebook.com/ThePerezArtDistrict)\nInstagram (https://www.instagram.com/ThePerezArtDistrict/)\n\nFind us in buildings A\, C\, H\, and I as well as in the 68929 building along Perez Rd in Cathedral City\, CA. \nThe Art Walk starts at 4pm and runs until 7pm\, allowing ample time for attendees to discover the diverse range of artistic styles within the district and then head across the walking bridge to downtown Cathedral City to enjoy a dinner out. \nWe look forward to seeing you on 4th Fridays @ 4pm!
URL:https://www.discovercathedralcity.com/event/the-perez-art-districts-fourth-fridays-2/2024-05-24/
LOCATION:Art Walk\, 68895 Perez Rd Unit I-26\, Cathedral City\, CA\, 92234\, United States
CATEGORIES:Art,Community Events,Shopping
ATTACH;FMTTYPE=image/jpeg:https://www.discovercathedralcity.com/wp-content/uploads/2023/10/Artwalk.jpg
ORGANIZER;CN="The Perez Art District":MAILTO:anne@annebedrick.com
GEO:33.7824048;-116.4606047
X-APPLE-STRUCTURED-LOCATION;VALUE=URI;X-ADDRESS=Art Walk 68895 Perez Rd Unit I-26 Cathedral City CA 92234 United States;X-APPLE-RADIUS=500;X-TITLE=68895 Perez Rd Unit I-26:geo:-116.4606047,33.7824048
END:VEVENT
END:VCALENDAR