BEGIN:VCALENDAR
VERSION:2.0
PRODID:-//Discover Cathedral City - ECPv6.15.13//NONSGML v1.0//EN
CALSCALE:GREGORIAN
METHOD:PUBLISH
X-WR-CALNAME:Discover Cathedral City
X-ORIGINAL-URL:https://www.discovercathedralcity.com
X-WR-CALDESC:Events for Discover Cathedral City
REFRESH-INTERVAL;VALUE=DURATION:PT1H
X-Robots-Tag:noindex
X-PUBLISHED-TTL:PT1H
BEGIN:VTIMEZONE
TZID:America/Los_Angeles
BEGIN:DAYLIGHT
TZOFFSETFROM:-0800
TZOFFSETTO:-0700
TZNAME:PDT
DTSTART:20260308T100000
END:DAYLIGHT
BEGIN:STANDARD
TZOFFSETFROM:-0700
TZOFFSETTO:-0800
TZNAME:PST
DTSTART:20261101T090000
END:STANDARD
BEGIN:DAYLIGHT
TZOFFSETFROM:-0800
TZOFFSETTO:-0700
TZNAME:PDT
DTSTART:20270314T100000
END:DAYLIGHT
BEGIN:STANDARD
TZOFFSETFROM:-0700
TZOFFSETTO:-0800
TZNAME:PST
DTSTART:20271107T090000
END:STANDARD
BEGIN:DAYLIGHT
TZOFFSETFROM:-0800
TZOFFSETTO:-0700
TZNAME:PDT
DTSTART:20280312T100000
END:DAYLIGHT
BEGIN:STANDARD
TZOFFSETFROM:-0700
TZOFFSETTO:-0800
TZNAME:PST
DTSTART:20281105T090000
END:STANDARD
END:VTIMEZONE
BEGIN:VEVENT
DTSTART;TZID=America/Los_Angeles:20270903T140000
DTEND;TZID=America/Los_Angeles:20270903T150000
DTSTAMP:20260420T112957
CREATED:20260319T212809Z
LAST-MODIFIED:20260319T212810Z
UID:10007829-1819980000-1819983600@www.discovercathedralcity.com
SUMMARY:Device Advice
DESCRIPTION:Need some tech help for your smartphone\, tablet or laptop? 40-minute appointments available on Fridays at 2pm\, 2:40pm\, and 3pm. Call for an appointment 760-321-1548. \nPresented by Serenity Hospice.
URL:https://www.discovercathedralcity.com/event/device-advice-2/2027-09-03/
LOCATION:Cathedral City Senior Center\, 37171 W. Buddy Rogers Avenue\, Cathedral City\, CA\, 92234\, United States
CATEGORIES:Community Events,Senior
ATTACH;FMTTYPE=image/jpeg:https://www.discovercathedralcity.com/wp-content/uploads/2026/03/Device-Advice-Help-W-Serenity-Hospice-Team-8.5-x-11-in-1-1-1-1.jpg
GEO:33.7787774;-116.4646519
X-APPLE-STRUCTURED-LOCATION;VALUE=URI;X-ADDRESS=Cathedral City Senior Center 37171 W. Buddy Rogers Avenue Cathedral City CA 92234 United States;X-APPLE-RADIUS=500;X-TITLE=37171 W. Buddy Rogers Avenue:geo:-116.4646519,33.7787774
END:VEVENT
BEGIN:VEVENT
DTSTART;TZID=America/Los_Angeles:20270906T100000
DTEND;TZID=America/Los_Angeles:20270906T110000
DTSTAMP:20260420T112957
CREATED:20250930T231039Z
LAST-MODIFIED:20250930T231040Z
UID:10007343-1820224800-1820228400@www.discovercathedralcity.com
SUMMARY:English Class for Beginners
DESCRIPTION:Clase de Ingles. Ven a aprender Ingles. \nÚnete a nosotros en el centro para personas mayores y aprende inglés básico en un ambiente divertido y amigable. ¡Gana confianza\, haz nuevos amigos y empieza a hablar inglés con facilidad!\nGratis!
URL:https://www.discovercathedralcity.com/event/english-class-for-beginners/2027-09-06/
LOCATION:Cathedral City Senior Center\, 37171 W. Buddy Rogers Avenue\, Cathedral City\, CA\, 92234\, United States
CATEGORIES:Community Events,Senior
ATTACH;FMTTYPE=image/jpeg:https://www.discovercathedralcity.com/wp-content/uploads/2025/09/Screenshot-2025-09-30-154941.jpg
GEO:33.7787774;-116.4646519
X-APPLE-STRUCTURED-LOCATION;VALUE=URI;X-ADDRESS=Cathedral City Senior Center 37171 W. Buddy Rogers Avenue Cathedral City CA 92234 United States;X-APPLE-RADIUS=500;X-TITLE=37171 W. Buddy Rogers Avenue:geo:-116.4646519,33.7787774
END:VEVENT
BEGIN:VEVENT
DTSTART;TZID=America/Los_Angeles:20270910T140000
DTEND;TZID=America/Los_Angeles:20270910T150000
DTSTAMP:20260420T112957
CREATED:20260319T212809Z
LAST-MODIFIED:20260319T212810Z
UID:10007830-1820584800-1820588400@www.discovercathedralcity.com
SUMMARY:Device Advice
DESCRIPTION:Need some tech help for your smartphone\, tablet or laptop? 40-minute appointments available on Fridays at 2pm\, 2:40pm\, and 3pm. Call for an appointment 760-321-1548. \nPresented by Serenity Hospice.
URL:https://www.discovercathedralcity.com/event/device-advice-2/2027-09-10/
LOCATION:Cathedral City Senior Center\, 37171 W. Buddy Rogers Avenue\, Cathedral City\, CA\, 92234\, United States
CATEGORIES:Community Events,Senior
ATTACH;FMTTYPE=image/jpeg:https://www.discovercathedralcity.com/wp-content/uploads/2026/03/Device-Advice-Help-W-Serenity-Hospice-Team-8.5-x-11-in-1-1-1-1.jpg
GEO:33.7787774;-116.4646519
X-APPLE-STRUCTURED-LOCATION;VALUE=URI;X-ADDRESS=Cathedral City Senior Center 37171 W. Buddy Rogers Avenue Cathedral City CA 92234 United States;X-APPLE-RADIUS=500;X-TITLE=37171 W. Buddy Rogers Avenue:geo:-116.4646519,33.7787774
END:VEVENT
BEGIN:VEVENT
DTSTART;TZID=America/Los_Angeles:20270913T100000
DTEND;TZID=America/Los_Angeles:20270913T110000
DTSTAMP:20260420T112957
CREATED:20250930T231039Z
LAST-MODIFIED:20250930T231040Z
UID:10007344-1820829600-1820833200@www.discovercathedralcity.com
SUMMARY:English Class for Beginners
DESCRIPTION:Clase de Ingles. Ven a aprender Ingles. \nÚnete a nosotros en el centro para personas mayores y aprende inglés básico en un ambiente divertido y amigable. ¡Gana confianza\, haz nuevos amigos y empieza a hablar inglés con facilidad!\nGratis!
URL:https://www.discovercathedralcity.com/event/english-class-for-beginners/2027-09-13/
LOCATION:Cathedral City Senior Center\, 37171 W. Buddy Rogers Avenue\, Cathedral City\, CA\, 92234\, United States
CATEGORIES:Community Events,Senior
ATTACH;FMTTYPE=image/jpeg:https://www.discovercathedralcity.com/wp-content/uploads/2025/09/Screenshot-2025-09-30-154941.jpg
GEO:33.7787774;-116.4646519
X-APPLE-STRUCTURED-LOCATION;VALUE=URI;X-ADDRESS=Cathedral City Senior Center 37171 W. Buddy Rogers Avenue Cathedral City CA 92234 United States;X-APPLE-RADIUS=500;X-TITLE=37171 W. Buddy Rogers Avenue:geo:-116.4646519,33.7787774
END:VEVENT
BEGIN:VEVENT
DTSTART;TZID=America/Los_Angeles:20270917T140000
DTEND;TZID=America/Los_Angeles:20270917T150000
DTSTAMP:20260420T112957
CREATED:20260319T212809Z
LAST-MODIFIED:20260319T212810Z
UID:10007831-1821189600-1821193200@www.discovercathedralcity.com
SUMMARY:Device Advice
DESCRIPTION:Need some tech help for your smartphone\, tablet or laptop? 40-minute appointments available on Fridays at 2pm\, 2:40pm\, and 3pm. Call for an appointment 760-321-1548. \nPresented by Serenity Hospice.
URL:https://www.discovercathedralcity.com/event/device-advice-2/2027-09-17/
LOCATION:Cathedral City Senior Center\, 37171 W. Buddy Rogers Avenue\, Cathedral City\, CA\, 92234\, United States
CATEGORIES:Community Events,Senior
ATTACH;FMTTYPE=image/jpeg:https://www.discovercathedralcity.com/wp-content/uploads/2026/03/Device-Advice-Help-W-Serenity-Hospice-Team-8.5-x-11-in-1-1-1-1.jpg
GEO:33.7787774;-116.4646519
X-APPLE-STRUCTURED-LOCATION;VALUE=URI;X-ADDRESS=Cathedral City Senior Center 37171 W. Buddy Rogers Avenue Cathedral City CA 92234 United States;X-APPLE-RADIUS=500;X-TITLE=37171 W. Buddy Rogers Avenue:geo:-116.4646519,33.7787774
END:VEVENT
BEGIN:VEVENT
DTSTART;TZID=America/Los_Angeles:20270920T100000
DTEND;TZID=America/Los_Angeles:20270920T110000
DTSTAMP:20260420T112957
CREATED:20250930T231039Z
LAST-MODIFIED:20250930T231040Z
UID:10007345-1821434400-1821438000@www.discovercathedralcity.com
SUMMARY:English Class for Beginners
DESCRIPTION:Clase de Ingles. Ven a aprender Ingles. \nÚnete a nosotros en el centro para personas mayores y aprende inglés básico en un ambiente divertido y amigable. ¡Gana confianza\, haz nuevos amigos y empieza a hablar inglés con facilidad!\nGratis!
URL:https://www.discovercathedralcity.com/event/english-class-for-beginners/2027-09-20/
LOCATION:Cathedral City Senior Center\, 37171 W. Buddy Rogers Avenue\, Cathedral City\, CA\, 92234\, United States
CATEGORIES:Community Events,Senior
ATTACH;FMTTYPE=image/jpeg:https://www.discovercathedralcity.com/wp-content/uploads/2025/09/Screenshot-2025-09-30-154941.jpg
GEO:33.7787774;-116.4646519
X-APPLE-STRUCTURED-LOCATION;VALUE=URI;X-ADDRESS=Cathedral City Senior Center 37171 W. Buddy Rogers Avenue Cathedral City CA 92234 United States;X-APPLE-RADIUS=500;X-TITLE=37171 W. Buddy Rogers Avenue:geo:-116.4646519,33.7787774
END:VEVENT
BEGIN:VEVENT
DTSTART;TZID=America/Los_Angeles:20270924T140000
DTEND;TZID=America/Los_Angeles:20270924T150000
DTSTAMP:20260420T112957
CREATED:20260319T212809Z
LAST-MODIFIED:20260319T212810Z
UID:10007832-1821794400-1821798000@www.discovercathedralcity.com
SUMMARY:Device Advice
DESCRIPTION:Need some tech help for your smartphone\, tablet or laptop? 40-minute appointments available on Fridays at 2pm\, 2:40pm\, and 3pm. Call for an appointment 760-321-1548. \nPresented by Serenity Hospice.
URL:https://www.discovercathedralcity.com/event/device-advice-2/2027-09-24/
LOCATION:Cathedral City Senior Center\, 37171 W. Buddy Rogers Avenue\, Cathedral City\, CA\, 92234\, United States
CATEGORIES:Community Events,Senior
ATTACH;FMTTYPE=image/jpeg:https://www.discovercathedralcity.com/wp-content/uploads/2026/03/Device-Advice-Help-W-Serenity-Hospice-Team-8.5-x-11-in-1-1-1-1.jpg
GEO:33.7787774;-116.4646519
X-APPLE-STRUCTURED-LOCATION;VALUE=URI;X-ADDRESS=Cathedral City Senior Center 37171 W. Buddy Rogers Avenue Cathedral City CA 92234 United States;X-APPLE-RADIUS=500;X-TITLE=37171 W. Buddy Rogers Avenue:geo:-116.4646519,33.7787774
END:VEVENT
BEGIN:VEVENT
DTSTART;TZID=America/Los_Angeles:20270927T100000
DTEND;TZID=America/Los_Angeles:20270927T110000
DTSTAMP:20260420T112957
CREATED:20250930T231039Z
LAST-MODIFIED:20250930T231040Z
UID:10007346-1822039200-1822042800@www.discovercathedralcity.com
SUMMARY:English Class for Beginners
DESCRIPTION:Clase de Ingles. Ven a aprender Ingles. \nÚnete a nosotros en el centro para personas mayores y aprende inglés básico en un ambiente divertido y amigable. ¡Gana confianza\, haz nuevos amigos y empieza a hablar inglés con facilidad!\nGratis!
URL:https://www.discovercathedralcity.com/event/english-class-for-beginners/2027-09-27/
LOCATION:Cathedral City Senior Center\, 37171 W. Buddy Rogers Avenue\, Cathedral City\, CA\, 92234\, United States
CATEGORIES:Community Events,Senior
ATTACH;FMTTYPE=image/jpeg:https://www.discovercathedralcity.com/wp-content/uploads/2025/09/Screenshot-2025-09-30-154941.jpg
GEO:33.7787774;-116.4646519
X-APPLE-STRUCTURED-LOCATION;VALUE=URI;X-ADDRESS=Cathedral City Senior Center 37171 W. Buddy Rogers Avenue Cathedral City CA 92234 United States;X-APPLE-RADIUS=500;X-TITLE=37171 W. Buddy Rogers Avenue:geo:-116.4646519,33.7787774
END:VEVENT
END:VCALENDAR