BEGIN:VCALENDAR
VERSION:2.0
PRODID:-//Discover Cathedral City - ECPv6.15.13//NONSGML v1.0//EN
CALSCALE:GREGORIAN
METHOD:PUBLISH
X-WR-CALNAME:Discover Cathedral City
X-ORIGINAL-URL:https://www.discovercathedralcity.com
X-WR-CALDESC:Events for Discover Cathedral City
REFRESH-INTERVAL;VALUE=DURATION:PT1H
X-Robots-Tag:noindex
X-PUBLISHED-TTL:PT1H
BEGIN:VTIMEZONE
TZID:America/Los_Angeles
BEGIN:DAYLIGHT
TZOFFSETFROM:-0800
TZOFFSETTO:-0700
TZNAME:PDT
DTSTART:20230312T100000
END:DAYLIGHT
BEGIN:STANDARD
TZOFFSETFROM:-0700
TZOFFSETTO:-0800
TZNAME:PST
DTSTART:20231105T090000
END:STANDARD
BEGIN:DAYLIGHT
TZOFFSETFROM:-0800
TZOFFSETTO:-0700
TZNAME:PDT
DTSTART:20240310T100000
END:DAYLIGHT
BEGIN:STANDARD
TZOFFSETFROM:-0700
TZOFFSETTO:-0800
TZNAME:PST
DTSTART:20241103T090000
END:STANDARD
BEGIN:DAYLIGHT
TZOFFSETFROM:-0800
TZOFFSETTO:-0700
TZNAME:PDT
DTSTART:20250309T100000
END:DAYLIGHT
BEGIN:STANDARD
TZOFFSETFROM:-0700
TZOFFSETTO:-0800
TZNAME:PST
DTSTART:20251102T090000
END:STANDARD
END:VTIMEZONE
BEGIN:VEVENT
DTSTART;TZID=America/Los_Angeles:20240202T170000
DTEND;TZID=America/Los_Angeles:20240202T230000
DTSTAMP:20260420T180208
CREATED:20231108T003904Z
LAST-MODIFIED:20231108T004017Z
UID:10005116-1706893200-1706914800@www.discovercathedralcity.com
SUMMARY:Taste of Jalisco
DESCRIPTION:Save the date to celebrate the sights\, sounds\, and tastes of the state of Jalisco\, Mexico at the 8th Annual Taste of Jalisco Festival presented by Agua Caliente Casinos\, to be held February 2 – 4\, 2024\, in downtown Cathedral City. This annual celebration honors the 27-year sister city relationship between Cathedral City and Tequila\, Jalisco (Mexico) through culture\, cuisine\, music\, and fashion. \nThe weekend includes a family-friendly carnival which has doubled in size from previous years\, artisan craft vendor market\, tequila tastings with a tequila tasting competition\, plus authentic Mexican cuisine and a Sunday car show. Daily entertainment at the Jalisco Community Stage will feature local and regional musical groups and acts celebrating Mexican art and culture. \nHeadlining this year’s festival is a live performance of the Legends of Lucha Libre Mexicana at 6 p.m. on both Saturday and Sunday nights. Lucha Libre has played an important role in Mexican culture since the late 1950s. The sport became famous mainly due to its masked wrestlers\, who incorporated their own family traditions\, beliefs\, and fears into the design of their masks\, transforming an ordinary person into a fearless character. \nSaturday’s wrestling matches feature Champion Tinieblas Jr. with Alushe along with PWR tag team champions Lucha Solos: Galeno Del Mal\, Super Astro Jr.\, Rey Leon\, Fatal\, and many more. Sunday evening’s performance will feature the women’s championship match of Keyra vs. Barones\, plus Solar\, Solar Jr\, Damian 666\, Bestia 666\, and White Tiger\, among others. Discounted presale tickets for the entertaining performances are available through November 20. \n“The Taste of Jalisco is one of our city’s signature events which we look forward to each year\,” said Cathedral City Mayor Rita Lamb. “It’s the perfect opportunity for people of all ages to come enjoy a fun-filled weekend and celebrate the connection with our sister city\, Tequila\, Jalisco. We also want to thank presenting sponsor Agua Caliente Casinos for their involvement and continued community support.” \nThe Sister City relationship was first established in 1996 when the two cities entered into a formal Sister Cities agreement. Since then\, exchanges between the Cities included art\, culture\, governmental best practices\, youth-focused educational opportunities\, donation of firefighting equipment\, and firefighter training\, among others. \nAdmission to the festival is pre-sale $4 per person – available online and $6 at the door (children under 5 free). Carnival rides\, wrestling show\, food\, and drink are additional fees. “Legends of Lucha Libre” tickets start at $16 pre-sale and are available at tasteofjalisco.com. VIP tickets which include a meet and greet\, and other benefits are also available. \nEvent hours are Friday from 5 to 11 p.m.\, Saturday noon to 11 p.m.\, and Sunday noon to 9 p.m. Festivities take place in downtown Cathedral City\, at 68600 East Palm Canyon Drive. Parking is free. For tickets and more information about the Taste of Jalisco Festival visit tasteofjalisco.com. \nABOUT A TASTE OF JALISCO FESTIVAL \nNow in its eighth year\, Taste of Jalisco Festival celebrates Cathedral City’s Sister City relationship with the City of Tequila in the state of Jalisco\, Mexico. The festival honors this relationship through music\, fashion\, culture\, spirits\, and cuisine. The Sister City relationship was first established in 1996 when the two cities entered into a formal Sister Cities agreement. Since then\, exchanges between the Cities included art\, culture\, governmental best practices\, youth-focused educational opportunities\, donation of firefighting equipment\, and firefighter training\, among others.
URL:https://www.discovercathedralcity.com/event/taste-of-jalisco/2024-02-02/
LOCATION:Downtown Cathedral City\, 68700 Avenida Lalo Guerrero\, Cathedral City\, CA\, 92234\, United States
CATEGORIES:Community Events,Concert,Food,History,Latino,Music,Performing Arts,Sporting Event
ATTACH;FMTTYPE=image/jpeg:https://www.discovercathedralcity.com/wp-content/uploads/2023/12/11x17_Taste-Of-Jalisco-Poster_resize-scaled-e1703003904949.jpg
ORGANIZER;CN="Soundskilz":MAILTO:info@soundskilz.com
GEO:33.7814067;-116.4640621
X-APPLE-STRUCTURED-LOCATION;VALUE=URI;X-ADDRESS=Downtown Cathedral City 68700 Avenida Lalo Guerrero Cathedral City CA 92234 United States;X-APPLE-RADIUS=500;X-TITLE=68700 Avenida Lalo Guerrero:geo:-116.4640621,33.7814067
END:VEVENT
BEGIN:VEVENT
DTSTART;TZID=America/Los_Angeles:20240203T120000
DTEND;TZID=America/Los_Angeles:20240203T230000
DTSTAMP:20260420T180208
CREATED:20231108T003904Z
LAST-MODIFIED:20231108T004017Z
UID:10005117-1706961600-1707001200@www.discovercathedralcity.com
SUMMARY:Taste of Jalisco
DESCRIPTION:Save the date to celebrate the sights\, sounds\, and tastes of the state of Jalisco\, Mexico at the 8th Annual Taste of Jalisco Festival presented by Agua Caliente Casinos\, to be held February 2 – 4\, 2024\, in downtown Cathedral City. This annual celebration honors the 27-year sister city relationship between Cathedral City and Tequila\, Jalisco (Mexico) through culture\, cuisine\, music\, and fashion. \nThe weekend includes a family-friendly carnival which has doubled in size from previous years\, artisan craft vendor market\, tequila tastings with a tequila tasting competition\, plus authentic Mexican cuisine and a Sunday car show. Daily entertainment at the Jalisco Community Stage will feature local and regional musical groups and acts celebrating Mexican art and culture. \nHeadlining this year’s festival is a live performance of the Legends of Lucha Libre Mexicana at 6 p.m. on both Saturday and Sunday nights. Lucha Libre has played an important role in Mexican culture since the late 1950s. The sport became famous mainly due to its masked wrestlers\, who incorporated their own family traditions\, beliefs\, and fears into the design of their masks\, transforming an ordinary person into a fearless character. \nSaturday’s wrestling matches feature Champion Tinieblas Jr. with Alushe along with PWR tag team champions Lucha Solos: Galeno Del Mal\, Super Astro Jr.\, Rey Leon\, Fatal\, and many more. Sunday evening’s performance will feature the women’s championship match of Keyra vs. Barones\, plus Solar\, Solar Jr\, Damian 666\, Bestia 666\, and White Tiger\, among others. Discounted presale tickets for the entertaining performances are available through November 20. \n“The Taste of Jalisco is one of our city’s signature events which we look forward to each year\,” said Cathedral City Mayor Rita Lamb. “It’s the perfect opportunity for people of all ages to come enjoy a fun-filled weekend and celebrate the connection with our sister city\, Tequila\, Jalisco. We also want to thank presenting sponsor Agua Caliente Casinos for their involvement and continued community support.” \nThe Sister City relationship was first established in 1996 when the two cities entered into a formal Sister Cities agreement. Since then\, exchanges between the Cities included art\, culture\, governmental best practices\, youth-focused educational opportunities\, donation of firefighting equipment\, and firefighter training\, among others. \nAdmission to the festival is pre-sale $4 per person – available online and $6 at the door (children under 5 free). Carnival rides\, wrestling show\, food\, and drink are additional fees. “Legends of Lucha Libre” tickets start at $16 pre-sale and are available at tasteofjalisco.com. VIP tickets which include a meet and greet\, and other benefits are also available. \nEvent hours are Friday from 5 to 11 p.m.\, Saturday noon to 11 p.m.\, and Sunday noon to 9 p.m. Festivities take place in downtown Cathedral City\, at 68600 East Palm Canyon Drive. Parking is free. For tickets and more information about the Taste of Jalisco Festival visit tasteofjalisco.com. \nABOUT A TASTE OF JALISCO FESTIVAL \nNow in its eighth year\, Taste of Jalisco Festival celebrates Cathedral City’s Sister City relationship with the City of Tequila in the state of Jalisco\, Mexico. The festival honors this relationship through music\, fashion\, culture\, spirits\, and cuisine. The Sister City relationship was first established in 1996 when the two cities entered into a formal Sister Cities agreement. Since then\, exchanges between the Cities included art\, culture\, governmental best practices\, youth-focused educational opportunities\, donation of firefighting equipment\, and firefighter training\, among others.
URL:https://www.discovercathedralcity.com/event/taste-of-jalisco/2024-02-03/
LOCATION:Downtown Cathedral City\, 68700 Avenida Lalo Guerrero\, Cathedral City\, CA\, 92234\, United States
CATEGORIES:Community Events,Concert,Food,History,Latino,Music,Performing Arts,Sporting Event
ATTACH;FMTTYPE=image/jpeg:https://www.discovercathedralcity.com/wp-content/uploads/2023/12/11x17_Taste-Of-Jalisco-Poster_resize-scaled-e1703003904949.jpg
ORGANIZER;CN="Soundskilz":MAILTO:info@soundskilz.com
GEO:33.7814067;-116.4640621
X-APPLE-STRUCTURED-LOCATION;VALUE=URI;X-ADDRESS=Downtown Cathedral City 68700 Avenida Lalo Guerrero Cathedral City CA 92234 United States;X-APPLE-RADIUS=500;X-TITLE=68700 Avenida Lalo Guerrero:geo:-116.4640621,33.7814067
END:VEVENT
BEGIN:VEVENT
DTSTART;TZID=America/Los_Angeles:20240204T000000
DTEND;TZID=America/Los_Angeles:20240204T210000
DTSTAMP:20260420T180208
CREATED:20231108T003904Z
LAST-MODIFIED:20231108T004017Z
UID:10005118-1707004800-1707080400@www.discovercathedralcity.com
SUMMARY:Taste of Jalisco
DESCRIPTION:Save the date to celebrate the sights\, sounds\, and tastes of the state of Jalisco\, Mexico at the 8th Annual Taste of Jalisco Festival presented by Agua Caliente Casinos\, to be held February 2 – 4\, 2024\, in downtown Cathedral City. This annual celebration honors the 27-year sister city relationship between Cathedral City and Tequila\, Jalisco (Mexico) through culture\, cuisine\, music\, and fashion. \nThe weekend includes a family-friendly carnival which has doubled in size from previous years\, artisan craft vendor market\, tequila tastings with a tequila tasting competition\, plus authentic Mexican cuisine and a Sunday car show. Daily entertainment at the Jalisco Community Stage will feature local and regional musical groups and acts celebrating Mexican art and culture. \nHeadlining this year’s festival is a live performance of the Legends of Lucha Libre Mexicana at 6 p.m. on both Saturday and Sunday nights. Lucha Libre has played an important role in Mexican culture since the late 1950s. The sport became famous mainly due to its masked wrestlers\, who incorporated their own family traditions\, beliefs\, and fears into the design of their masks\, transforming an ordinary person into a fearless character. \nSaturday’s wrestling matches feature Champion Tinieblas Jr. with Alushe along with PWR tag team champions Lucha Solos: Galeno Del Mal\, Super Astro Jr.\, Rey Leon\, Fatal\, and many more. Sunday evening’s performance will feature the women’s championship match of Keyra vs. Barones\, plus Solar\, Solar Jr\, Damian 666\, Bestia 666\, and White Tiger\, among others. Discounted presale tickets for the entertaining performances are available through November 20. \n“The Taste of Jalisco is one of our city’s signature events which we look forward to each year\,” said Cathedral City Mayor Rita Lamb. “It’s the perfect opportunity for people of all ages to come enjoy a fun-filled weekend and celebrate the connection with our sister city\, Tequila\, Jalisco. We also want to thank presenting sponsor Agua Caliente Casinos for their involvement and continued community support.” \nThe Sister City relationship was first established in 1996 when the two cities entered into a formal Sister Cities agreement. Since then\, exchanges between the Cities included art\, culture\, governmental best practices\, youth-focused educational opportunities\, donation of firefighting equipment\, and firefighter training\, among others. \nAdmission to the festival is pre-sale $4 per person – available online and $6 at the door (children under 5 free). Carnival rides\, wrestling show\, food\, and drink are additional fees. “Legends of Lucha Libre” tickets start at $16 pre-sale and are available at tasteofjalisco.com. VIP tickets which include a meet and greet\, and other benefits are also available. \nEvent hours are Friday from 5 to 11 p.m.\, Saturday noon to 11 p.m.\, and Sunday noon to 9 p.m. Festivities take place in downtown Cathedral City\, at 68600 East Palm Canyon Drive. Parking is free. For tickets and more information about the Taste of Jalisco Festival visit tasteofjalisco.com. \nABOUT A TASTE OF JALISCO FESTIVAL \nNow in its eighth year\, Taste of Jalisco Festival celebrates Cathedral City’s Sister City relationship with the City of Tequila in the state of Jalisco\, Mexico. The festival honors this relationship through music\, fashion\, culture\, spirits\, and cuisine. The Sister City relationship was first established in 1996 when the two cities entered into a formal Sister Cities agreement. Since then\, exchanges between the Cities included art\, culture\, governmental best practices\, youth-focused educational opportunities\, donation of firefighting equipment\, and firefighter training\, among others.
URL:https://www.discovercathedralcity.com/event/taste-of-jalisco/2024-02-04/
LOCATION:Downtown Cathedral City\, 68700 Avenida Lalo Guerrero\, Cathedral City\, CA\, 92234\, United States
CATEGORIES:Community Events,Concert,Food,History,Latino,Music,Performing Arts,Sporting Event
ATTACH;FMTTYPE=image/jpeg:https://www.discovercathedralcity.com/wp-content/uploads/2023/12/11x17_Taste-Of-Jalisco-Poster_resize-scaled-e1703003904949.jpg
ORGANIZER;CN="Soundskilz":MAILTO:info@soundskilz.com
GEO:33.7814067;-116.4640621
X-APPLE-STRUCTURED-LOCATION;VALUE=URI;X-ADDRESS=Downtown Cathedral City 68700 Avenida Lalo Guerrero Cathedral City CA 92234 United States;X-APPLE-RADIUS=500;X-TITLE=68700 Avenida Lalo Guerrero:geo:-116.4640621,33.7814067
END:VEVENT
BEGIN:VEVENT
DTSTART;TZID=America/Los_Angeles:20240213T170000
DTEND;TZID=America/Los_Angeles:20240213T190000
DTSTAMP:20260420T180208
CREATED:20230423T044515Z
LAST-MODIFIED:20240130T002116Z
UID:10005130-1707843600-1707850800@www.discovercathedralcity.com
SUMMARY:Tastes & Sounds of Cathedral City - Cathedral City High School Jazz Band
DESCRIPTION:The Cathedral City High School “Royal Jazz Band” is an esteemed ensemble recognized throughout Southern California for their exceptional musicality and professionalism. Led by the talented director Mr. Matthew Howe\, this audition-only group consistently delivers exceptional performances at various events including weddings\, parties\, community functions\, and even on local radio and TV. Their collaborations with renowned jazz artists like Buddy Greco\, as well as their extensive participation in clinics with leading professionals such as Lorin Cohen\, Anthony Fesmire\, and Jeff Ellwood\, have honed their skills to a level that rivals industry professionals. In addition\, the band has also released a CD in 2008\, showcasing their dedication and skill. With their captivating jazz sounds\, the Royal Jazz Band enhances any event\, providing an enjoyable musical experience. \n\nIndulge in a weekly feast for the senses at\nImmerse yourself in a musical and culinary adventure like no other. \nJoin us in Downtown Cathedral City every week from\nFebruary 13 to April 9\, 2024\nand savor the flavors\, rhythms\, and talents of our vibrant community! \nCommunity Amphitheater
URL:https://www.discovercathedralcity.com/event/tastes-sounds-of-cathedral-city-cchs-jazz-band/
LOCATION:Cathedral City Community Amphitheater\, 68526 Avenida Lalo Guerrero\, Cathedral City\, CA\, 92234\, United States
CATEGORIES:Community Events,Concert,Food,Music
ATTACH;FMTTYPE=image/png:https://www.discovercathedralcity.com/wp-content/uploads/2023/04/Cathedral-City-HS-Jazz-Band-_-2019-RCC-Jazz-Festival-0-48-screenshot-e1706574006345.png
GEO:33.7813769;-116.4655492
X-APPLE-STRUCTURED-LOCATION;VALUE=URI;X-ADDRESS=Cathedral City Community Amphitheater 68526 Avenida Lalo Guerrero Cathedral City CA 92234 United States;X-APPLE-RADIUS=500;X-TITLE=68526 Avenida Lalo Guerrero:geo:-116.4655492,33.7813769
END:VEVENT
BEGIN:VEVENT
DTSTART;TZID=America/Los_Angeles:20240220T170000
DTEND;TZID=America/Los_Angeles:20240220T190000
DTSTAMP:20260420T180208
CREATED:20240130T182526Z
LAST-MODIFIED:20240130T183335Z
UID:10005508-1708448400-1708455600@www.discovercathedralcity.com
SUMMARY:Cathedral City High School Royal Jazz Band
DESCRIPTION:Cathedral City Evening Rotary Club Presents \nCATHEDRAL CITY HIGH SCHOOL\nROYAL JAZZ BAND \nPasta Dinner Fundraiser Catered by Nick’s Bistro\n$15 TICKETS \nLocated in The Date Palm Country Club Clubhouse\n36200 Date Palm Dr\, Cathedral City\nCall 760-567-5874 or Email\nCpipitone@dc.Rr.Com for More Info! \nCome for An Evening of Big Band Jazz!\nTuesday\, Feb 20 Th\n5-7 Pm\nCathedral City Evening-Rotary Club
URL:https://www.discovercathedralcity.com/event/cathedral-city-high-school-royal-jazz-band/
LOCATION:Date Palm Country Club\, Club House\, 36200 Date Palm Dr\, Cathedral City\, CA\, 92234\, United States
CATEGORIES:Concert,Food,Music
ATTACH;FMTTYPE=image/jpeg:https://www.discovercathedralcity.com/wp-content/uploads/2024/01/JAZZ-NIGHT-POSTER-2.jpg
GEO:33.7849815;-116.4577764
X-APPLE-STRUCTURED-LOCATION;VALUE=URI;X-ADDRESS=Date Palm Country Club Club House 36200 Date Palm Dr Cathedral City CA 92234 United States;X-APPLE-RADIUS=500;X-TITLE=36200 Date Palm Dr:geo:-116.4577764,33.7849815
END:VEVENT
BEGIN:VEVENT
DTSTART;TZID=America/Los_Angeles:20240227T170000
DTEND;TZID=America/Los_Angeles:20240227T190000
DTSTAMP:20260420T180208
CREATED:20231118T194651Z
LAST-MODIFIED:20240129T211352Z
UID:10005132-1709053200-1709060400@www.discovercathedralcity.com
SUMMARY:Tastes & Sounds of Cathedral City - Radio Ready
DESCRIPTION:Southern California’s premiere\, popular dance-band Radio Ready (Formerly New Sensations) is stacked with some of the most talented musicians from the Los Angeles\, Palm Springs & Orange County area who embrace everything from 1940s jazz standards to today’s hottest dance music\, bringing a unique sound of their own. With lead vocalists featured on Fox’s American Idol and the renowned\, family-friendly Disney Channel\, you can count on a professionalism that commands the stage. In addition\, their crowd-pleasing and widely-sought after instrumentalists are just as impressive. This super-group of young professionals is here to take the country – and your event – by storm with their fun\, interactive audience-friendly show that will have you up on your feet and Ready for Radio Ready! \n \n\nIndulge in a weekly feast for the senses at\nImmerse yourself in a musical and culinary adventure like no other. \nJoin us in Downtown Cathedral City every week from\nFebruary 13 to April 9\, 2024\nand savor the flavors\, rhythms\, and talents of our vibrant community! \nCommunity Amphitheater
URL:https://www.discovercathedralcity.com/event/tastes-sounds-of-cathedral-city-radio-ready/
LOCATION:Cathedral City Community Amphitheater\, 68526 Avenida Lalo Guerrero\, Cathedral City\, CA\, 92234\, United States
CATEGORIES:Community Events,Concert,Food,Music
ATTACH;FMTTYPE=image/jpeg:https://www.discovercathedralcity.com/wp-content/uploads/2023/11/RROfficial_5pcBand.jpg
GEO:33.7813769;-116.4655492
X-APPLE-STRUCTURED-LOCATION;VALUE=URI;X-ADDRESS=Cathedral City Community Amphitheater 68526 Avenida Lalo Guerrero Cathedral City CA 92234 United States;X-APPLE-RADIUS=500;X-TITLE=68526 Avenida Lalo Guerrero:geo:-116.4655492,33.7813769
END:VEVENT
END:VCALENDAR