BEGIN:VCALENDAR
VERSION:2.0
PRODID:-//Discover Cathedral City - ECPv6.15.13//NONSGML v1.0//EN
CALSCALE:GREGORIAN
METHOD:PUBLISH
X-ORIGINAL-URL:https://www.discovercathedralcity.com
X-WR-CALDESC:Events for Discover Cathedral City
REFRESH-INTERVAL;VALUE=DURATION:PT1H
X-Robots-Tag:noindex
X-PUBLISHED-TTL:PT1H
BEGIN:VTIMEZONE
TZID:America/Los_Angeles
BEGIN:DAYLIGHT
TZOFFSETFROM:-0800
TZOFFSETTO:-0700
TZNAME:PDT
DTSTART:20240310T100000
END:DAYLIGHT
BEGIN:STANDARD
TZOFFSETFROM:-0700
TZOFFSETTO:-0800
TZNAME:PST
DTSTART:20241103T090000
END:STANDARD
BEGIN:DAYLIGHT
TZOFFSETFROM:-0800
TZOFFSETTO:-0700
TZNAME:PDT
DTSTART:20250309T100000
END:DAYLIGHT
BEGIN:STANDARD
TZOFFSETFROM:-0700
TZOFFSETTO:-0800
TZNAME:PST
DTSTART:20251102T090000
END:STANDARD
BEGIN:DAYLIGHT
TZOFFSETFROM:-0800
TZOFFSETTO:-0700
TZNAME:PDT
DTSTART:20260308T100000
END:DAYLIGHT
BEGIN:STANDARD
TZOFFSETFROM:-0700
TZOFFSETTO:-0800
TZNAME:PST
DTSTART:20261101T090000
END:STANDARD
END:VTIMEZONE
BEGIN:VEVENT
DTSTART;TZID=America/Los_Angeles:20250828T170000
DTEND;TZID=America/Los_Angeles:20250828T183000
DTSTAMP:20260423T155813
CREATED:20250731T170141Z
LAST-MODIFIED:20250731T170141Z
UID:10006689-1756400400-1756405800@www.discovercathedralcity.com
SUMMARY:Cathedral City IGNITE
DESCRIPTION:The IGNITE Program is a Cathedral City economic development initiative designed to spark entrepreneurship through networking\, workshops\, and resource-sharing for new and growing businesses. Join this 90 minute in person presentation and gain an understanding of the compliance responsibilities of an LLC (Limited Liability Company) and Corporations. Attendees will learn the essential steps to maintain good standing with state and federal regulations\, ensuring their business operations remain compliant and protected.\nIn this workshop\, you will learn: \n\nIntroduction to LLCs and corporations\nEssential LLC and Corporation documents\nCompliance deadlines and reporting requirements
URL:https://www.discovercathedralcity.com/event/cathedral-city-ignite-2/
LOCATION:Cathedral City Council Chambers\, 68700 Ave Lalo Guerrero\, Cathedral City\, CA\, 92234\, United States
CATEGORIES:Community Events,Financial
ATTACH;FMTTYPE=image/jpeg:https://www.discovercathedralcity.com/wp-content/uploads/2025/07/Ignite-8-28-IG.jpg
GEO:33.7813891;-116.4641156
X-APPLE-STRUCTURED-LOCATION;VALUE=URI;X-ADDRESS=Cathedral City Council Chambers 68700 Ave Lalo Guerrero Cathedral City CA 92234 United States;X-APPLE-RADIUS=500;X-TITLE=68700 Ave Lalo Guerrero:geo:-116.4641156,33.7813891
END:VEVENT
BEGIN:VEVENT
DTSTART;TZID=America/Los_Angeles:20250925T130000
DTEND;TZID=America/Los_Angeles:20250925T160000
DTSTAMP:20260423T155813
CREATED:20250925T185449Z
LAST-MODIFIED:20250925T185449Z
UID:10007160-1758805200-1758816000@www.discovercathedralcity.com
SUMMARY:Cathedral City IGNITE
DESCRIPTION:Cathedral City’s IGNITE Program proudly offers various bilingual business resources no matter what stage your business is at. From starting a business to expanding one and everything in-between\, Cathedral City can help you spark your business’s next move. After selecting an appointment slot\, you will receive a confirmation email. For any questions\, please contact the Economic Development team at EconDev@cathedralcity.gov. \nCVWBC.ORG | (833) 379-0019 \nCathedral City’s IGNITE Program is made possible through the Coachella Valley Women’s Business Center and Riverside County Office of Economic Development.
URL:https://www.discovercathedralcity.com/event/cathedral-city-ignite-3/2025-09-25/
LOCATION:CA
CATEGORIES:Community Events,Financial
ATTACH;FMTTYPE=image/jpeg:https://www.discovercathedralcity.com/wp-content/uploads/2025/09/image-1.jpg
END:VEVENT
BEGIN:VEVENT
DTSTART;TZID=America/Los_Angeles:20251002T130000
DTEND;TZID=America/Los_Angeles:20251002T160000
DTSTAMP:20260423T155813
CREATED:20250925T185449Z
LAST-MODIFIED:20250925T185449Z
UID:10007161-1759410000-1759420800@www.discovercathedralcity.com
SUMMARY:Cathedral City IGNITE
DESCRIPTION:Cathedral City’s IGNITE Program proudly offers various bilingual business resources no matter what stage your business is at. From starting a business to expanding one and everything in-between\, Cathedral City can help you spark your business’s next move. After selecting an appointment slot\, you will receive a confirmation email. For any questions\, please contact the Economic Development team at EconDev@cathedralcity.gov. \nCVWBC.ORG | (833) 379-0019 \nCathedral City’s IGNITE Program is made possible through the Coachella Valley Women’s Business Center and Riverside County Office of Economic Development.
URL:https://www.discovercathedralcity.com/event/cathedral-city-ignite-3/2025-10-02/
LOCATION:CA
CATEGORIES:Community Events,Financial
ATTACH;FMTTYPE=image/jpeg:https://www.discovercathedralcity.com/wp-content/uploads/2025/09/image-1.jpg
END:VEVENT
BEGIN:VEVENT
DTSTART;TZID=America/Los_Angeles:20251009T130000
DTEND;TZID=America/Los_Angeles:20251009T160000
DTSTAMP:20260423T155813
CREATED:20250925T185449Z
LAST-MODIFIED:20250925T185449Z
UID:10007162-1760014800-1760025600@www.discovercathedralcity.com
SUMMARY:Cathedral City IGNITE
DESCRIPTION:Cathedral City’s IGNITE Program proudly offers various bilingual business resources no matter what stage your business is at. From starting a business to expanding one and everything in-between\, Cathedral City can help you spark your business’s next move. After selecting an appointment slot\, you will receive a confirmation email. For any questions\, please contact the Economic Development team at EconDev@cathedralcity.gov. \nCVWBC.ORG | (833) 379-0019 \nCathedral City’s IGNITE Program is made possible through the Coachella Valley Women’s Business Center and Riverside County Office of Economic Development.
URL:https://www.discovercathedralcity.com/event/cathedral-city-ignite-3/2025-10-09/
LOCATION:CA
CATEGORIES:Community Events,Financial
ATTACH;FMTTYPE=image/jpeg:https://www.discovercathedralcity.com/wp-content/uploads/2025/09/image-1.jpg
END:VEVENT
BEGIN:VEVENT
DTSTART;TZID=America/Los_Angeles:20251016T130000
DTEND;TZID=America/Los_Angeles:20251016T160000
DTSTAMP:20260423T155813
CREATED:20250925T185449Z
LAST-MODIFIED:20250925T185449Z
UID:10007163-1760619600-1760630400@www.discovercathedralcity.com
SUMMARY:Cathedral City IGNITE
DESCRIPTION:Cathedral City’s IGNITE Program proudly offers various bilingual business resources no matter what stage your business is at. From starting a business to expanding one and everything in-between\, Cathedral City can help you spark your business’s next move. After selecting an appointment slot\, you will receive a confirmation email. For any questions\, please contact the Economic Development team at EconDev@cathedralcity.gov. \nCVWBC.ORG | (833) 379-0019 \nCathedral City’s IGNITE Program is made possible through the Coachella Valley Women’s Business Center and Riverside County Office of Economic Development.
URL:https://www.discovercathedralcity.com/event/cathedral-city-ignite-3/2025-10-16/
LOCATION:CA
CATEGORIES:Community Events,Financial
ATTACH;FMTTYPE=image/jpeg:https://www.discovercathedralcity.com/wp-content/uploads/2025/09/image-1.jpg
END:VEVENT
BEGIN:VEVENT
DTSTART;TZID=America/Los_Angeles:20251023T130000
DTEND;TZID=America/Los_Angeles:20251023T160000
DTSTAMP:20260423T155813
CREATED:20250925T185449Z
LAST-MODIFIED:20250925T185449Z
UID:10007164-1761224400-1761235200@www.discovercathedralcity.com
SUMMARY:Cathedral City IGNITE
DESCRIPTION:Cathedral City’s IGNITE Program proudly offers various bilingual business resources no matter what stage your business is at. From starting a business to expanding one and everything in-between\, Cathedral City can help you spark your business’s next move. After selecting an appointment slot\, you will receive a confirmation email. For any questions\, please contact the Economic Development team at EconDev@cathedralcity.gov. \nCVWBC.ORG | (833) 379-0019 \nCathedral City’s IGNITE Program is made possible through the Coachella Valley Women’s Business Center and Riverside County Office of Economic Development.
URL:https://www.discovercathedralcity.com/event/cathedral-city-ignite-3/2025-10-23/
LOCATION:CA
CATEGORIES:Community Events,Financial
ATTACH;FMTTYPE=image/jpeg:https://www.discovercathedralcity.com/wp-content/uploads/2025/09/image-1.jpg
END:VEVENT
BEGIN:VEVENT
DTSTART;TZID=America/Los_Angeles:20251030T130000
DTEND;TZID=America/Los_Angeles:20251030T160000
DTSTAMP:20260423T155813
CREATED:20250925T185449Z
LAST-MODIFIED:20250925T185449Z
UID:10007165-1761829200-1761840000@www.discovercathedralcity.com
SUMMARY:Cathedral City IGNITE
DESCRIPTION:Cathedral City’s IGNITE Program proudly offers various bilingual business resources no matter what stage your business is at. From starting a business to expanding one and everything in-between\, Cathedral City can help you spark your business’s next move. After selecting an appointment slot\, you will receive a confirmation email. For any questions\, please contact the Economic Development team at EconDev@cathedralcity.gov. \nCVWBC.ORG | (833) 379-0019 \nCathedral City’s IGNITE Program is made possible through the Coachella Valley Women’s Business Center and Riverside County Office of Economic Development.
URL:https://www.discovercathedralcity.com/event/cathedral-city-ignite-3/2025-10-30/
LOCATION:CA
CATEGORIES:Community Events,Financial
ATTACH;FMTTYPE=image/jpeg:https://www.discovercathedralcity.com/wp-content/uploads/2025/09/image-1.jpg
END:VEVENT
BEGIN:VEVENT
DTSTART;TZID=America/Los_Angeles:20251106T130000
DTEND;TZID=America/Los_Angeles:20251106T160000
DTSTAMP:20260423T155813
CREATED:20250925T185449Z
LAST-MODIFIED:20250925T185449Z
UID:10007166-1762434000-1762444800@www.discovercathedralcity.com
SUMMARY:Cathedral City IGNITE
DESCRIPTION:Cathedral City’s IGNITE Program proudly offers various bilingual business resources no matter what stage your business is at. From starting a business to expanding one and everything in-between\, Cathedral City can help you spark your business’s next move. After selecting an appointment slot\, you will receive a confirmation email. For any questions\, please contact the Economic Development team at EconDev@cathedralcity.gov. \nCVWBC.ORG | (833) 379-0019 \nCathedral City’s IGNITE Program is made possible through the Coachella Valley Women’s Business Center and Riverside County Office of Economic Development.
URL:https://www.discovercathedralcity.com/event/cathedral-city-ignite-3/2025-11-06/
LOCATION:CA
CATEGORIES:Community Events,Financial
ATTACH;FMTTYPE=image/jpeg:https://www.discovercathedralcity.com/wp-content/uploads/2025/09/image-1.jpg
END:VEVENT
BEGIN:VEVENT
DTSTART;TZID=America/Los_Angeles:20251113T130000
DTEND;TZID=America/Los_Angeles:20251113T160000
DTSTAMP:20260423T155813
CREATED:20250925T185449Z
LAST-MODIFIED:20250925T185449Z
UID:10007167-1763038800-1763049600@www.discovercathedralcity.com
SUMMARY:Cathedral City IGNITE
DESCRIPTION:Cathedral City’s IGNITE Program proudly offers various bilingual business resources no matter what stage your business is at. From starting a business to expanding one and everything in-between\, Cathedral City can help you spark your business’s next move. After selecting an appointment slot\, you will receive a confirmation email. For any questions\, please contact the Economic Development team at EconDev@cathedralcity.gov. \nCVWBC.ORG | (833) 379-0019 \nCathedral City’s IGNITE Program is made possible through the Coachella Valley Women’s Business Center and Riverside County Office of Economic Development.
URL:https://www.discovercathedralcity.com/event/cathedral-city-ignite-3/2025-11-13/
LOCATION:CA
CATEGORIES:Community Events,Financial
ATTACH;FMTTYPE=image/jpeg:https://www.discovercathedralcity.com/wp-content/uploads/2025/09/image-1.jpg
END:VEVENT
BEGIN:VEVENT
DTSTART;TZID=America/Los_Angeles:20251120T130000
DTEND;TZID=America/Los_Angeles:20251120T160000
DTSTAMP:20260423T155813
CREATED:20250925T185449Z
LAST-MODIFIED:20250925T185449Z
UID:10007168-1763643600-1763654400@www.discovercathedralcity.com
SUMMARY:Cathedral City IGNITE
DESCRIPTION:Cathedral City’s IGNITE Program proudly offers various bilingual business resources no matter what stage your business is at. From starting a business to expanding one and everything in-between\, Cathedral City can help you spark your business’s next move. After selecting an appointment slot\, you will receive a confirmation email. For any questions\, please contact the Economic Development team at EconDev@cathedralcity.gov. \nCVWBC.ORG | (833) 379-0019 \nCathedral City’s IGNITE Program is made possible through the Coachella Valley Women’s Business Center and Riverside County Office of Economic Development.
URL:https://www.discovercathedralcity.com/event/cathedral-city-ignite-3/2025-11-20/
LOCATION:CA
CATEGORIES:Community Events,Financial
ATTACH;FMTTYPE=image/jpeg:https://www.discovercathedralcity.com/wp-content/uploads/2025/09/image-1.jpg
END:VEVENT
END:VCALENDAR