BEGIN:VCALENDAR
VERSION:2.0
PRODID:-//Discover Cathedral City - ECPv6.15.13//NONSGML v1.0//EN
CALSCALE:GREGORIAN
METHOD:PUBLISH
X-ORIGINAL-URL:https://www.discovercathedralcity.com
X-WR-CALDESC:Events for Discover Cathedral City
REFRESH-INTERVAL;VALUE=DURATION:PT1H
X-Robots-Tag:noindex
X-PUBLISHED-TTL:PT1H
BEGIN:VTIMEZONE
TZID:America/Los_Angeles
BEGIN:DAYLIGHT
TZOFFSETFROM:-0800
TZOFFSETTO:-0700
TZNAME:PDT
DTSTART:20220313T100000
END:DAYLIGHT
BEGIN:STANDARD
TZOFFSETFROM:-0700
TZOFFSETTO:-0800
TZNAME:PST
DTSTART:20221106T090000
END:STANDARD
BEGIN:DAYLIGHT
TZOFFSETFROM:-0800
TZOFFSETTO:-0700
TZNAME:PDT
DTSTART:20230312T100000
END:DAYLIGHT
BEGIN:STANDARD
TZOFFSETFROM:-0700
TZOFFSETTO:-0800
TZNAME:PST
DTSTART:20231105T090000
END:STANDARD
BEGIN:DAYLIGHT
TZOFFSETFROM:-0800
TZOFFSETTO:-0700
TZNAME:PDT
DTSTART:20240310T100000
END:DAYLIGHT
BEGIN:STANDARD
TZOFFSETFROM:-0700
TZOFFSETTO:-0800
TZNAME:PST
DTSTART:20241103T090000
END:STANDARD
END:VTIMEZONE
BEGIN:VEVENT
DTSTART;TZID=America/Los_Angeles:20230402T120000
DTEND;TZID=America/Los_Angeles:20230402T160000
DTSTAMP:20260423T050333
CREATED:20230309T190120Z
LAST-MODIFIED:20230309T190159Z
UID:10004113-1680436800-1680451200@www.discovercathedralcity.com
SUMMARY:11th Annual Sammy's International Meatball Festival
DESCRIPTION:WHEN & WHERE\nSunday\, April 2\, 2023 – 12:00 pm- 4:OO pm\nBoth In-person & Virtual\nBoys & Girls Club of Cathedral City\n32141 Whispering Palms Trail\nCathedral City\, CA 92234 \nVIRTUAL: Monday\, March 13-Saturday\, April 1\, 2023\nat: www.bgcccity.org
URL:https://www.discovercathedralcity.com/event/11th-annual-sammys-international-meatball-festival/
LOCATION:Cathedral City Boys & Girls Club\, 32141 Whispering Palms Trail\, Cathedral City\, CA\, 92234\, United States
CATEGORIES:Boys & Girls Club of Cathedral City Event,Community Events,Food
ATTACH;FMTTYPE=image/jpeg:https://www.discovercathedralcity.com/wp-content/uploads/2023/03/2023-Meatball-Festival-Flyer_Page_11.jpg
GEO:33.8152848;-116.4716919
X-APPLE-STRUCTURED-LOCATION;VALUE=URI;X-ADDRESS=Cathedral City Boys & Girls Club 32141 Whispering Palms Trail Cathedral City CA 92234 United States;X-APPLE-RADIUS=500;X-TITLE=32141 Whispering Palms Trail:geo:-116.4716919,33.8152848
END:VEVENT
BEGIN:VEVENT
DTSTART;TZID=America/Los_Angeles:20230419T170000
DTEND;TZID=America/Los_Angeles:20230419T200000
DTSTAMP:20260423T050333
CREATED:20230329T145800Z
LAST-MODIFIED:20230412T180552Z
UID:10004141-1681923600-1681934400@www.discovercathedralcity.com
SUMMARY:Dinner with Patsi
DESCRIPTION:Join Dinner with Patsi at Tony’s Burgers\, Wednesday\, Apr. 19\, between 5pm-8 pm. \nPhone 760-832-7794. Located at 35903 Date Palm Dr\, Cathedral City\, CA 92234. \nPatsi will be there to pass her Red Hat. Donations go towards the Cathedral City High School Performing Art. They will also be collecting food items for the Cathedral City Senior Center Food Bank.
URL:https://www.discovercathedralcity.com/event/dinner-with-patsi-3/
LOCATION:Tony’s Burgers\, 35903 Date Palm Dr.\, Cathedral City\, CA\, 92234\, United States
CATEGORIES:Charity,Food
ATTACH;FMTTYPE=image/jpeg:https://www.discovercathedralcity.com/wp-content/uploads/2023/03/2023.jpg
ORGANIZER;CN="Dinner with Patsi":MAILTO:dinnerwithpatsi@gmail.com
GEO:33.7885626;-116.459095
X-APPLE-STRUCTURED-LOCATION;VALUE=URI;X-ADDRESS=Tony’s Burgers 35903 Date Palm Dr. Cathedral City CA 92234 United States;X-APPLE-RADIUS=500;X-TITLE=35903 Date Palm Dr.:geo:-116.459095,33.7885626
END:VEVENT
BEGIN:VEVENT
DTSTART;TZID=America/Los_Angeles:20230429T110000
DTEND;TZID=America/Los_Angeles:20230429T150000
DTSTAMP:20260423T050333
CREATED:20230418T203537Z
LAST-MODIFIED:20230418T203538Z
UID:10004145-1682766000-1682780400@www.discovercathedralcity.com
SUMMARY:Food Drive and Open House
DESCRIPTION:April 29th\, 2023\n11 AM – 3 PM\nExplore Senior Center\nPrograms and activities \nVisit with:\n11 AM – 1 PM- Cathedral City Police\n1 PM – 3 PM- Cathedral City Fire Dept \nItems Urgently Needed \n\nPasta\nPasta Sauce\nMac and Cheese\nPeanut Butter\nCanned Fruit\nTuna\nSoup\nOatmeal
URL:https://www.discovercathedralcity.com/event/food-drive-and-open-house/
LOCATION:Cathedral City Senior Center\, 37171 W. Buddy Rogers Avenue\, Cathedral City\, CA\, 92234\, United States
CATEGORIES:Charity,Community Events,Food,Health,Senior
ATTACH;FMTTYPE=image/png:https://www.discovercathedralcity.com/wp-content/uploads/2023/04/Food-Drive-Signs-PNG.png
GEO:33.7787774;-116.4646519
X-APPLE-STRUCTURED-LOCATION;VALUE=URI;X-ADDRESS=Cathedral City Senior Center 37171 W. Buddy Rogers Avenue Cathedral City CA 92234 United States;X-APPLE-RADIUS=500;X-TITLE=37171 W. Buddy Rogers Avenue:geo:-116.4646519,33.7787774
END:VEVENT
END:VCALENDAR