BEGIN:VCALENDAR
VERSION:2.0
PRODID:-//Discover Cathedral City - ECPv6.15.13//NONSGML v1.0//EN
CALSCALE:GREGORIAN
METHOD:PUBLISH
X-WR-CALNAME:Discover Cathedral City
X-ORIGINAL-URL:https://www.discovercathedralcity.com
X-WR-CALDESC:Events for Discover Cathedral City
REFRESH-INTERVAL;VALUE=DURATION:PT1H
X-Robots-Tag:noindex
X-PUBLISHED-TTL:PT1H
BEGIN:VTIMEZONE
TZID:America/Los_Angeles
BEGIN:DAYLIGHT
TZOFFSETFROM:-0800
TZOFFSETTO:-0700
TZNAME:PDT
DTSTART:20220313T100000
END:DAYLIGHT
BEGIN:STANDARD
TZOFFSETFROM:-0700
TZOFFSETTO:-0800
TZNAME:PST
DTSTART:20221106T090000
END:STANDARD
BEGIN:DAYLIGHT
TZOFFSETFROM:-0800
TZOFFSETTO:-0700
TZNAME:PDT
DTSTART:20230312T100000
END:DAYLIGHT
BEGIN:STANDARD
TZOFFSETFROM:-0700
TZOFFSETTO:-0800
TZNAME:PST
DTSTART:20231105T090000
END:STANDARD
BEGIN:DAYLIGHT
TZOFFSETFROM:-0800
TZOFFSETTO:-0700
TZNAME:PDT
DTSTART:20240310T100000
END:DAYLIGHT
BEGIN:STANDARD
TZOFFSETFROM:-0700
TZOFFSETTO:-0800
TZNAME:PST
DTSTART:20241103T090000
END:STANDARD
END:VTIMEZONE
BEGIN:VEVENT
DTSTART;TZID=America/Los_Angeles:20230920T170000
DTEND;TZID=America/Los_Angeles:20230920T200000
DTSTAMP:20260420T180410
CREATED:20230831T200848Z
LAST-MODIFIED:20230831T200848Z
UID:10005090-1695229200-1695240000@www.discovercathedralcity.com
SUMMARY:Dinner with Patsi - September
DESCRIPTION:Join Dinner with Patsi at The Barrel District\, on Wednesday\, September 20th\, between 5 pm-8 pm. \nPhone 760-537-7431. Located at 35939 Date Palm Drive\, Cathedral City\, CA 92234. \nPatsi will be there to pass her Red Hat. Donations go towards the Cathedral City Professional Firefighters Association. \nThey will also collect food items for the Cathedral City Senior Center Food Bank.
URL:https://www.discovercathedralcity.com/event/dinner-with-patsi-september/
LOCATION:The Barrel District\, 35939 Date Palm Drive\, Cathedral City\, CA\, 92234\, United States
CATEGORIES:Food,Senior
ATTACH;FMTTYPE=image/png:https://www.discovercathedralcity.com/wp-content/uploads/2023/08/2023.09-CCFD-@-Barrel-District-flyer.png
ORGANIZER;CN="Dinner with Patsi":MAILTO:dinnerwithpatsi@gmail.com
GEO:33.7876549;-116.4592104
X-APPLE-STRUCTURED-LOCATION;VALUE=URI;X-ADDRESS=The Barrel District 35939 Date Palm Drive Cathedral City CA 92234 United States;X-APPLE-RADIUS=500;X-TITLE=35939 Date Palm Drive:geo:-116.4592104,33.7876549
END:VEVENT
END:VCALENDAR