BEGIN:VCALENDAR
VERSION:2.0
PRODID:-//Discover Cathedral City - ECPv6.15.13//NONSGML v1.0//EN
CALSCALE:GREGORIAN
METHOD:PUBLISH
X-ORIGINAL-URL:https://www.discovercathedralcity.com
X-WR-CALDESC:Events for Discover Cathedral City
REFRESH-INTERVAL;VALUE=DURATION:PT1H
X-Robots-Tag:noindex
X-PUBLISHED-TTL:PT1H
BEGIN:VTIMEZONE
TZID:America/Los_Angeles
BEGIN:DAYLIGHT
TZOFFSETFROM:-0800
TZOFFSETTO:-0700
TZNAME:PDT
DTSTART:20220313T100000
END:DAYLIGHT
BEGIN:STANDARD
TZOFFSETFROM:-0700
TZOFFSETTO:-0800
TZNAME:PST
DTSTART:20221106T090000
END:STANDARD
BEGIN:DAYLIGHT
TZOFFSETFROM:-0800
TZOFFSETTO:-0700
TZNAME:PDT
DTSTART:20230312T100000
END:DAYLIGHT
BEGIN:STANDARD
TZOFFSETFROM:-0700
TZOFFSETTO:-0800
TZNAME:PST
DTSTART:20231105T090000
END:STANDARD
BEGIN:DAYLIGHT
TZOFFSETFROM:-0800
TZOFFSETTO:-0700
TZNAME:PDT
DTSTART:20240310T100000
END:DAYLIGHT
BEGIN:STANDARD
TZOFFSETFROM:-0700
TZOFFSETTO:-0800
TZNAME:PST
DTSTART:20241103T090000
END:STANDARD
END:VTIMEZONE
BEGIN:VEVENT
DTSTART;TZID=America/Los_Angeles:20231018T080000
DTEND;TZID=America/Los_Angeles:20231018T170000
DTSTAMP:20260420T160400
CREATED:20230928T231434Z
LAST-MODIFIED:20230928T231434Z
UID:10005094-1697616000-1697648400@www.discovercathedralcity.com
SUMMARY:Dinner With Patsi - October
DESCRIPTION:Join Dinner with Patsi at Meester Zebra Restaurant\, on Wednesday\, October 18th\, between 5 pm-8 pm. \nPhone (760) 459-3325. Located at 68703 Perez Rd\, Ste A-1\, Cathedral City\, CA 92234. \nThis event will help Dinner With Patsi with behind-the-scenes expenses that help us raise money for our great non-profits (i.e. banners\, posters\, registrations\, licensing fees\, website\, etc) \nThey will also collect food items for the Cathedral City Senior Center Food Bank.
URL:https://www.discovercathedralcity.com/event/dinner-with-patsi-october/
LOCATION:Meester Zebra Restauarant\, 68703 Perez Rd\, Suite A-1\, Cathedral City\, CA\, 92234\, United States
CATEGORIES:Charity,Community Events,Food,Senior
ATTACH;FMTTYPE=image/jpeg:https://www.discovercathedralcity.com/wp-content/uploads/2023/09/2023.10-DWP-@-Meester-Zebra-flyer.jpg
ORGANIZER;CN="Dinner with Patsi":MAILTO:dinnerwithpatsi@gmail.com
GEO:33.7836307;-116.4637394
X-APPLE-STRUCTURED-LOCATION;VALUE=URI;X-ADDRESS=Meester Zebra Restauarant 68703 Perez Rd Suite A-1 Cathedral City CA 92234 United States;X-APPLE-RADIUS=500;X-TITLE=68703 Perez Rd\, Suite A-1:geo:-116.4637394,33.7836307
END:VEVENT
BEGIN:VEVENT
DTSTART;TZID=America/Los_Angeles:20231029T120000
DTEND;TZID=America/Los_Angeles:20231029T150000
DTSTAMP:20260420T160400
CREATED:20230406T172709Z
LAST-MODIFIED:20231004T173926Z
UID:10004142-1698580800-1698591600@www.discovercathedralcity.com
SUMMARY:Halloween Spooktacular
DESCRIPTION:Presented by State Farm Agent\, Phil Goodge \n\n\n\n\n\n\n\nCathedral City’s Halloween Spooktacular features trick or treating with over 50\,000 pieces of candy!  Join friends\, neighbors\, and family for a Spooktacular time including activities such as Halloween costume contests (two bikes given away each hour)\, police and fire exhibitions\, music\, and family games. \nHalloween Spooktacular provides you with information about the police and fire departments\, to view special demonstrations\, and get to know the men and women who serve you on a daily basis.  Free admission. Free parking. \n\n\n\n\n\n\n\n\n\n \n\n\n\n\n\n\n\n\n\n\n\n\nFor Sponsorship Opportunities\, contact: \nEric Davis\, City of Cathedral City (760) 770-0340\, Ext. 134\nSponsorshipSpecialist@cathedralcity.gov
URL:https://www.discovercathedralcity.com/event/halloween-spooktacular-2023/
LOCATION:Cathedral City Civic Center Plaza\, 68700 Avenida Lalo Guerrero\, Cathedral City\, CA\, 92234\, United States
CATEGORIES:Children Activities,Community Events,Food,Music
ATTACH;FMTTYPE=image/jpeg:https://www.discovercathedralcity.com/wp-content/uploads/2023/04/Spooktacular2023-letter-2-e1696441387801.jpg
GEO:33.7814432;-116.464137
X-APPLE-STRUCTURED-LOCATION;VALUE=URI;X-ADDRESS=Cathedral City Civic Center Plaza 68700 Avenida Lalo Guerrero Cathedral City CA 92234 United States;X-APPLE-RADIUS=500;X-TITLE=68700 Avenida Lalo Guerrero:geo:-116.464137,33.7814432
END:VEVENT
END:VCALENDAR