BEGIN:VCALENDAR
VERSION:2.0
PRODID:-//Discover Cathedral City - ECPv6.15.13//NONSGML v1.0//EN
CALSCALE:GREGORIAN
METHOD:PUBLISH
X-WR-CALNAME:Discover Cathedral City
X-ORIGINAL-URL:https://www.discovercathedralcity.com
X-WR-CALDESC:Events for Discover Cathedral City
REFRESH-INTERVAL;VALUE=DURATION:PT1H
X-Robots-Tag:noindex
X-PUBLISHED-TTL:PT1H
BEGIN:VTIMEZONE
TZID:America/Los_Angeles
BEGIN:DAYLIGHT
TZOFFSETFROM:-0800
TZOFFSETTO:-0700
TZNAME:PDT
DTSTART:20220313T100000
END:DAYLIGHT
BEGIN:STANDARD
TZOFFSETFROM:-0700
TZOFFSETTO:-0800
TZNAME:PST
DTSTART:20221106T090000
END:STANDARD
BEGIN:DAYLIGHT
TZOFFSETFROM:-0800
TZOFFSETTO:-0700
TZNAME:PDT
DTSTART:20230312T100000
END:DAYLIGHT
BEGIN:STANDARD
TZOFFSETFROM:-0700
TZOFFSETTO:-0800
TZNAME:PST
DTSTART:20231105T090000
END:STANDARD
BEGIN:DAYLIGHT
TZOFFSETFROM:-0800
TZOFFSETTO:-0700
TZNAME:PDT
DTSTART:20240310T100000
END:DAYLIGHT
BEGIN:STANDARD
TZOFFSETFROM:-0700
TZOFFSETTO:-0800
TZNAME:PST
DTSTART:20241103T090000
END:STANDARD
END:VTIMEZONE
BEGIN:VEVENT
DTSTART;TZID=America/Los_Angeles:20231115T080000
DTEND;TZID=America/Los_Angeles:20231115T170000
DTSTAMP:20260420T140639
CREATED:20231108T212315Z
LAST-MODIFIED:20231114T182315Z
UID:10005119-1700035200-1700067600@www.discovercathedralcity.com
SUMMARY:Dinner With Patsi - November
DESCRIPTION:Join Dinner with Patsi at Brunch 101\, on Wednesday\, November 15th\, between 5 pm-8 pm. \nPhone (760) 507-8464. Located at 68718 E. Palm Canyon\, Cathedral City\, CA 92234. \nPatsi will be there to pass her Red Hat. Donations go towards the Cathedral City Senior Center. \nThey will also collect food items for the Cathedral City Senior Center Food Bank.
URL:https://www.discovercathedralcity.com/event/dinner-with-patsi-november/
LOCATION:Brunch 101\, 68718 E. Palm Canyon Dr.\, Cathedral City\, CA\, 92234\, United States
CATEGORIES:Charity,Community Events,Food,Senior
ATTACH;FMTTYPE=image/png:https://www.discovercathedralcity.com/wp-content/uploads/2023/11/2023.11-CCSC-@-Brunch-101-flyer-e1703003795111.png
ORGANIZER;CN="Dinner with Patsi":MAILTO:dinnerwithpatsi@gmail.com
GEO:33.779804;-116.463094
X-APPLE-STRUCTURED-LOCATION;VALUE=URI;X-ADDRESS=Brunch 101 68718 E. Palm Canyon Dr. Cathedral City CA 92234 United States;X-APPLE-RADIUS=500;X-TITLE=68718 E. Palm Canyon Dr.:geo:-116.463094,33.779804
END:VEVENT
BEGIN:VEVENT
DTSTART;TZID=America/Los_Angeles:20231117T080000
DTEND;TZID=America/Los_Angeles:20231119T220000
DTSTAMP:20260420T140639
CREATED:20230608T161112Z
LAST-MODIFIED:20231017T170324Z
UID:10005058-1700208000-1700431200@www.discovercathedralcity.com
SUMMARY:Cathedral City International Hot Air Balloon Festival
DESCRIPTION:Agua Caliente Casinos\, the award-winning premier destination for entertainment in the Coachella Valley\, is proud to present the 9th Annual Cathedral City International Hot Air Balloon Festival & Food Truck Fiesta\, taking place on Friday\, November 17 – Sunday\, November 19\, 2023\, in Cathedral City. The official kick-off begins with the balloon launch from Agua Caliente Resort Casino Spa Rancho Mirage on Friday\, November 17 at sunrise. \nThe Food Truck Fiesta takes place Friday evening and the following\, Saturday\, November 18\, at the Cathedral City Amphitheater. The fiesta will feature a dozen food truck vendors from all over Southern California\, a beer garden\, tethered balloon rides\, a car show\, kid zones\, live music\, and more. \nFor sponsorship opportunities\, please get in touch with Sponsorship Specialist Eric Davis at (760) 600-0661 OR SponsorshipSpecialist@cathedralcity.gov. The City of Cathedral City thanks our special event sponsors\, volunteers\, business community\, and city staff for making these events come to life.
URL:https://www.discovercathedralcity.com/event/cathedral-city-international-hot-air-balloon-festival/
LOCATION:Downtown Cathedral City\, 68700 Avenida Lalo Guerrero\, Cathedral City\, CA\, 92234\, United States
CATEGORIES:Community Events,Food,Performing Arts
ATTACH;FMTTYPE=image/jpeg:https://www.discovercathedralcity.com/wp-content/uploads/2023/10/CCIHABF23_letter.jpg
ORGANIZER;CN="Fantasy Balloon Flights":MAILTO:hotairballoonfest@gmail.com
GEO:33.7814067;-116.4640621
X-APPLE-STRUCTURED-LOCATION;VALUE=URI;X-ADDRESS=Downtown Cathedral City 68700 Avenida Lalo Guerrero Cathedral City CA 92234 United States;X-APPLE-RADIUS=500;X-TITLE=68700 Avenida Lalo Guerrero:geo:-116.4640621,33.7814067
END:VEVENT
BEGIN:VEVENT
DTSTART;TZID=America/Los_Angeles:20231128T120000
DTEND;TZID=America/Los_Angeles:20231128T140000
DTSTAMP:20260420T140639
CREATED:20231115T015203Z
LAST-MODIFIED:20231115T015636Z
UID:10005120-1701172800-1701180000@www.discovercathedralcity.com
SUMMARY:Vending Permitting Fair
DESCRIPTION:11/28/2023 \nPanorama Park\n12 pm – 2 pm\n \nThe City of Cathedral City will be waiving all Vendor Permit fees during the fair. \nCounty of Riverside Environmental Health will be on-site to conduct cart inspections and pass out applications and informational packets. \nThere will be several other stakeholders attending the event that will help guide vendor applicants to a path of success. \n\nFeria de Permisos de Ventas \n11/28/2023 \nParque Panorama\n12 pm – 2 pm \nLa ciudad de Cathedral City renunciará a todas las tarifas de Permisos de Vendedores durante la feria. \nEl Departamento de Salud Ambiental del Condado de Riverside estará en el sitio para realizar inspecciones de Carritos de Comida y distribuir formularios de solicitud y paquetes informativos. \nHabrá varios otros contribuidores que asistirán al evento y ayudarán a guiar a los vendedores hacia el camino al éxito.
URL:https://www.discovercathedralcity.com/event/vending-permitting-fair/
LOCATION:Panorama Park\, 28905 Avenida Maravilla\, Cathedral City\, CA\, 92234\, United States
CATEGORIES:Food,Health
ATTACH;FMTTYPE=image/jpeg:https://www.discovercathedralcity.com/wp-content/uploads/2023/11/Vendor-Permitting-Fair.jpg
GEO:33.8400854;-116.4669059
X-APPLE-STRUCTURED-LOCATION;VALUE=URI;X-ADDRESS=Panorama Park 28905 Avenida Maravilla Cathedral City CA 92234 United States;X-APPLE-RADIUS=500;X-TITLE=28905 Avenida Maravilla:geo:-116.4669059,33.8400854
END:VEVENT
END:VCALENDAR