BEGIN:VCALENDAR
VERSION:2.0
PRODID:-//Discover Cathedral City - ECPv6.15.13//NONSGML v1.0//EN
CALSCALE:GREGORIAN
METHOD:PUBLISH
X-ORIGINAL-URL:https://www.discovercathedralcity.com
X-WR-CALDESC:Events for Discover Cathedral City
REFRESH-INTERVAL;VALUE=DURATION:PT1H
X-Robots-Tag:noindex
X-PUBLISHED-TTL:PT1H
BEGIN:VTIMEZONE
TZID:America/Los_Angeles
BEGIN:DAYLIGHT
TZOFFSETFROM:-0800
TZOFFSETTO:-0700
TZNAME:PDT
DTSTART:20230312T100000
END:DAYLIGHT
BEGIN:STANDARD
TZOFFSETFROM:-0700
TZOFFSETTO:-0800
TZNAME:PST
DTSTART:20231105T090000
END:STANDARD
BEGIN:DAYLIGHT
TZOFFSETFROM:-0800
TZOFFSETTO:-0700
TZNAME:PDT
DTSTART:20240310T100000
END:DAYLIGHT
BEGIN:STANDARD
TZOFFSETFROM:-0700
TZOFFSETTO:-0800
TZNAME:PST
DTSTART:20241103T090000
END:STANDARD
BEGIN:DAYLIGHT
TZOFFSETFROM:-0800
TZOFFSETTO:-0700
TZNAME:PDT
DTSTART:20250309T100000
END:DAYLIGHT
BEGIN:STANDARD
TZOFFSETFROM:-0700
TZOFFSETTO:-0800
TZNAME:PST
DTSTART:20251102T090000
END:STANDARD
END:VTIMEZONE
BEGIN:VEVENT
DTSTART;TZID=America/Los_Angeles:20240914T160000
DTEND;TZID=America/Los_Angeles:20240914T230000
DTSTAMP:20260419T195644
CREATED:20240912T210920Z
LAST-MODIFIED:20240912T210921Z
UID:10005628-1726329600-1726354800@www.discovercathedralcity.com
SUMMARY:MiChavela Festival 2024
DESCRIPTION:GOLDEN SMOKE SHOP PRESENTS MiChavela Festival 2024! \nThe Coachella Valley’s very own MiChavela Festival is back and is expanding into the Cathedral City Amphitheater for a BIGGER experience! Celebrating Mexican Independence Day! We are bringing you an incredible lineup of entertainment! \nPerforming live on stage: \n\nAldo Trujillo\nBanda Vallarta Show\nRubyana “Selena Tribute”\nGrupo Mando\nMariachi Estrella\nDJ MarkuzArea\nAlong with live Lucha Libre Wrestling! Carnival games for the family and kids!\nWe are bringing back the Classic Lowrider Car show! Hosted by Big Red Chula!\nWe are adding a FULL BAR & BEER GARDEN! Powered by Luchador Brewing Company! Along with some amazing Miche vendors\, Mexican street food vendors\, and much more!\n\nEarly bird passes go on sale Wednesday\, July 31st at 12pm PST. GA Passes are available and include: \n\nAdmission into the festival\nAccess to public GA areas\nView of the main stage\nAccess to GA food and bars\nAccess to local vendors\nAccess to sponsored experiences\nVIP Passes are available and include:\nEverything that GA comes with\nVIP entry and front of the line access\n2 complimentary drinks\nVIP access to the VIP area ( food\, bar\, lounge area )\nFront row to concert\n\nThis is a family friendly event. 17 and under requires an adult 18+ for entry into the festival. 21+ to drink. AGES 12 AND UNDER ARE FREE!!
URL:https://www.discovercathedralcity.com/event/michavela-festival-2024/
LOCATION:Cathedral City Community Amphitheater\, 68526 Avenida Lalo Guerrero\, Cathedral City\, CA\, 92234\, United States
CATEGORIES:Children Activities,Community Events,Food,Latino,Music,Performing Arts
ATTACH;FMTTYPE=image/jpeg:https://www.discovercathedralcity.com/wp-content/uploads/2024/09/Mi-Chavela-Fest-Poster.jpg
GEO:33.7813769;-116.4655492
X-APPLE-STRUCTURED-LOCATION;VALUE=URI;X-ADDRESS=Cathedral City Community Amphitheater 68526 Avenida Lalo Guerrero Cathedral City CA 92234 United States;X-APPLE-RADIUS=500;X-TITLE=68526 Avenida Lalo Guerrero:geo:-116.4655492,33.7813769
END:VEVENT
BEGIN:VEVENT
DTSTART;TZID=America/Los_Angeles:20240918T170000
DTEND;TZID=America/Los_Angeles:20240918T200000
DTSTAMP:20260419T195644
CREATED:20240829T212139Z
LAST-MODIFIED:20240905T223250Z
UID:10005613-1726678800-1726689600@www.discovercathedralcity.com
SUMMARY:Dinner with Patsi - September
DESCRIPTION:Join Dinner with Patsi at Barrel District\, on Wednesday\, September 18th\, between 5 pm-8 pm. \nPhone (760) 537-7431. Located at 35939 Date Palm Drive\, Cathedral City\, CA\, 92234. \nPatsi will be there to pass her Red Hat. Donations go towards CCPFA. \nThey will also collect food items for the Cathedral City Senior Center Food Bank.
URL:https://www.discovercathedralcity.com/event/dinner-with-patsi-september-2/
LOCATION:The Barrel District\, 35939 Date Palm Drive\, Cathedral City\, CA\, 92234\, United States
CATEGORIES:Food,Recycling,Senior
ATTACH;FMTTYPE=image/png:https://www.discovercathedralcity.com/wp-content/uploads/2024/08/2024.09-DWP-CC-PFA-@-Barrel-District-flyer.png
ORGANIZER;CN="Dinner with Patsi":MAILTO:dinnerwithpatsi@gmail.com
GEO:33.7876549;-116.4592104
X-APPLE-STRUCTURED-LOCATION;VALUE=URI;X-ADDRESS=The Barrel District 35939 Date Palm Drive Cathedral City CA 92234 United States;X-APPLE-RADIUS=500;X-TITLE=35939 Date Palm Drive:geo:-116.4592104,33.7876549
END:VEVENT
BEGIN:VEVENT
DTSTART;TZID=America/Los_Angeles:20240922T090000
DTEND;TZID=America/Los_Angeles:20240922T110000
DTSTAMP:20260419T195644
CREATED:20240912T212700Z
LAST-MODIFIED:20240919T152519Z
UID:10005629-1726995600-1727002800@www.discovercathedralcity.com
SUMMARY:Fire Boots\, Brews\, and Chews
DESCRIPTION:🚒🍩 Join us for “Fire Boots\, Brews\, and Chews!” 🚒☕️ \nCathedral City Fire Department is hosting a morning filled with coffee\, donuts\, and a chance to chat with our amazing firefighters! 👩‍🚒👨‍🚒 \n📅 Date: September 22\, 2024\n⏰ Time: 9:00 AM – 11:00 AM\n📍 Location: Fire Station 2\, 32100 Desert Vista Rd\, Cathedral City\, CA 92234 \nCome down to enjoy some treats\, meet your local heroes\, and learn more about how they keep our community safe! 🔥👢 \n#FireBootsBrewsAndChews #CathedralCityFire #CommunityEvent #CoffeeAndDonuts #MeetYourFirefighters #CathedralCityEvents
URL:https://www.discovercathedralcity.com/event/fire-boots-brews-and-chews/
LOCATION:Fire Station #2\, 32-100 Desert Vista Road\, Cathedral City\, CA\, 92234\, United States
CATEGORIES:Community Events,Food,Public Safety
ATTACH;FMTTYPE=image/jpeg:https://www.discovercathedralcity.com/wp-content/uploads/2024/09/Boots-Brews-and-Chews-092224.jpg
GEO:33.8149746;-116.4612962
X-APPLE-STRUCTURED-LOCATION;VALUE=URI;X-ADDRESS=Fire Station #2 32-100 Desert Vista Road Cathedral City CA 92234 United States;X-APPLE-RADIUS=500;X-TITLE=32-100 Desert Vista Road:geo:-116.4612962,33.8149746
END:VEVENT
END:VCALENDAR