BEGIN:VCALENDAR
VERSION:2.0
PRODID:-//Discover Cathedral City - ECPv6.15.13//NONSGML v1.0//EN
CALSCALE:GREGORIAN
METHOD:PUBLISH
X-WR-CALNAME:Discover Cathedral City
X-ORIGINAL-URL:https://www.discovercathedralcity.com
X-WR-CALDESC:Events for Discover Cathedral City
REFRESH-INTERVAL;VALUE=DURATION:PT1H
X-Robots-Tag:noindex
X-PUBLISHED-TTL:PT1H
BEGIN:VTIMEZONE
TZID:America/Los_Angeles
BEGIN:DAYLIGHT
TZOFFSETFROM:-0800
TZOFFSETTO:-0700
TZNAME:PDT
DTSTART:20240310T100000
END:DAYLIGHT
BEGIN:STANDARD
TZOFFSETFROM:-0700
TZOFFSETTO:-0800
TZNAME:PST
DTSTART:20241103T090000
END:STANDARD
BEGIN:DAYLIGHT
TZOFFSETFROM:-0800
TZOFFSETTO:-0700
TZNAME:PDT
DTSTART:20250309T100000
END:DAYLIGHT
BEGIN:STANDARD
TZOFFSETFROM:-0700
TZOFFSETTO:-0800
TZNAME:PST
DTSTART:20251102T090000
END:STANDARD
BEGIN:DAYLIGHT
TZOFFSETFROM:-0800
TZOFFSETTO:-0700
TZNAME:PDT
DTSTART:20260308T100000
END:DAYLIGHT
BEGIN:STANDARD
TZOFFSETFROM:-0700
TZOFFSETTO:-0800
TZNAME:PST
DTSTART:20261101T090000
END:STANDARD
END:VTIMEZONE
BEGIN:VEVENT
DTSTART;TZID=America/Los_Angeles:20250301T130000
DTEND;TZID=America/Los_Angeles:20250301T160000
DTSTAMP:20260419T100202
CREATED:20250213T193343Z
LAST-MODIFIED:20250213T193750Z
UID:10005781-1740834000-1740844800@www.discovercathedralcity.com
SUMMARY:2nd Annual  Desert BrewFest 2025 – Presented by Luchador Brewing Co.
DESCRIPTION:📅 Saturday\, March 1\, 2025\n📍 Cathedral City\, CA\n🕛 VIP: 12 PM – 4 PM\n🕐 General Admission: 1 PM – 4 PM \nJoin us for an unforgettable day filled with: \n\nUnlimited Beer Tastings\nTaco Tickets\nLive Lucha Libre Wrestling\nDJ & Music\nGames\, Raffles\, and Vendor Booths\nFree access to the After Party!\n\n🎟️ Ticket Options: \nVIP Admission – $85 (+taxes & fees)\nIncludes early access at 12 PM\, unlimited tastings\, a special edition cup\, and 4 taco tickets! \nGeneral Admission – $65 (+taxes & fees)\nIncludes unlimited tastings\, a special edition cup\, and 3 taco tickets. \nDesignated Driver – $35 (+taxes & fees)\nIncludes 2 taco tickets. \n🚨 Ticket prices increase by $10 on event day (if still available)\, so get yours now! \n👉 Tickets & More Info: www.LuchadorBrew.com \nA portion of ticket sales will be donated to Cathedral City & Palm Springs Fire Foundations. \nDon’t miss this epic day of beer\, tacos\, and wrestling fun! 💪🍻🌮
URL:https://www.discovercathedralcity.com/event/2nd-annual-desert-brewfest-2025-presented-by-luchador-brewing-co/
LOCATION:Luchador Brewing Company\, 68510 E. Palm Canyon Dr.\, Cathedral City\, CA\, 92234\, United States
CATEGORIES:Charity,Food,Music
ATTACH;FMTTYPE=image/jpeg:https://www.discovercathedralcity.com/wp-content/uploads/2025/02/DBF.jpg
GEO:33.7807898;-116.4660698
X-APPLE-STRUCTURED-LOCATION;VALUE=URI;X-ADDRESS=Luchador Brewing Company 68510 E. Palm Canyon Dr. Cathedral City CA 92234 United States;X-APPLE-RADIUS=500;X-TITLE=68510 E. Palm Canyon Dr.:geo:-116.4660698,33.7807898
END:VEVENT
BEGIN:VEVENT
DTSTART;TZID=America/Los_Angeles:20250304T173000
DTEND;TZID=America/Los_Angeles:20250304T193000
DTSTAMP:20260419T100202
CREATED:20250107T220247Z
LAST-MODIFIED:20250301T043153Z
UID:10005698-1741109400-1741116600@www.discovercathedralcity.com
SUMMARY:Tastes & Sounds of Cathedral City - LGBT Days Kickoff
DESCRIPTION:LGBT+ Days Kick-Off\nPresented by GED MAGAZINE\n \nBe a part of kicking off 2025’s first Pride in California! Join us for the fabulous TASTE & SOUNDS of Cathedral City on Tuesday\, March 4\, 2025\, from 5:30 PM to 7:30 PM for GED Magazine’s Drag Spectacular to launch Cathedral City LGBT+ Days. \nBest of all\, this spectacular event in the Cathedral City Amphitheater is absolutely FREE! Plus\, you can Bring Your Own Beverage (BYOB) and sip while you take in these queens’ amazing performances! \nStarring the fabulous Queen of the Desert\, Ethylina Canne\, alongside the incredible RuPaul’s Drag Race Star\, Jasmine Masters! Don’t miss out on local celebrity favorites Athena Kills\, Aria S. Williams\, and the hottest new queen to hit the scene\, Teresa Giuacoochie! \nWe’re looking forward to seeing you all there. \nAgain this is a FREE EVENT! With food to purchase from Uncle D’s Smokehouse BBQ & Grill. \nAnd for more on Cathedral City LGBT+ Days\, please visit\nhttps://www.cathedralcitylgbtdays.com. \n\nIndulge in a weekly feast for the senses at\nImmerse yourself in a musical and culinary adventure like no other. \nJoin us in Downtown Cathedral City every week from\nFebruary 11 to April 8\, 2025\nand savor the flavors\, rhythms\, and talents of our vibrant community! \nCommunity Amphitheater
URL:https://www.discovercathedralcity.com/event/tastes-sounds-of-cathedral-city-lgbt-days-kickoff/
LOCATION:Cathedral City Community Amphitheater\, 68526 Avenida Lalo Guerrero\, Cathedral City\, CA\, 92234\, United States
CATEGORIES:Concert,Food,LGBT,Music
ATTACH;FMTTYPE=image/jpeg:https://www.discovercathedralcity.com/wp-content/uploads/2025/01/GED-LGBT-Days-Kickoff-SQ.jpg
GEO:33.7813769;-116.4655492
X-APPLE-STRUCTURED-LOCATION;VALUE=URI;X-ADDRESS=Cathedral City Community Amphitheater 68526 Avenida Lalo Guerrero Cathedral City CA 92234 United States;X-APPLE-RADIUS=500;X-TITLE=68526 Avenida Lalo Guerrero:geo:-116.4655492,33.7813769
END:VEVENT
BEGIN:VEVENT
DTSTART;TZID=America/Los_Angeles:20250311T173000
DTEND;TZID=America/Los_Angeles:20250311T193000
DTSTAMP:20260419T100202
CREATED:20250106T172138Z
LAST-MODIFIED:20250311T152452Z
UID:10005689-1741714200-1741721400@www.discovercathedralcity.com
SUMMARY:Tastes & Sounds of Cathedral City - Giselle Woo and the Night Owls
DESCRIPTION:Rescheduled\nGiselle Woo & The Night Owls are a rock band hailing from the Coachella Valley in California. They describe their sound as “Chicano desert rock\,” blending elements of blues\, psychedelia\, and the spacey guitar riffs characteristic of desert rock. Fronted by Cathedral City native Giselle Woo\, who provides both English and Spanish in her raw yet melodic vocals\, the band incorporates her local roots into their music. The band’s lineup consists of Giselle Woo on vocals and rhythm guitar\, Christian Colin on lead guitar\, Marco Murietta on bass\, and José Ceja on drums. Formed in 2018\, Giselle Woo & The Night Owls have become a staple in the Greater Palm Springs music scene. They’ve performed at notable events such as the Joshua Tree Music Festival and Coachella\, gaining recognition for their single “Coachella Gold\,” released on an EP in 2019. \n \nFree Admission\, Food for Purchase \n\nFood provided by: \n\nFat Boy Tacos And Catering \n\nIndulge in a weekly feast for the senses at\nImmerse yourself in a musical and culinary adventure like no other. \nJoin us in Downtown Cathedral City every week from\nFebruary 11 to April 15\, 2025\nand savor the flavors\, rhythms\, and talents of our vibrant community!
URL:https://www.discovercathedralcity.com/event/tastes-sounds-of-cathedral-city-giselle-woo-and-the-night-owls-2/
LOCATION:Cathedral City Community Amphitheater\, 68526 Avenida Lalo Guerrero\, Cathedral City\, CA\, 92234\, United States
CATEGORIES:Community Events,Concert,Food,Music,Performing Arts
ATTACH;FMTTYPE=image/jpeg:https://www.discovercathedralcity.com/wp-content/uploads/2025/01/TAS25-JiselleWoore.jpg
GEO:33.7813769;-116.4655492
X-APPLE-STRUCTURED-LOCATION;VALUE=URI;X-ADDRESS=Cathedral City Community Amphitheater 68526 Avenida Lalo Guerrero Cathedral City CA 92234 United States;X-APPLE-RADIUS=500;X-TITLE=68526 Avenida Lalo Guerrero:geo:-116.4655492,33.7813769
END:VEVENT
BEGIN:VEVENT
DTSTART;TZID=America/Los_Angeles:20250315T090000
DTEND;TZID=America/Los_Angeles:20250315T150000
DTSTAMP:20260419T100202
CREATED:20250227T162905Z
LAST-MODIFIED:20250227T162905Z
UID:10005795-1742029200-1742050800@www.discovercathedralcity.com
SUMMARY:Community Food Drive at Grocery Outlet
DESCRIPTION:Date: Saturday\, March 15\, 2025\nTime: 9:00 AM – 3:00 PM\nLocation: Grocery Outlet Bargain Market\n30025 Date Palm Dr\, Cathedral City\, CA \nJoin us for a community food drive benefiting the Cathedral City Senior Center Food Bank. This is your opportunity to help support seniors and others in need within our community by donating non-perishable food items. \nThe event will be held at the Grocery Outlet Bargain Market in Cathedral City\, where volunteers will be collecting donations throughout the day. All collected items will go directly to the Cathedral City Senior Center Food Bank to help address food insecurity among local residents. \nEvery donation makes a difference! Please consider participating in this important community event and give to those in need. \nFor more information:\nCathedral City Senior Center\n37171 W. Buddy Rogers Ave\, Cathedral City CA 92234\nPhone: 760-321-1548\nWebsite: www.cathedralcenter.org \nYou can also follow the Cathedral City Senior Center on Facebook for updates and additional information.
URL:https://www.discovercathedralcity.com/event/community-food-drive-at-grocery-outlet/
LOCATION:Grocery Outlet\, 30025 Date Palm Drive\, Cathedral City\, CA\, 92234\, United States
CATEGORIES:Charity,Food,Health,Senior
ATTACH;FMTTYPE=image/jpeg:https://www.discovercathedralcity.com/wp-content/uploads/2025/02/2025.03-Food-Drive.jpg
GEO:33.8294394;-116.4588295
X-APPLE-STRUCTURED-LOCATION;VALUE=URI;X-ADDRESS=Grocery Outlet 30025 Date Palm Drive Cathedral City CA 92234 United States;X-APPLE-RADIUS=500;X-TITLE=30025 Date Palm Drive:geo:-116.4588295,33.8294394
END:VEVENT
BEGIN:VEVENT
DTSTART;TZID=America/Los_Angeles:20250318T173000
DTEND;TZID=America/Los_Angeles:20250318T193000
DTSTAMP:20260419T100202
CREATED:20241218T161913Z
LAST-MODIFIED:20250312T000813Z
UID:10005678-1742319000-1742326200@www.discovercathedralcity.com
SUMMARY:Tastes & Sounds of Cathedral City - Radio Ready
DESCRIPTION:Southern California’s premiere\, popular dance band Radio Ready is stacked with some of the most talented musicians from the Los Angeles\, Palm Springs & Orange County area who embrace everything from 1940s jazz standards to today’s hottest dance music\, bringing a unique sound of their own. With lead vocalists featured on Fox’s American Idol and the renowned\, family-friendly Disney Channel\, you can count on a professionalism that commands the stage. In addition\, their crowd-pleasing and widely sought-after instrumentalists are just as impressive. This super-group of young professionals is here to take the country – and your event – by storm with their fun\, interactive audience-friendly show that will have you up on your feet and Ready for Radio Ready! \nFree Admission\, Food for Purchase \n\nFood provided by:\n\n \nTKB Food Truck \n\nIndulge in a weekly feast for the senses at\nImmerse yourself in a musical and culinary adventure like no other. \nJoin us in Downtown Cathedral City every week from\nFebruary 11 to April 8\, 2025\nand savor the flavors\, rhythms\, and talents of our vibrant community!
URL:https://www.discovercathedralcity.com/event/tastes-sounds-of-cathedral-city-radio-ready-2/
LOCATION:Cathedral City Community Amphitheater\, 68526 Avenida Lalo Guerrero\, Cathedral City\, CA\, 92234\, United States
CATEGORIES:Community Events,Concert,Food,Music,Performing Arts
ATTACH;FMTTYPE=image/jpeg:https://www.discovercathedralcity.com/wp-content/uploads/2025/01/TAS25-RadioReady-1.jpg
GEO:33.7813769;-116.4655492
X-APPLE-STRUCTURED-LOCATION;VALUE=URI;X-ADDRESS=Cathedral City Community Amphitheater 68526 Avenida Lalo Guerrero Cathedral City CA 92234 United States;X-APPLE-RADIUS=500;X-TITLE=68526 Avenida Lalo Guerrero:geo:-116.4655492,33.7813769
END:VEVENT
BEGIN:VEVENT
DTSTART;TZID=America/Los_Angeles:20250325T173000
DTEND;TZID=America/Los_Angeles:20250325T193000
DTSTAMP:20260419T100202
CREATED:20250107T222225Z
LAST-MODIFIED:20250312T000727Z
UID:10005699-1742923800-1742931000@www.discovercathedralcity.com
SUMMARY:Tastes & Sounds of Cathedral City - CCHS Band & Choir
DESCRIPTION:More information Coming Soon\nFree Admission\, Food for Purchase \n\nFood provided by:\n \nMeester Zebra Restaurant \n\nIndulge in a weekly feast for the senses at\nImmerse yourself in a musical and culinary adventure like no other. \nJoin us in Downtown Cathedral City every week from\nFebruary 11 to April 8\, 2025\nand savor the flavors\, rhythms\, and talents of our vibrant community!
URL:https://www.discovercathedralcity.com/event/tastes-sounds-of-cathedral-city-cchs-band-choir/
LOCATION:Cathedral City Community Amphitheater\, 68526 Avenida Lalo Guerrero\, Cathedral City\, CA\, 92234\, United States
CATEGORIES:Community Events,Concert,Food,Music,Performing Arts
ATTACH;FMTTYPE=image/jpeg:https://www.discovercathedralcity.com/wp-content/uploads/2025/01/TAS25C-CCHS.jpg
GEO:33.7813769;-116.4655492
X-APPLE-STRUCTURED-LOCATION;VALUE=URI;X-ADDRESS=Cathedral City Community Amphitheater 68526 Avenida Lalo Guerrero Cathedral City CA 92234 United States;X-APPLE-RADIUS=500;X-TITLE=68526 Avenida Lalo Guerrero:geo:-116.4655492,33.7813769
END:VEVENT
END:VCALENDAR