BEGIN:VCALENDAR
VERSION:2.0
PRODID:-//Discover Cathedral City - ECPv6.15.13//NONSGML v1.0//EN
CALSCALE:GREGORIAN
METHOD:PUBLISH
X-ORIGINAL-URL:https://www.discovercathedralcity.com
X-WR-CALDESC:Events for Discover Cathedral City
REFRESH-INTERVAL;VALUE=DURATION:PT1H
X-Robots-Tag:noindex
X-PUBLISHED-TTL:PT1H
BEGIN:VTIMEZONE
TZID:America/Los_Angeles
BEGIN:DAYLIGHT
TZOFFSETFROM:-0800
TZOFFSETTO:-0700
TZNAME:PDT
DTSTART:20180311T100000
END:DAYLIGHT
BEGIN:STANDARD
TZOFFSETFROM:-0700
TZOFFSETTO:-0800
TZNAME:PST
DTSTART:20181104T090000
END:STANDARD
BEGIN:DAYLIGHT
TZOFFSETFROM:-0800
TZOFFSETTO:-0700
TZNAME:PDT
DTSTART:20190310T100000
END:DAYLIGHT
BEGIN:STANDARD
TZOFFSETFROM:-0700
TZOFFSETTO:-0800
TZNAME:PST
DTSTART:20191103T090000
END:STANDARD
BEGIN:DAYLIGHT
TZOFFSETFROM:-0800
TZOFFSETTO:-0700
TZNAME:PDT
DTSTART:20200308T100000
END:DAYLIGHT
BEGIN:STANDARD
TZOFFSETFROM:-0700
TZOFFSETTO:-0800
TZNAME:PST
DTSTART:20201101T090000
END:STANDARD
END:VTIMEZONE
BEGIN:VEVENT
DTSTART;TZID=America/Los_Angeles:20190913T090000
DTEND;TZID=America/Los_Angeles:20190913T120000
DTSTAMP:20260425T141902
CREATED:20190905T225600Z
LAST-MODIFIED:20190905T225600Z
UID:10003333-1568365200-1568376000@www.discovercathedralcity.com
SUMMARY:Cathedral City Senior Center Hosts A Health & Wellness Fair
DESCRIPTION:The Cathedral City Senior Center is hosting the first of the season Health & Wellness Fairs for Seniors.   The event is Friday\, Sept. 13 from 9 am to 12 noon.  No cost flu shots with most insurances for Senior Citizens will be provided by Walgreens to those who attend as well as blood pressure checks and other health related offerings. \nIn addition\, over 30 table top exhibitors will be on hand to provide information about their products or services.  \n         The Cathedral City Senior Center is a nonprofit organization – 501 (c)(3) and is located at 37-171 West Buddy Rogers Ave. in Cathedral City\, CA 92234.  Call 760-321-1548 for more information.
URL:https://www.discovercathedralcity.com/event/cathedral-city-senior-center-hosts-a-health-wellness-fair-2/
LOCATION:Cathedral City Senior Center\, 37171 W. Buddy Rogers Avenue\, Cathedral City\, CA\, 92234\, United States
CATEGORIES:Community Events,Health,Senior
ATTACH;FMTTYPE=image/jpeg:https://www.discovercathedralcity.com/wp-content/uploads/2019/09/Flyer-2019-Health-Fair.jpg
GEO:33.7787774;-116.4646519
X-APPLE-STRUCTURED-LOCATION;VALUE=URI;X-ADDRESS=Cathedral City Senior Center 37171 W. Buddy Rogers Avenue Cathedral City CA 92234 United States;X-APPLE-RADIUS=500;X-TITLE=37171 W. Buddy Rogers Avenue:geo:-116.4646519,33.7787774
END:VEVENT
END:VCALENDAR