BEGIN:VCALENDAR
VERSION:2.0
PRODID:-//Discover Cathedral City - ECPv6.15.13//NONSGML v1.0//EN
CALSCALE:GREGORIAN
METHOD:PUBLISH
X-ORIGINAL-URL:https://www.discovercathedralcity.com
X-WR-CALDESC:Events for Discover Cathedral City
REFRESH-INTERVAL;VALUE=DURATION:PT1H
X-Robots-Tag:noindex
X-PUBLISHED-TTL:PT1H
BEGIN:VTIMEZONE
TZID:America/Los_Angeles
BEGIN:DAYLIGHT
TZOFFSETFROM:-0800
TZOFFSETTO:-0700
TZNAME:PDT
DTSTART:20220313T100000
END:DAYLIGHT
BEGIN:STANDARD
TZOFFSETFROM:-0700
TZOFFSETTO:-0800
TZNAME:PST
DTSTART:20221106T090000
END:STANDARD
BEGIN:DAYLIGHT
TZOFFSETFROM:-0800
TZOFFSETTO:-0700
TZNAME:PDT
DTSTART:20230312T100000
END:DAYLIGHT
BEGIN:STANDARD
TZOFFSETFROM:-0700
TZOFFSETTO:-0800
TZNAME:PST
DTSTART:20231105T090000
END:STANDARD
BEGIN:DAYLIGHT
TZOFFSETFROM:-0800
TZOFFSETTO:-0700
TZNAME:PDT
DTSTART:20240310T100000
END:DAYLIGHT
BEGIN:STANDARD
TZOFFSETFROM:-0700
TZOFFSETTO:-0800
TZNAME:PST
DTSTART:20241103T090000
END:STANDARD
END:VTIMEZONE
BEGIN:VEVENT
DTSTART;TZID=America/Los_Angeles:20230422T110000
DTEND;TZID=America/Los_Angeles:20230422T120000
DTSTAMP:20260419T224642
CREATED:20230418T220959Z
LAST-MODIFIED:20230418T221000Z
UID:10004148-1682161200-1682164800@www.discovercathedralcity.com
SUMMARY:Healing Sounds for the Planet Sound Bath
DESCRIPTION:HEALING SOUNDS FOR THE PLANET SOUND BATH \nExperience the healing benefits of Tibetan crystal\n“singing bowls” \nEarth Day 2023\nApril 22nd\, 11 am-12 pm\nCall 760-321-1548 to reserve your spot!\nBring a Yoga mat\, blanket\, and/or pillow\nDonations accepted (shared with instructor and Senior Center) \nwww.simeondenwellness.com/about
URL:https://www.discovercathedralcity.com/event/healing-sounds-for-the-planet-sound-bath/
LOCATION:Cathedral City Senior Center\, 37171 W. Buddy Rogers Avenue\, Cathedral City\, CA\, 92234\, United States
CATEGORIES:Health,Senior
ATTACH;FMTTYPE=image/jpeg:https://www.discovercathedralcity.com/wp-content/uploads/2023/04/Sound-Bath.jpg
GEO:33.7787774;-116.4646519
X-APPLE-STRUCTURED-LOCATION;VALUE=URI;X-ADDRESS=Cathedral City Senior Center 37171 W. Buddy Rogers Avenue Cathedral City CA 92234 United States;X-APPLE-RADIUS=500;X-TITLE=37171 W. Buddy Rogers Avenue:geo:-116.4646519,33.7787774
END:VEVENT
BEGIN:VEVENT
DTSTART;TZID=America/Los_Angeles:20230426T090000
DTEND;TZID=America/Los_Angeles:20230426T110000
DTSTAMP:20260419T224642
CREATED:20230418T221736Z
LAST-MODIFIED:20230418T221736Z
UID:10004149-1682499600-1682506800@www.discovercathedralcity.com
SUMMARY:Vaccine Day
DESCRIPTION:Vaccine Day\nPneumonia and Shingles Vaccines\nwith Rite Aid \nWed\, April 26\n9-11 am\nCall 760-321-1548 to pre-register \nPlease bring your identification and Medicare and/or other insurance cards
URL:https://www.discovercathedralcity.com/event/vaccine-day/
LOCATION:Cathedral City Senior Center\, 37171 W. Buddy Rogers Avenue\, Cathedral City\, CA\, 92234\, United States
CATEGORIES:Health,Senior
ATTACH;FMTTYPE=image/jpeg:https://www.discovercathedralcity.com/wp-content/uploads/2023/04/Vaccine-Day-4-26.jpg
GEO:33.7787774;-116.4646519
X-APPLE-STRUCTURED-LOCATION;VALUE=URI;X-ADDRESS=Cathedral City Senior Center 37171 W. Buddy Rogers Avenue Cathedral City CA 92234 United States;X-APPLE-RADIUS=500;X-TITLE=37171 W. Buddy Rogers Avenue:geo:-116.4646519,33.7787774
END:VEVENT
BEGIN:VEVENT
DTSTART;TZID=America/Los_Angeles:20230429T110000
DTEND;TZID=America/Los_Angeles:20230429T150000
DTSTAMP:20260419T224642
CREATED:20230418T203537Z
LAST-MODIFIED:20230418T203538Z
UID:10004145-1682766000-1682780400@www.discovercathedralcity.com
SUMMARY:Food Drive and Open House
DESCRIPTION:April 29th\, 2023\n11 AM – 3 PM\nExplore Senior Center\nPrograms and activities \nVisit with:\n11 AM – 1 PM- Cathedral City Police\n1 PM – 3 PM- Cathedral City Fire Dept \nItems Urgently Needed \n\nPasta\nPasta Sauce\nMac and Cheese\nPeanut Butter\nCanned Fruit\nTuna\nSoup\nOatmeal
URL:https://www.discovercathedralcity.com/event/food-drive-and-open-house/
LOCATION:Cathedral City Senior Center\, 37171 W. Buddy Rogers Avenue\, Cathedral City\, CA\, 92234\, United States
CATEGORIES:Charity,Community Events,Food,Health,Senior
ATTACH;FMTTYPE=image/png:https://www.discovercathedralcity.com/wp-content/uploads/2023/04/Food-Drive-Signs-PNG.png
GEO:33.7787774;-116.4646519
X-APPLE-STRUCTURED-LOCATION;VALUE=URI;X-ADDRESS=Cathedral City Senior Center 37171 W. Buddy Rogers Avenue Cathedral City CA 92234 United States;X-APPLE-RADIUS=500;X-TITLE=37171 W. Buddy Rogers Avenue:geo:-116.4646519,33.7787774
END:VEVENT
END:VCALENDAR