BEGIN:VCALENDAR
VERSION:2.0
PRODID:-//Discover Cathedral City - ECPv6.15.13//NONSGML v1.0//EN
CALSCALE:GREGORIAN
METHOD:PUBLISH
X-ORIGINAL-URL:https://www.discovercathedralcity.com
X-WR-CALDESC:Events for Discover Cathedral City
REFRESH-INTERVAL;VALUE=DURATION:PT1H
X-Robots-Tag:noindex
X-PUBLISHED-TTL:PT1H
BEGIN:VTIMEZONE
TZID:America/Los_Angeles
BEGIN:DAYLIGHT
TZOFFSETFROM:-0800
TZOFFSETTO:-0700
TZNAME:PDT
DTSTART:20210314T100000
END:DAYLIGHT
BEGIN:STANDARD
TZOFFSETFROM:-0700
TZOFFSETTO:-0800
TZNAME:PST
DTSTART:20211107T090000
END:STANDARD
BEGIN:DAYLIGHT
TZOFFSETFROM:-0800
TZOFFSETTO:-0700
TZNAME:PDT
DTSTART:20220313T100000
END:DAYLIGHT
BEGIN:STANDARD
TZOFFSETFROM:-0700
TZOFFSETTO:-0800
TZNAME:PST
DTSTART:20221106T090000
END:STANDARD
BEGIN:DAYLIGHT
TZOFFSETFROM:-0800
TZOFFSETTO:-0700
TZNAME:PDT
DTSTART:20230312T100000
END:DAYLIGHT
BEGIN:STANDARD
TZOFFSETFROM:-0700
TZOFFSETTO:-0800
TZNAME:PST
DTSTART:20231105T090000
END:STANDARD
END:VTIMEZONE
BEGIN:VEVENT
DTSTART;TZID=America/Los_Angeles:20221029T170000
DTEND;TZID=America/Los_Angeles:20221029T220000
DTSTAMP:20260424T044423
CREATED:20210816T230827Z
LAST-MODIFIED:20210816T230827Z
UID:10003482-1667062800-1667080800@www.discovercathedralcity.com
SUMMARY:Tejano Music Festival
DESCRIPTION:Tejano PowerHouse Entertainment\, City of Cathedral City and Diaz Enterprises invites you to the rescheduled 4th annual Tejano Music Fest in Cathedral City featuring the best Tejano music\, fiesta food and spirits on Saturday\, October 29\, 2022 from 5 pm to 10 pm at our new location\, the Cathedral City Community Amphitheater\, 68526 Avenida Lalo Guerrero\, in Cathedral City\, California.  The festival will feature a night of Grammy Award Winning Bands including Rick Fuentes and the Brown Express\, Hugo Guerrero\, as well as other awarding-winning bands such as Tejano Highway 281\, and local Tejano favorite Chalito Zapata y Los Traviesos. Just Added! Hector Gonzalez\, formally of the 2 G’s\, making his comeback and start of his solo career. \n                                                      \nReserved tables for eight people are available at www.TejanoMusicFest.com.  VIP Tables for eight are $160 (comes to $20 per person) and Tejano Tables for Eight are $140 (comes to $17.50 per person). \n \nTejano music brings together various forms of folk and popular music originating among the Mexican-American populations of Texas.  It has the essence of both English and Spanish lyrics and a mix of pop\, country and polka music. \nBesides the music and dance\, attendees will have an opportunity to enjoy Tejano-inspired food and beverages\, and shop from local merchandisers. \nThe festival offers a limited number of tickets for reserved tables for those who want a guaranteed seat between dances.  Reserved tables are not necessary as the music festival is a free event being offered by the City of Cathedral City.  For those not purchasing a reserved table\, there will be areas for you to bring a lawn chair or blanket to sit in the Conjunto section. \nFor more information\, go to www.TejanoMusicFest.com.
URL:https://www.discovercathedralcity.com/event/tejano-music-festival-2/
LOCATION:Cathedral City Community Amphitheater\, 68526 Avenida Lalo Guerrero\, Cathedral City\, CA\, 92234\, United States
CATEGORIES:Community Events,Latino,Music
ATTACH;FMTTYPE=image/jpeg:https://www.discovercathedralcity.com/wp-content/uploads/2021/08/TMF22_poster-3.jpg
GEO:33.7813769;-116.4655492
X-APPLE-STRUCTURED-LOCATION;VALUE=URI;X-ADDRESS=Cathedral City Community Amphitheater 68526 Avenida Lalo Guerrero Cathedral City CA 92234 United States;X-APPLE-RADIUS=500;X-TITLE=68526 Avenida Lalo Guerrero:geo:-116.4655492,33.7813769
END:VEVENT
END:VCALENDAR