BEGIN:VCALENDAR
VERSION:2.0
PRODID:-//Discover Cathedral City - ECPv6.15.13//NONSGML v1.0//EN
CALSCALE:GREGORIAN
METHOD:PUBLISH
X-WR-CALNAME:Discover Cathedral City
X-ORIGINAL-URL:https://www.discovercathedralcity.com
X-WR-CALDESC:Events for Discover Cathedral City
REFRESH-INTERVAL;VALUE=DURATION:PT1H
X-Robots-Tag:noindex
X-PUBLISHED-TTL:PT1H
BEGIN:VTIMEZONE
TZID:America/Los_Angeles
BEGIN:DAYLIGHT
TZOFFSETFROM:-0800
TZOFFSETTO:-0700
TZNAME:PDT
DTSTART:20230312T100000
END:DAYLIGHT
BEGIN:STANDARD
TZOFFSETFROM:-0700
TZOFFSETTO:-0800
TZNAME:PST
DTSTART:20231105T090000
END:STANDARD
BEGIN:DAYLIGHT
TZOFFSETFROM:-0800
TZOFFSETTO:-0700
TZNAME:PDT
DTSTART:20240310T100000
END:DAYLIGHT
BEGIN:STANDARD
TZOFFSETFROM:-0700
TZOFFSETTO:-0800
TZNAME:PST
DTSTART:20241103T090000
END:STANDARD
BEGIN:DAYLIGHT
TZOFFSETFROM:-0800
TZOFFSETTO:-0700
TZNAME:PDT
DTSTART:20250309T100000
END:DAYLIGHT
BEGIN:STANDARD
TZOFFSETFROM:-0700
TZOFFSETTO:-0800
TZNAME:PST
DTSTART:20251102T090000
END:STANDARD
BEGIN:DAYLIGHT
TZOFFSETFROM:-0800
TZOFFSETTO:-0700
TZNAME:PDT
DTSTART:20260308T100000
END:DAYLIGHT
BEGIN:STANDARD
TZOFFSETFROM:-0700
TZOFFSETTO:-0800
TZNAME:PST
DTSTART:20261101T090000
END:STANDARD
BEGIN:DAYLIGHT
TZOFFSETFROM:-0800
TZOFFSETTO:-0700
TZNAME:PDT
DTSTART:20270314T100000
END:DAYLIGHT
BEGIN:STANDARD
TZOFFSETFROM:-0700
TZOFFSETTO:-0800
TZNAME:PST
DTSTART:20271107T090000
END:STANDARD
END:VTIMEZONE
BEGIN:VEVENT
DTSTART;TZID=America/Los_Angeles:20240204T000000
DTEND;TZID=America/Los_Angeles:20240204T210000
DTSTAMP:20260423T035017
CREATED:20231108T003904Z
LAST-MODIFIED:20231108T004017Z
UID:10005118-1707004800-1707080400@www.discovercathedralcity.com
SUMMARY:Taste of Jalisco
DESCRIPTION:Save the date to celebrate the sights\, sounds\, and tastes of the state of Jalisco\, Mexico at the 8th Annual Taste of Jalisco Festival presented by Agua Caliente Casinos\, to be held February 2 – 4\, 2024\, in downtown Cathedral City. This annual celebration honors the 27-year sister city relationship between Cathedral City and Tequila\, Jalisco (Mexico) through culture\, cuisine\, music\, and fashion. \nThe weekend includes a family-friendly carnival which has doubled in size from previous years\, artisan craft vendor market\, tequila tastings with a tequila tasting competition\, plus authentic Mexican cuisine and a Sunday car show. Daily entertainment at the Jalisco Community Stage will feature local and regional musical groups and acts celebrating Mexican art and culture. \nHeadlining this year’s festival is a live performance of the Legends of Lucha Libre Mexicana at 6 p.m. on both Saturday and Sunday nights. Lucha Libre has played an important role in Mexican culture since the late 1950s. The sport became famous mainly due to its masked wrestlers\, who incorporated their own family traditions\, beliefs\, and fears into the design of their masks\, transforming an ordinary person into a fearless character. \nSaturday’s wrestling matches feature Champion Tinieblas Jr. with Alushe along with PWR tag team champions Lucha Solos: Galeno Del Mal\, Super Astro Jr.\, Rey Leon\, Fatal\, and many more. Sunday evening’s performance will feature the women’s championship match of Keyra vs. Barones\, plus Solar\, Solar Jr\, Damian 666\, Bestia 666\, and White Tiger\, among others. Discounted presale tickets for the entertaining performances are available through November 20. \n“The Taste of Jalisco is one of our city’s signature events which we look forward to each year\,” said Cathedral City Mayor Rita Lamb. “It’s the perfect opportunity for people of all ages to come enjoy a fun-filled weekend and celebrate the connection with our sister city\, Tequila\, Jalisco. We also want to thank presenting sponsor Agua Caliente Casinos for their involvement and continued community support.” \nThe Sister City relationship was first established in 1996 when the two cities entered into a formal Sister Cities agreement. Since then\, exchanges between the Cities included art\, culture\, governmental best practices\, youth-focused educational opportunities\, donation of firefighting equipment\, and firefighter training\, among others. \nAdmission to the festival is pre-sale $4 per person – available online and $6 at the door (children under 5 free). Carnival rides\, wrestling show\, food\, and drink are additional fees. “Legends of Lucha Libre” tickets start at $16 pre-sale and are available at tasteofjalisco.com. VIP tickets which include a meet and greet\, and other benefits are also available. \nEvent hours are Friday from 5 to 11 p.m.\, Saturday noon to 11 p.m.\, and Sunday noon to 9 p.m. Festivities take place in downtown Cathedral City\, at 68600 East Palm Canyon Drive. Parking is free. For tickets and more information about the Taste of Jalisco Festival visit tasteofjalisco.com. \nABOUT A TASTE OF JALISCO FESTIVAL \nNow in its eighth year\, Taste of Jalisco Festival celebrates Cathedral City’s Sister City relationship with the City of Tequila in the state of Jalisco\, Mexico. The festival honors this relationship through music\, fashion\, culture\, spirits\, and cuisine. The Sister City relationship was first established in 1996 when the two cities entered into a formal Sister Cities agreement. Since then\, exchanges between the Cities included art\, culture\, governmental best practices\, youth-focused educational opportunities\, donation of firefighting equipment\, and firefighter training\, among others.
URL:https://www.discovercathedralcity.com/event/taste-of-jalisco/2024-02-04/
LOCATION:Downtown Cathedral City\, 68700 Avenida Lalo Guerrero\, Cathedral City\, CA\, 92234\, United States
CATEGORIES:Community Events,Concert,Food,History,Latino,Music,Performing Arts,Sporting Event
ATTACH;FMTTYPE=image/jpeg:https://www.discovercathedralcity.com/wp-content/uploads/2023/12/11x17_Taste-Of-Jalisco-Poster_resize-scaled-e1703003904949.jpg
ORGANIZER;CN="Soundskilz":MAILTO:info@soundskilz.com
GEO:33.7814067;-116.4640621
X-APPLE-STRUCTURED-LOCATION;VALUE=URI;X-ADDRESS=Downtown Cathedral City 68700 Avenida Lalo Guerrero Cathedral City CA 92234 United States;X-APPLE-RADIUS=500;X-TITLE=68700 Avenida Lalo Guerrero:geo:-116.4640621,33.7814067
END:VEVENT
BEGIN:VEVENT
DTSTART;TZID=America/Los_Angeles:20240914T160000
DTEND;TZID=America/Los_Angeles:20240914T230000
DTSTAMP:20260423T035017
CREATED:20240912T210920Z
LAST-MODIFIED:20240912T210921Z
UID:10005628-1726329600-1726354800@www.discovercathedralcity.com
SUMMARY:MiChavela Festival 2024
DESCRIPTION:GOLDEN SMOKE SHOP PRESENTS MiChavela Festival 2024! \nThe Coachella Valley’s very own MiChavela Festival is back and is expanding into the Cathedral City Amphitheater for a BIGGER experience! Celebrating Mexican Independence Day! We are bringing you an incredible lineup of entertainment! \nPerforming live on stage: \n\nAldo Trujillo\nBanda Vallarta Show\nRubyana “Selena Tribute”\nGrupo Mando\nMariachi Estrella\nDJ MarkuzArea\nAlong with live Lucha Libre Wrestling! Carnival games for the family and kids!\nWe are bringing back the Classic Lowrider Car show! Hosted by Big Red Chula!\nWe are adding a FULL BAR & BEER GARDEN! Powered by Luchador Brewing Company! Along with some amazing Miche vendors\, Mexican street food vendors\, and much more!\n\nEarly bird passes go on sale Wednesday\, July 31st at 12pm PST. GA Passes are available and include: \n\nAdmission into the festival\nAccess to public GA areas\nView of the main stage\nAccess to GA food and bars\nAccess to local vendors\nAccess to sponsored experiences\nVIP Passes are available and include:\nEverything that GA comes with\nVIP entry and front of the line access\n2 complimentary drinks\nVIP access to the VIP area ( food\, bar\, lounge area )\nFront row to concert\n\nThis is a family friendly event. 17 and under requires an adult 18+ for entry into the festival. 21+ to drink. AGES 12 AND UNDER ARE FREE!!
URL:https://www.discovercathedralcity.com/event/michavela-festival-2024/
LOCATION:Cathedral City Community Amphitheater\, 68526 Avenida Lalo Guerrero\, Cathedral City\, CA\, 92234\, United States
CATEGORIES:Children Activities,Community Events,Food,Latino,Music,Performing Arts
ATTACH;FMTTYPE=image/jpeg:https://www.discovercathedralcity.com/wp-content/uploads/2024/09/Mi-Chavela-Fest-Poster.jpg
GEO:33.7813769;-116.4655492
X-APPLE-STRUCTURED-LOCATION;VALUE=URI;X-ADDRESS=Cathedral City Community Amphitheater 68526 Avenida Lalo Guerrero Cathedral City CA 92234 United States;X-APPLE-RADIUS=500;X-TITLE=68526 Avenida Lalo Guerrero:geo:-116.4655492,33.7813769
END:VEVENT
BEGIN:VEVENT
DTSTART;TZID=America/Los_Angeles:20241014T120000
DTEND;TZID=America/Los_Angeles:20241014T140000
DTSTAMP:20260423T035017
CREATED:20241002T225507Z
LAST-MODIFIED:20241010T175300Z
UID:10005636-1728907200-1728914400@www.discovercathedralcity.com
SUMMARY:Hispanic Heritage Month Celebration
DESCRIPTION:📅 Date: Saturday\, October 14\, 2024\n🕒 Time: 12:00 PM – 9:00 PM\n📍 Location: Cathedral City Sr. Center \nJoin us for a vibrant celebration of Hispanic Heritage Month! Enjoy live music\, delicious Latin American cuisine\, cultural performances\, and family-friendly activities. This event will highlight the rich traditions and contributions of the Hispanic community\, with something for everyone to enjoy. Don’t miss out on this lively day of fun and culture!
URL:https://www.discovercathedralcity.com/event/hispanic-heritage-month-celebration/
LOCATION:Cathedral City Senior Center\, 37171 W. Buddy Rogers Avenue\, Cathedral City\, CA\, 92234\, United States
CATEGORIES:Community Events,History,Latino,Senior
ATTACH;FMTTYPE=image/jpeg:https://www.discovercathedralcity.com/wp-content/uploads/2024/10/Hispanic-Hertige-Month-Celebration-Flyer-4-1-1_Page_1.jpg
GEO:33.7787774;-116.4646519
X-APPLE-STRUCTURED-LOCATION;VALUE=URI;X-ADDRESS=Cathedral City Senior Center 37171 W. Buddy Rogers Avenue Cathedral City CA 92234 United States;X-APPLE-RADIUS=500;X-TITLE=37171 W. Buddy Rogers Avenue:geo:-116.4646519,33.7787774
END:VEVENT
BEGIN:VEVENT
DTSTART;TZID=America/Los_Angeles:20250131T170000
DTEND;TZID=America/Los_Angeles:20250131T230000
DTSTAMP:20260423T035017
CREATED:20250102T161237Z
LAST-MODIFIED:20250106T155704Z
UID:10005680-1738342800-1738364400@www.discovercathedralcity.com
SUMMARY:9th Annual Taste of Jalisco Festival
DESCRIPTION:Get ready to savor the spirit of Mexico at the Taste of Jalisco Festival in Cathedral City\, happening from January 31 to February 2\, 2025. This three-day extravaganza includes live entertainment\, fair & carnival\, an artisan market\, tequila tasting\, mouthwatering food\, and much more! \nHeadline Performances \n\nSaturday: Banda Maguey with Nacho Bustillos!\nSunday: Legends of Lucha Libre Live!\n\nGet Tickets \nFestival hours are Friday from 5 to 11 p.m.\, Saturday noon to 11 p.m.\, and Sunday noon to 9 p.m. with the carnival starting at 1 p.m. on both Saturday and Sunday. Festivities take place in downtown Cathedral City\, at 68600 East Palm Canyon Drive. Parking is free. For tickets and more information about the Taste of Jalisco Festival visit tasteofjalisco.com.
URL:https://www.discovercathedralcity.com/event/9th-annual-taste-of-jalisco-festival/2025-01-31/
LOCATION:Downtown Cathedral City\, 68700 Avenida Lalo Guerrero\, Cathedral City\, CA\, 92234\, United States
CATEGORIES:Community Events,History,Latino,Music,Performing Arts,Sporting Event
ATTACH;FMTTYPE=image/jpeg:https://www.discovercathedralcity.com/wp-content/uploads/2025/01/TOJ-e1736179007737.jpg
GEO:33.7814067;-116.4640621
X-APPLE-STRUCTURED-LOCATION;VALUE=URI;X-ADDRESS=Downtown Cathedral City 68700 Avenida Lalo Guerrero Cathedral City CA 92234 United States;X-APPLE-RADIUS=500;X-TITLE=68700 Avenida Lalo Guerrero:geo:-116.4640621,33.7814067
END:VEVENT
BEGIN:VEVENT
DTSTART;TZID=America/Los_Angeles:20250201T120000
DTEND;TZID=America/Los_Angeles:20250201T230000
DTSTAMP:20260423T035017
CREATED:20250102T161237Z
LAST-MODIFIED:20250106T155704Z
UID:10005681-1738411200-1738450800@www.discovercathedralcity.com
SUMMARY:9th Annual Taste of Jalisco Festival
DESCRIPTION:Get ready to savor the spirit of Mexico at the Taste of Jalisco Festival in Cathedral City\, happening from January 31 to February 2\, 2025. This three-day extravaganza includes live entertainment\, fair & carnival\, an artisan market\, tequila tasting\, mouthwatering food\, and much more! \nHeadline Performances \n\nSaturday: Banda Maguey with Nacho Bustillos!\nSunday: Legends of Lucha Libre Live!\n\nGet Tickets \nFestival hours are Friday from 5 to 11 p.m.\, Saturday noon to 11 p.m.\, and Sunday noon to 9 p.m. with the carnival starting at 1 p.m. on both Saturday and Sunday. Festivities take place in downtown Cathedral City\, at 68600 East Palm Canyon Drive. Parking is free. For tickets and more information about the Taste of Jalisco Festival visit tasteofjalisco.com.
URL:https://www.discovercathedralcity.com/event/9th-annual-taste-of-jalisco-festival/2025-02-01/
LOCATION:Downtown Cathedral City\, 68700 Avenida Lalo Guerrero\, Cathedral City\, CA\, 92234\, United States
CATEGORIES:Community Events,History,Latino,Music,Performing Arts,Sporting Event
ATTACH;FMTTYPE=image/jpeg:https://www.discovercathedralcity.com/wp-content/uploads/2025/01/TOJ-e1736179007737.jpg
GEO:33.7814067;-116.4640621
X-APPLE-STRUCTURED-LOCATION;VALUE=URI;X-ADDRESS=Downtown Cathedral City 68700 Avenida Lalo Guerrero Cathedral City CA 92234 United States;X-APPLE-RADIUS=500;X-TITLE=68700 Avenida Lalo Guerrero:geo:-116.4640621,33.7814067
END:VEVENT
BEGIN:VEVENT
DTSTART;TZID=America/Los_Angeles:20250202T120000
DTEND;TZID=America/Los_Angeles:20250202T210000
DTSTAMP:20260423T035017
CREATED:20250102T161237Z
LAST-MODIFIED:20250106T155704Z
UID:10005682-1738497600-1738530000@www.discovercathedralcity.com
SUMMARY:9th Annual Taste of Jalisco Festival
DESCRIPTION:Get ready to savor the spirit of Mexico at the Taste of Jalisco Festival in Cathedral City\, happening from January 31 to February 2\, 2025. This three-day extravaganza includes live entertainment\, fair & carnival\, an artisan market\, tequila tasting\, mouthwatering food\, and much more! \nHeadline Performances \n\nSaturday: Banda Maguey with Nacho Bustillos!\nSunday: Legends of Lucha Libre Live!\n\nGet Tickets \nFestival hours are Friday from 5 to 11 p.m.\, Saturday noon to 11 p.m.\, and Sunday noon to 9 p.m. with the carnival starting at 1 p.m. on both Saturday and Sunday. Festivities take place in downtown Cathedral City\, at 68600 East Palm Canyon Drive. Parking is free. For tickets and more information about the Taste of Jalisco Festival visit tasteofjalisco.com.
URL:https://www.discovercathedralcity.com/event/9th-annual-taste-of-jalisco-festival/2025-02-02/
LOCATION:Downtown Cathedral City\, 68700 Avenida Lalo Guerrero\, Cathedral City\, CA\, 92234\, United States
CATEGORIES:Community Events,History,Latino,Music,Performing Arts,Sporting Event
ATTACH;FMTTYPE=image/jpeg:https://www.discovercathedralcity.com/wp-content/uploads/2025/01/TOJ-e1736179007737.jpg
GEO:33.7814067;-116.4640621
X-APPLE-STRUCTURED-LOCATION;VALUE=URI;X-ADDRESS=Downtown Cathedral City 68700 Avenida Lalo Guerrero Cathedral City CA 92234 United States;X-APPLE-RADIUS=500;X-TITLE=68700 Avenida Lalo Guerrero:geo:-116.4640621,33.7814067
END:VEVENT
BEGIN:VEVENT
DTSTART;TZID=America/Los_Angeles:20250920T110000
DTEND;TZID=America/Los_Angeles:20250920T130000
DTSTAMP:20260423T035017
CREATED:20250821T174350Z
LAST-MODIFIED:20250828T173616Z
UID:10006696-1758366000-1758373200@www.discovercathedralcity.com
SUMMARY:Hispanic Heritage Month Block Party
DESCRIPTION:The City of Cathedral City and the Cathedral City Senior Center invite you to a vibrant celebration of Hispanic Heritage Month in the heart of our community. This special event brings together music\, dance\, food\, and valuable resources in a festive and family-friendly atmosphere. \nThe celebration kicks off at 11:00 AM with remarks from the Mayor and City Council\, followed by captivating performances from Ballet Folklórico and Mark Guerrero with his band. Guests can enjoy delicious food from local food trucks\, while exploring booths hosted by organizations dedicated to serving the Hispanic community\, including Forrest Lawn\, El Sol Neighborhood Education Center\, Read With Me\, and TODEC. \nThanks to the generous support of Forrest Lawn and Desert Recreation District (DRD)\, attendees can also enjoy engaging family activities such as the traditional Lotería game and hands-on craft stations. This event offers the perfect opportunity for residents to connect with local resources\, celebrate Hispanic culture\, and come together as a community. La Michoacana will be giving out free paletas to the first 100 people! \nWhether you come for the music\, the food\, the activities\, or the resources\, the Hispanic Heritage Month Block Party & Resource Fair promises an afternoon of joy\, culture\, and connection for all. \nEvent Details:\n• Date: Saturday\, September 20th\n• Time: 11:00 AM – 1:00 PM\n• Location: 68700 Ave Lalo Guerrero\, Cathedral City (City Hall)\n• Admission: Free\n• Food: Available for purchase from participating food trucks\n• Parking: Downtown parking available nearby
URL:https://www.discovercathedralcity.com/event/hispanic-heritage-month-block-party/
LOCATION:Cathedral City Civic Center Plaza\, 68700 Avenida Lalo Guerrero\, Cathedral City\, CA\, 92234\, United States
CATEGORIES:Community Events,History,Latino
ATTACH;FMTTYPE=image/jpeg:https://www.discovercathedralcity.com/wp-content/uploads/2025/08/Hispanic-Heritage-Month-Block-Party-IG-1.jpg
GEO:33.7814432;-116.464137
X-APPLE-STRUCTURED-LOCATION;VALUE=URI;X-ADDRESS=Cathedral City Civic Center Plaza 68700 Avenida Lalo Guerrero Cathedral City CA 92234 United States;X-APPLE-RADIUS=500;X-TITLE=68700 Avenida Lalo Guerrero:geo:-116.464137,33.7814432
END:VEVENT
BEGIN:VEVENT
DTSTART;TZID=America/Los_Angeles:20250920T133000
DTEND;TZID=America/Los_Angeles:20250920T143000
DTSTAMP:20260423T035017
CREATED:20250828T174401Z
LAST-MODIFIED:20250904T191048Z
UID:10006699-1758375000-1758378600@www.discovercathedralcity.com
SUMMARY:Documentary Screening of Lalo Guerrero: The Original Chicano
DESCRIPTION:Lalo Guerrero: The Original Chicano is an hour long documentary that celebrates the life and career of Lalo Guerrero\, while documenting the contemporary history of Mexican Americans through his music. Taped interviews with Linda Ronstadt\, Paul Rodriguez\, Edward James Olmos\, Ry Cooder\, UFW co-founder Dolores Huerta\, Cheech Marin and others\, will describe the influence and impact of Lalo’s music from a personal and professional point of view. \nTaped re-enactments and historic news footage illustrate the times he lived and the music he wrote.  Lalo\, himself\, tells his story as no one else can – with insight and humor.  Rare photographs from the Guerrero Family Trust and clips of both television and live performances complete the tapestry. \n“Lalo is the first great Chicano musical artist\, historian and social conscience of our community.” – Linda Ronstadt \nA gift. A historian. A friend. Lalo Guerrero gave us a voice – para todos los Chicanos – that we never had before. He’s a national treasure.” – Edward James Olmos \nLalo simply states: “I only wrote about what I saw.” And what Lalo saw\, wrote and sang about is Chicanos\, Mexican Americans.
URL:https://www.discovercathedralcity.com/event/documentary-screening-of-lalo-guerrero-the-original-chicano/
LOCATION:Cathedral City Senior Center\, 37171 W. Buddy Rogers Avenue\, Cathedral City\, CA\, 92234\, United States
CATEGORIES:Community Events,Film,Latino
ATTACH;FMTTYPE=image/jpeg:https://www.discovercathedralcity.com/wp-content/uploads/2025/08/Documentary-Screening-Lalo-Guerrero-ENGLISH-FINAL.jpg
GEO:33.7787774;-116.4646519
X-APPLE-STRUCTURED-LOCATION;VALUE=URI;X-ADDRESS=Cathedral City Senior Center 37171 W. Buddy Rogers Avenue Cathedral City CA 92234 United States;X-APPLE-RADIUS=500;X-TITLE=37171 W. Buddy Rogers Avenue:geo:-116.4646519,33.7787774
END:VEVENT
BEGIN:VEVENT
DTSTART;VALUE=DATE:20260501
DTEND;VALUE=DATE:20260504
DTSTAMP:20260423T035017
CREATED:20260115T213635Z
LAST-MODIFIED:20260115T213832Z
UID:10007726-1777593600-1777852799@www.discovercathedralcity.com
SUMMARY:10th Annual Taste of Jalisco Festival
DESCRIPTION:Mark your calendars for the 10th Anniversary of the Taste of Jalisco Festival! This beloved annual celebration returns to Cathedral City with NEW festival dates\, bringing three days of authentic Mexican culture\, cuisine\, and entertainment to the heart of the Coachella Valley. \nExperience live performances\, carnival rides and games\, food vendors serving authentic cuisine\, gold medal tequila competitions\, an artisan crafts market\, and much more. Whether you’re joining us for the music\, the food\, or the family-friendly fun\, Taste of Jalisco offers something for everyone. \nMore details—including entertainment lineup\, vendor information\, and ticket details—coming soon! \nVisit tasteofjalisco.com for updates.
URL:https://www.discovercathedralcity.com/event/10th-annual-taste-of-jalisco-festival/
LOCATION:Downtown Festival Lawn\, 68600 East Palm Canyon Drive\, Cathedral City\, CA\, 92234\, United States
CATEGORIES:Community Events,Latino
ATTACH;FMTTYPE=image/jpeg:https://www.discovercathedralcity.com/wp-content/uploads/2026/01/1080x1350_TOJ26_Save-The-Date.jpeg
GEO:33.7802628;-116.4656952
X-APPLE-STRUCTURED-LOCATION;VALUE=URI;X-ADDRESS=Downtown Festival Lawn 68600 East Palm Canyon Drive Cathedral City CA 92234 United States;X-APPLE-RADIUS=500;X-TITLE=68600 East Palm Canyon Drive:geo:-116.4656952,33.7802628
END:VEVENT
END:VCALENDAR