BEGIN:VCALENDAR
VERSION:2.0
PRODID:-//Discover Cathedral City - ECPv6.15.13//NONSGML v1.0//EN
CALSCALE:GREGORIAN
METHOD:PUBLISH
X-ORIGINAL-URL:https://www.discovercathedralcity.com
X-WR-CALDESC:Events for Discover Cathedral City
REFRESH-INTERVAL;VALUE=DURATION:PT1H
X-Robots-Tag:noindex
X-PUBLISHED-TTL:PT1H
BEGIN:VTIMEZONE
TZID:America/Los_Angeles
BEGIN:DAYLIGHT
TZOFFSETFROM:-0800
TZOFFSETTO:-0700
TZNAME:PDT
DTSTART:20220313T100000
END:DAYLIGHT
BEGIN:STANDARD
TZOFFSETFROM:-0700
TZOFFSETTO:-0800
TZNAME:PST
DTSTART:20221106T090000
END:STANDARD
BEGIN:DAYLIGHT
TZOFFSETFROM:-0800
TZOFFSETTO:-0700
TZNAME:PDT
DTSTART:20230312T100000
END:DAYLIGHT
BEGIN:STANDARD
TZOFFSETFROM:-0700
TZOFFSETTO:-0800
TZNAME:PST
DTSTART:20231105T090000
END:STANDARD
BEGIN:DAYLIGHT
TZOFFSETFROM:-0800
TZOFFSETTO:-0700
TZNAME:PDT
DTSTART:20240310T100000
END:DAYLIGHT
BEGIN:STANDARD
TZOFFSETFROM:-0700
TZOFFSETTO:-0800
TZNAME:PST
DTSTART:20241103T090000
END:STANDARD
END:VTIMEZONE
BEGIN:VEVENT
DTSTART;TZID=America/Los_Angeles:20231021T070000
DTEND;TZID=America/Los_Angeles:20231022T220000
DTSTAMP:20260423T082206
CREATED:20230608T154941Z
LAST-MODIFIED:20231002T145619Z
UID:10005057-1697871600-1698012000@www.discovercathedralcity.com
SUMMARY:Maya La Feria Internacional De Cultura
DESCRIPTION:Maya La Feria International De Cultura projects a strong local and regional audience and would represent another local event dedicated to celebrating the culture and history of Latino countries/heritage. The event\, which is a proposed partnership between the Cathedral City Chamber of Commerce and Camara de Comercio Guatemala USA\, features folklorico performances\, live entertainment and cultural cuisine/presentations representing Mexico\, Central & South America. Event organizers also plan to include a car show\, vendor artisan market\, and carnival rides/games on the Festival Lawn.
URL:https://www.discovercathedralcity.com/event/maya-la-feria-internacional-de-cultura/
LOCATION:Cathedral City Community Amphitheater\, 68526 Avenida Lalo Guerrero\, Cathedral City\, CA\, 92234\, United States
CATEGORIES:Community Events,Concert,Latino,Music,Performing Arts
ATTACH;FMTTYPE=image/webp:https://www.discovercathedralcity.com/wp-content/uploads/2023/06/mayalaferia.webp
GEO:33.7813769;-116.4655492
X-APPLE-STRUCTURED-LOCATION;VALUE=URI;X-ADDRESS=Cathedral City Community Amphitheater 68526 Avenida Lalo Guerrero Cathedral City CA 92234 United States;X-APPLE-RADIUS=500;X-TITLE=68526 Avenida Lalo Guerrero:geo:-116.4655492,33.7813769
END:VEVENT
BEGIN:VEVENT
DTSTART;TZID=America/Los_Angeles:20231029T120000
DTEND;TZID=America/Los_Angeles:20231029T150000
DTSTAMP:20260423T082206
CREATED:20230406T172709Z
LAST-MODIFIED:20231004T173926Z
UID:10004142-1698580800-1698591600@www.discovercathedralcity.com
SUMMARY:Halloween Spooktacular
DESCRIPTION:Presented by State Farm Agent\, Phil Goodge \n\n\n\n\n\n\n\nCathedral City’s Halloween Spooktacular features trick or treating with over 50\,000 pieces of candy!  Join friends\, neighbors\, and family for a Spooktacular time including activities such as Halloween costume contests (two bikes given away each hour)\, police and fire exhibitions\, music\, and family games. \nHalloween Spooktacular provides you with information about the police and fire departments\, to view special demonstrations\, and get to know the men and women who serve you on a daily basis.  Free admission. Free parking. \n\n\n\n\n\n\n\n\n\n \n\n\n\n\n\n\n\n\n\n\n\n\nFor Sponsorship Opportunities\, contact: \nEric Davis\, City of Cathedral City (760) 770-0340\, Ext. 134\nSponsorshipSpecialist@cathedralcity.gov
URL:https://www.discovercathedralcity.com/event/halloween-spooktacular-2023/
LOCATION:Cathedral City Civic Center Plaza\, 68700 Avenida Lalo Guerrero\, Cathedral City\, CA\, 92234\, United States
CATEGORIES:Children Activities,Community Events,Food,Music
ATTACH;FMTTYPE=image/jpeg:https://www.discovercathedralcity.com/wp-content/uploads/2023/04/Spooktacular2023-letter-2-e1696441387801.jpg
GEO:33.7814432;-116.464137
X-APPLE-STRUCTURED-LOCATION;VALUE=URI;X-ADDRESS=Cathedral City Civic Center Plaza 68700 Avenida Lalo Guerrero Cathedral City CA 92234 United States;X-APPLE-RADIUS=500;X-TITLE=68700 Avenida Lalo Guerrero:geo:-116.464137,33.7814432
END:VEVENT
BEGIN:VEVENT
DTSTART;TZID=America/Los_Angeles:20231031T163000
DTEND;TZID=America/Los_Angeles:20231031T183000
DTSTAMP:20260423T082206
CREATED:20231019T180457Z
LAST-MODIFIED:20231019T182503Z
UID:10005104-1698769800-1698777000@www.discovercathedralcity.com
SUMMARY:Halloween Carnival and Trunk-or-Treat
DESCRIPTION:FREE HALLOWEEN CARNIVAL FOR ALL!\nCome join us\nTuesday\, 10/31 \n4:30pm-6:30pm \nfor Halloween Carnival\nat the Boy’s & Girl’s Club parking lot! \nCandy  *  Games  *  Music\nCostume Contest  *  Fun Tricks!
URL:https://www.discovercathedralcity.com/event/halloween-carnival-and-trunk-or-treat/
LOCATION:Cathedral City Boys & Girls Club\, 32141 Whispering Palms Trail\, Cathedral City\, CA\, 92234\, United States
CATEGORIES:Boys & Girls Club of Cathedral City Event,Children Activities,Community Events,Music
ATTACH;FMTTYPE=image/jpeg:https://www.discovercathedralcity.com/wp-content/uploads/2023/10/trunkortreat-e1697737775800.jpg
GEO:33.8152848;-116.4716919
X-APPLE-STRUCTURED-LOCATION;VALUE=URI;X-ADDRESS=Cathedral City Boys & Girls Club 32141 Whispering Palms Trail Cathedral City CA 92234 United States;X-APPLE-RADIUS=500;X-TITLE=32141 Whispering Palms Trail:geo:-116.4716919,33.8152848
END:VEVENT
END:VCALENDAR