BEGIN:VCALENDAR
VERSION:2.0
PRODID:-//Discover Cathedral City - ECPv6.15.13//NONSGML v1.0//EN
CALSCALE:GREGORIAN
METHOD:PUBLISH
X-WR-CALNAME:Discover Cathedral City
X-ORIGINAL-URL:https://www.discovercathedralcity.com
X-WR-CALDESC:Events for Discover Cathedral City
REFRESH-INTERVAL;VALUE=DURATION:PT1H
X-Robots-Tag:noindex
X-PUBLISHED-TTL:PT1H
BEGIN:VTIMEZONE
TZID:America/Los_Angeles
BEGIN:DAYLIGHT
TZOFFSETFROM:-0800
TZOFFSETTO:-0700
TZNAME:PDT
DTSTART:20220313T100000
END:DAYLIGHT
BEGIN:STANDARD
TZOFFSETFROM:-0700
TZOFFSETTO:-0800
TZNAME:PST
DTSTART:20221106T090000
END:STANDARD
BEGIN:DAYLIGHT
TZOFFSETFROM:-0800
TZOFFSETTO:-0700
TZNAME:PDT
DTSTART:20230312T100000
END:DAYLIGHT
BEGIN:STANDARD
TZOFFSETFROM:-0700
TZOFFSETTO:-0800
TZNAME:PST
DTSTART:20231105T090000
END:STANDARD
BEGIN:DAYLIGHT
TZOFFSETFROM:-0800
TZOFFSETTO:-0700
TZNAME:PDT
DTSTART:20240310T100000
END:DAYLIGHT
BEGIN:STANDARD
TZOFFSETFROM:-0700
TZOFFSETTO:-0800
TZNAME:PST
DTSTART:20241103T090000
END:STANDARD
END:VTIMEZONE
BEGIN:VEVENT
DTSTART;TZID=America/Los_Angeles:20231028T083000
DTEND;TZID=America/Los_Angeles:20231028T103000
DTSTAMP:20260420T075652
CREATED:20230928T211946Z
LAST-MODIFIED:20231005T222414Z
UID:10005092-1698481800-1698489000@www.discovercathedralcity.com
SUMMARY:Howl-O-Ween
DESCRIPTION:The Cathedral City Parks & Community Events Commission presents the inaugural Howl-O-Ween 23 Dog Costume Contest from 9-10:30 a.m. at Panorama Park Dog Park\, 28905 Avenida Maravilla\, Cathedral City\, CA 92234. \nSponsored by: \n\nGrocery Outlet Cathedral City\nPrizes: 1st-3rd place in 2 categories\nSmall Dog-Large Dog\nPrize sponsors are Nick’s Bistro\nTortillas Restaurant\nMary Pickford Theaters\nLa Michoacán Ice Cream Stores\n\n 
URL:https://www.discovercathedralcity.com/event/howl-o-ween/
LOCATION:Panorama Park\, 28905 Avenida Maravilla\, Cathedral City\, CA\, 92234\, United States
CATEGORIES:Community Events,Pets
ATTACH;FMTTYPE=image/jpeg:https://www.discovercathedralcity.com/wp-content/uploads/2023/10/Howloween-letter-3.jpg
ORGANIZER;CN="Cathedral City Parks and Community Events Commission":MAILTO:dpressgrove@cathedralcity.gov
GEO:33.8400854;-116.4669059
X-APPLE-STRUCTURED-LOCATION;VALUE=URI;X-ADDRESS=Panorama Park 28905 Avenida Maravilla Cathedral City CA 92234 United States;X-APPLE-RADIUS=500;X-TITLE=28905 Avenida Maravilla:geo:-116.4669059,33.8400854
END:VEVENT
END:VCALENDAR