BEGIN:VCALENDAR
VERSION:2.0
PRODID:-//Discover Cathedral City - ECPv6.15.13//NONSGML v1.0//EN
CALSCALE:GREGORIAN
METHOD:PUBLISH
X-WR-CALNAME:Discover Cathedral City
X-ORIGINAL-URL:https://www.discovercathedralcity.com
X-WR-CALDESC:Events for Discover Cathedral City
REFRESH-INTERVAL;VALUE=DURATION:PT1H
X-Robots-Tag:noindex
X-PUBLISHED-TTL:PT1H
BEGIN:VTIMEZONE
TZID:America/Los_Angeles
BEGIN:DAYLIGHT
TZOFFSETFROM:-0800
TZOFFSETTO:-0700
TZNAME:PDT
DTSTART:20230312T100000
END:DAYLIGHT
BEGIN:STANDARD
TZOFFSETFROM:-0700
TZOFFSETTO:-0800
TZNAME:PST
DTSTART:20231105T090000
END:STANDARD
BEGIN:DAYLIGHT
TZOFFSETFROM:-0800
TZOFFSETTO:-0700
TZNAME:PDT
DTSTART:20240310T100000
END:DAYLIGHT
BEGIN:STANDARD
TZOFFSETFROM:-0700
TZOFFSETTO:-0800
TZNAME:PST
DTSTART:20241103T090000
END:STANDARD
BEGIN:DAYLIGHT
TZOFFSETFROM:-0800
TZOFFSETTO:-0700
TZNAME:PDT
DTSTART:20250309T100000
END:DAYLIGHT
BEGIN:STANDARD
TZOFFSETFROM:-0700
TZOFFSETTO:-0800
TZNAME:PST
DTSTART:20251102T090000
END:STANDARD
END:VTIMEZONE
BEGIN:VEVENT
DTSTART;VALUE=DATE:20241016
DTEND;VALUE=DATE:20241017
DTSTAMP:20260419T050015
CREATED:20241004T184748Z
LAST-MODIFIED:20241004T184827Z
UID:10005637-1729036800-1729123199@www.discovercathedralcity.com
SUMMARY:EVENT NOW FULL: Free Spay & Neuter October Event
DESCRIPTION: UPDATE: EVENT NOW FULL. We thank you for your interest in this event! ———The Cathedral City Parks & Community Events Commission and Riverside County Animal Services are pleased to announce a free spay and neuter event that will take place Oct. 16\, 2024\, at the Cathedral City Library! Spots are in high demand and will fill quickly.We are excited to help the community in any way that we can! Please sign up for appointment online at https://bit.ly/3zopbqJ or scan the QR code.
URL:https://www.discovercathedralcity.com/event/free-spay-neuter-october-event/
LOCATION:Cathedral City Public Library\, 33520 Date Palm Drive\, Cathedral City\, CA\, 92234\, United States
CATEGORIES:Pets
ATTACH;FMTTYPE=image/jpeg:https://www.discovercathedralcity.com/wp-content/uploads/2024/10/Spay-Neuter-Oct-2024.jpg
GEO:33.8042303;-116.45733
X-APPLE-STRUCTURED-LOCATION;VALUE=URI;X-ADDRESS=Cathedral City Public Library 33520 Date Palm Drive Cathedral City CA 92234 United States;X-APPLE-RADIUS=500;X-TITLE=33520 Date Palm Drive:geo:-116.45733,33.8042303
END:VEVENT
BEGIN:VEVENT
DTSTART;TZID=America/Los_Angeles:20241026T090000
DTEND;TZID=America/Los_Angeles:20241026T103000
DTSTAMP:20260419T050015
CREATED:20240729T181131Z
LAST-MODIFIED:20240905T214030Z
UID:10005602-1729933200-1729938600@www.discovercathedralcity.com
SUMMARY:Howl-O-Ween
DESCRIPTION:The Cathedral City Parks & Community Events Commission presents the inaugural Howl-O-Ween 24 Dog Costume Contest from 9-10:30 a.m. at Panorama Park Dog Park\, 28905 Avenida Maravilla\, Cathedral City\, CA 92234. \nSponsored by: \n\n\n1st place prize; Small/Large Dog – $75 from Denny’s on Vista Chino \n\n\n2nd place prize; Small/Large Dog – $50 from Mary Pickford Theaters \n\n\n3rd place prize; Small/Large Dog –$25 from George’s Burgers \n\n\nBest Lookalike Costume; Small-Large Dog – $50 from Mary Pickford Theaters
URL:https://www.discovercathedralcity.com/event/howl-o-ween-24/
LOCATION:Panorama Park\, 28905 Avenida Maravilla\, Cathedral City\, CA\, 92234\, United States
CATEGORIES:Community Events,Pets
ATTACH;FMTTYPE=image/jpeg:https://www.discovercathedralcity.com/wp-content/uploads/2024/07/Howloween-Letter-1.jpg
ORGANIZER;CN="Cathedral City Parks and Community Events Commission":MAILTO:dpressgrove@cathedralcity.gov
GEO:33.8400854;-116.4669059
X-APPLE-STRUCTURED-LOCATION;VALUE=URI;X-ADDRESS=Panorama Park 28905 Avenida Maravilla Cathedral City CA 92234 United States;X-APPLE-RADIUS=500;X-TITLE=28905 Avenida Maravilla:geo:-116.4669059,33.8400854
END:VEVENT
END:VCALENDAR