BEGIN:VCALENDAR
VERSION:2.0
PRODID:-//Discover Cathedral City - ECPv6.15.13//NONSGML v1.0//EN
CALSCALE:GREGORIAN
METHOD:PUBLISH
X-WR-CALNAME:Discover Cathedral City
X-ORIGINAL-URL:https://www.discovercathedralcity.com
X-WR-CALDESC:Events for Discover Cathedral City
REFRESH-INTERVAL;VALUE=DURATION:PT1H
X-Robots-Tag:noindex
X-PUBLISHED-TTL:PT1H
BEGIN:VTIMEZONE
TZID:America/Los_Angeles
BEGIN:DAYLIGHT
TZOFFSETFROM:-0800
TZOFFSETTO:-0700
TZNAME:PDT
DTSTART:20250309T100000
END:DAYLIGHT
BEGIN:STANDARD
TZOFFSETFROM:-0700
TZOFFSETTO:-0800
TZNAME:PST
DTSTART:20251102T090000
END:STANDARD
BEGIN:DAYLIGHT
TZOFFSETFROM:-0800
TZOFFSETTO:-0700
TZNAME:PDT
DTSTART:20260308T100000
END:DAYLIGHT
BEGIN:STANDARD
TZOFFSETFROM:-0700
TZOFFSETTO:-0800
TZNAME:PST
DTSTART:20261101T090000
END:STANDARD
BEGIN:DAYLIGHT
TZOFFSETFROM:-0800
TZOFFSETTO:-0700
TZNAME:PDT
DTSTART:20270314T100000
END:DAYLIGHT
BEGIN:STANDARD
TZOFFSETFROM:-0700
TZOFFSETTO:-0800
TZNAME:PST
DTSTART:20271107T090000
END:STANDARD
END:VTIMEZONE
BEGIN:VEVENT
DTSTART;VALUE=DATE:20260417
DTEND;VALUE=DATE:20260418
DTSTAMP:20260422T052243
CREATED:20250828T181320Z
LAST-MODIFIED:20250904T191125Z
UID:10006827-1776384000-1776470399@www.discovercathedralcity.com
SUMMARY:Social Worker at CCSC
DESCRIPTION:CCSC will have a social worker at the center to connect the community with resources\, support\, and services to improve well-being. Call for an appointment 760-321-1548 \n2nd and 3rd Friday of every month at CCSC.
URL:https://www.discovercathedralcity.com/event/social-worker-at-ccsc-2/2026-04-17/
LOCATION:Cathedral City Senior Center\, 37171 W. Buddy Rogers Avenue\, Cathedral City\, CA\, 92234\, United States
CATEGORIES:Senior
ATTACH;FMTTYPE=image/jpeg:https://www.discovercathedralcity.com/wp-content/uploads/2025/08/FFB-Social-Worker-At-CCSC-1-1.jpg
GEO:33.7787774;-116.4646519
X-APPLE-STRUCTURED-LOCATION;VALUE=URI;X-ADDRESS=Cathedral City Senior Center 37171 W. Buddy Rogers Avenue Cathedral City CA 92234 United States;X-APPLE-RADIUS=500;X-TITLE=37171 W. Buddy Rogers Avenue:geo:-116.4646519,33.7787774
END:VEVENT
BEGIN:VEVENT
DTSTART;TZID=America/Los_Angeles:20260420T090000
DTEND;TZID=America/Los_Angeles:20260420T140000
DTSTAMP:20260422T052243
CREATED:20250930T230502Z
LAST-MODIFIED:20250930T230502Z
UID:10007189-1776675600-1776693600@www.discovercathedralcity.com
SUMMARY:Notary Services for Seniors
DESCRIPTION:The Cathedral City Senior Center is offering free notary services once a month for seniors! Sign up in advance. Space is limited. \nServices: \n\nPower of Attorney – Authorize someone you trust to handle important decisions on your behalf.\nWill – Create or update a legal document to ensure your wishes are honored.\nSign up today at the front desk!\nor call 760-321-1548
URL:https://www.discovercathedralcity.com/event/notary-services-for-seniors/2026-04-20/
LOCATION:Cathedral City Senior Center\, 37171 W. Buddy Rogers Avenue\, Cathedral City\, CA\, 92234\, United States
CATEGORIES:Senior
ATTACH;FMTTYPE=image/jpeg:https://www.discovercathedralcity.com/wp-content/uploads/2025/09/Screenshot-2025-09-30-160151.jpg
GEO:33.7787774;-116.4646519
X-APPLE-STRUCTURED-LOCATION;VALUE=URI;X-ADDRESS=Cathedral City Senior Center 37171 W. Buddy Rogers Avenue Cathedral City CA 92234 United States;X-APPLE-RADIUS=500;X-TITLE=37171 W. Buddy Rogers Avenue:geo:-116.4646519,33.7787774
END:VEVENT
BEGIN:VEVENT
DTSTART;TZID=America/Los_Angeles:20260422T080000
DTEND;TZID=America/Los_Angeles:20260422T120000
DTSTAMP:20260422T052243
CREATED:20260421T221036Z
LAST-MODIFIED:20260421T221628Z
UID:10008285-1776844800-1776859200@www.discovercathedralcity.com
SUMMARY:Spring Fest at Century Park — Earth Day 2026
DESCRIPTION:Celebrate Earth Day with S.C.R.A.P. Gallery at Century Park in Cathedral City on Wednesday\, April 22\, 2026! Join the community for a morning dedicated to honoring our planet through movement\, creativity\, and connection. \nWalking for Water 6K | 8:00 – 9:00 a.m. Start the day with purpose. Lace up and join the Walking for Water 6K — a global initiative that raises awareness about water scarcity and the daily journey millions make to access clean water. Every step supports a cause that matters. \nEarth Day Art Party | 10:00 a.m. – 12:00 p.m. Bring the whole family for a hands-on celebration of our planet! Get creative with eco-inspired art activities hosted by S.C.R.A.P. Gallery\, the Art Museum for the Environment. Turn recycled materials into masterpieces and discover how art can spark environmental change. \nWhy Attend? Whether walking\, creating\, or simply soaking up the spring sunshine\, Spring Fest is a chance to connect with neighbors\, support local organizations\, and take meaningful action for the Earth. Fun for all ages! \nPresented by: S.C.R.A.P. Gallery\, Cathedral City Evening Rotary Club\, Riverside County Library System – Cathedral City\, and EarthDay.org \nLocation: Century Park\, 69908 Century Park Drive\, Cathedral City\, CA 92234 \nMore info: Follow @scrapgallery or call 760-861-6479 \nLet’s make every day Earth Day! 🌎
URL:https://www.discovercathedralcity.com/event/spring-fest-at-century-park-earth-day-2026/
LOCATION:Century Park\, 69908 Century Park Drive\, Cathedral City\, CA\, 92234\, United States
CATEGORIES:Art,Children Activities,Community Events,Environment,Recycling
ATTACH;FMTTYPE=image/jpeg:https://www.discovercathedralcity.com/wp-content/uploads/2026/04/springfestflyer26.jpg
GEO:33.8269757;-116.4424591
X-APPLE-STRUCTURED-LOCATION;VALUE=URI;X-ADDRESS=Century Park 69908 Century Park Drive Cathedral City CA 92234 United States;X-APPLE-RADIUS=500;X-TITLE=69908 Century Park Drive:geo:-116.4424591,33.8269757
END:VEVENT
BEGIN:VEVENT
DTSTART;TZID=America/Los_Angeles:20260424T160000
DTEND;TZID=America/Los_Angeles:20260424T190000
DTSTAMP:20260422T052243
CREATED:20250925T223407Z
LAST-MODIFIED:20260109T203331Z
UID:10007176-1777046400-1777057200@www.discovercathedralcity.com
SUMMARY:The Perez Art District's Art Walks
DESCRIPTION:The Perez Art District resumes its beloved tradition of 4th Friday art walks from 4:00 to 7:00 PM. Dubbed the “SoHo of the desert\,” the district features over 50 established\, mid-career\, and emerging artists working in their studios and galleries throughout buildings A\, C\, H\, and I\, as well as the 68929 building. \nThe free\, public event attracts collectors and art enthusiasts from around the world\, offering visitors the opportunity to meet artists\, view works in progress\, and purchase pieces directly from creators. Many studios also remain open year-round from 11:00 AM to 3:00 PM Thursday through Saturday. \nA Thriving Arts Destination\nThe Perez Art District continues to establish Cathedral City as a premier arts destination in the Coachella Valley. With its concentration of galleries\, studios\, and creative spaces along Perez Road\, the district offers an immersive experience where visitors can witness the creative process firsthand and engage directly with the artists who make Cathedral City “Where Art Lives.” \nThe September 26th art walk marks the beginning of a new season of monthly celebrations\, with subsequent walks scheduled for the fourth Friday of each month through the year. \nEvent Details\nWhat: The Perez Art District Monthly Art Walk\nWhen: Every 4th Friday\, 4:00-7:00 PM (beginning September 26\, 2025)\nWhere: The Perez Art District\, Perez Road\, Cathedral City\nCost: Free and open to the public\nInformation: ThePerezArtDistrict.com
URL:https://www.discovercathedralcity.com/event/the-perez-art-districts-art-walks/2026-04-24/
LOCATION:Perez Road\, 68845 Perez Road\, Cathedral City\, CA\, 92234\, United States
CATEGORIES:Art
ATTACH;FMTTYPE=image/jpeg:https://www.discovercathedralcity.com/wp-content/uploads/2025/09/Perez-Art-District-2026.jpg
ORGANIZER;CN="The Perez Art District":MAILTO:anne@annebedrick.com
GEO:33.7840849;-116.4624146
X-APPLE-STRUCTURED-LOCATION;VALUE=URI;X-ADDRESS=Perez Road 68845 Perez Road Cathedral City CA 92234 United States;X-APPLE-RADIUS=500;X-TITLE=68845 Perez Road:geo:-116.4624146,33.7840849
END:VEVENT
BEGIN:VEVENT
DTSTART;TZID=America/Los_Angeles:20260426T110000
DTEND;TZID=America/Los_Angeles:20260426T130000
DTSTAMP:20260422T052243
CREATED:20260416T194739Z
LAST-MODIFIED:20260416T194739Z
UID:10008284-1777201200-1777208400@www.discovercathedralcity.com
SUMMARY:Brunch with Patsi
DESCRIPTION:Brunch with Patsi at Nick’s Bistro is featuring a Meet & Greet with City Manager Andy Firestine and Councilmember Christina Gordon. This brunch will benefit the Cathedral City Senior Center.
URL:https://www.discovercathedralcity.com/event/brunch-with-patsi/
LOCATION:Nick’s Bistro\, 36200 Date Palm Drive\, Cathedral City\, CA\, 92234\, United States
CATEGORIES:Charity,Community Events
ATTACH;FMTTYPE=image/jpeg:https://www.discovercathedralcity.com/wp-content/uploads/2026/04/Brunch-with-Patsi-4-26-2026-UPDATED.jpg
ORGANIZER;CN="Dinner with Patsi":MAILTO:dinnerwithpatsi@gmail.com
GEO:33.7809145;-116.4524451
X-APPLE-STRUCTURED-LOCATION;VALUE=URI;X-ADDRESS=Nick’s Bistro 36200 Date Palm Drive Cathedral City CA 92234 United States;X-APPLE-RADIUS=500;X-TITLE=36200 Date Palm Drive:geo:-116.4524451,33.7809145
END:VEVENT
BEGIN:VEVENT
DTSTART;VALUE=DATE:20260501
DTEND;VALUE=DATE:20260504
DTSTAMP:20260422T052243
CREATED:20260115T213635Z
LAST-MODIFIED:20260115T213832Z
UID:10007726-1777593600-1777852799@www.discovercathedralcity.com
SUMMARY:10th Annual Taste of Jalisco Festival
DESCRIPTION:Mark your calendars for the 10th Anniversary of the Taste of Jalisco Festival! This beloved annual celebration returns to Cathedral City with NEW festival dates\, bringing three days of authentic Mexican culture\, cuisine\, and entertainment to the heart of the Coachella Valley. \nExperience live performances\, carnival rides and games\, food vendors serving authentic cuisine\, gold medal tequila competitions\, an artisan crafts market\, and much more. Whether you’re joining us for the music\, the food\, or the family-friendly fun\, Taste of Jalisco offers something for everyone. \nMore details—including entertainment lineup\, vendor information\, and ticket details—coming soon! \nVisit tasteofjalisco.com for updates.
URL:https://www.discovercathedralcity.com/event/10th-annual-taste-of-jalisco-festival/
LOCATION:Downtown Festival Lawn\, 68600 East Palm Canyon Drive\, Cathedral City\, CA\, 92234\, United States
CATEGORIES:Community Events,Latino
ATTACH;FMTTYPE=image/jpeg:https://www.discovercathedralcity.com/wp-content/uploads/2026/01/1080x1350_TOJ26_Save-The-Date.jpeg
GEO:33.7802628;-116.4656952
X-APPLE-STRUCTURED-LOCATION;VALUE=URI;X-ADDRESS=Downtown Festival Lawn 68600 East Palm Canyon Drive Cathedral City CA 92234 United States;X-APPLE-RADIUS=500;X-TITLE=68600 East Palm Canyon Drive:geo:-116.4656952,33.7802628
END:VEVENT
BEGIN:VEVENT
DTSTART;TZID=America/Los_Angeles:20260512T103000
DTEND;TZID=America/Los_Angeles:20260512T133000
DTSTAMP:20260422T052243
CREATED:20260131T052540Z
LAST-MODIFIED:20260409T231820Z
UID:10007731-1778581800-1778592600@www.discovercathedralcity.com
SUMMARY:2026 Cathedral City State of the City — Cathedral City Takes Flight
DESCRIPTION:Join Mayor Raymond Gregory and the City Council for the annual State of the City luncheon\, themed Cathedral City Takes Flight. Hosted by Emmy Award-winning KESQ Chief Meteorologist Patrick Evans and produced by Hocker Productions\, this year’s event features a business expo\, awards ceremony\, and the Mayor’s address showcasing Cathedral City’s best\, brightest\, and most innovative businesses. \n\nDate: Tuesday\, May 12\, 2026\nTime: 10:30 am Sponsor Reception | 11:30 am–1:30 pm Luncheon\nLocation: DoubleTree by Hilton Golf Resort\, 67967 Vista Chino\, Cathedral City\n\nGet Tickets \nSponsorship opportunities are available starting at $1\,000. Download our Sponsorship Opportunities deck or contact Jeff Hocker at jeffhocker1@gmail.com or 760-409-1530.
URL:https://www.discovercathedralcity.com/event/2026-cathedral-city-state-of-the-city/
LOCATION:DoubleTree by Hilton Golf Resort\, 67967 Vista Chino\, Cathedral City\, CA\, 92234\, United States
CATEGORIES:City Council,Community Events
ATTACH;FMTTYPE=image/jpeg:https://www.discovercathedralcity.com/wp-content/uploads/2026/01/f7c51144-5118-4a64-8b01-e78012f3f706.jpg
GEO:33.8433628;-116.4774199
X-APPLE-STRUCTURED-LOCATION;VALUE=URI;X-ADDRESS=DoubleTree by Hilton Golf Resort 67967 Vista Chino Cathedral City CA 92234 United States;X-APPLE-RADIUS=500;X-TITLE=67967 Vista Chino:geo:-116.4774199,33.8433628
END:VEVENT
END:VCALENDAR