BEGIN:VCALENDAR
VERSION:2.0
PRODID:-//Discover Cathedral City - ECPv6.15.13//NONSGML v1.0//EN
CALSCALE:GREGORIAN
METHOD:PUBLISH
X-WR-CALNAME:Discover Cathedral City
X-ORIGINAL-URL:https://www.discovercathedralcity.com
X-WR-CALDESC:Events for Discover Cathedral City
REFRESH-INTERVAL;VALUE=DURATION:PT1H
X-Robots-Tag:noindex
X-PUBLISHED-TTL:PT1H
BEGIN:VTIMEZONE
TZID:America/Los_Angeles
BEGIN:DAYLIGHT
TZOFFSETFROM:-0800
TZOFFSETTO:-0700
TZNAME:PDT
DTSTART:20250309T100000
END:DAYLIGHT
BEGIN:STANDARD
TZOFFSETFROM:-0700
TZOFFSETTO:-0800
TZNAME:PST
DTSTART:20251102T090000
END:STANDARD
BEGIN:DAYLIGHT
TZOFFSETFROM:-0800
TZOFFSETTO:-0700
TZNAME:PDT
DTSTART:20260308T100000
END:DAYLIGHT
BEGIN:STANDARD
TZOFFSETFROM:-0700
TZOFFSETTO:-0800
TZNAME:PST
DTSTART:20261101T090000
END:STANDARD
BEGIN:DAYLIGHT
TZOFFSETFROM:-0800
TZOFFSETTO:-0700
TZNAME:PDT
DTSTART:20270314T100000
END:DAYLIGHT
BEGIN:STANDARD
TZOFFSETFROM:-0700
TZOFFSETTO:-0800
TZNAME:PST
DTSTART:20271107T090000
END:STANDARD
END:VTIMEZONE
BEGIN:VEVENT
DTSTART;TZID=America/Los_Angeles:20260426T110000
DTEND;TZID=America/Los_Angeles:20260426T130000
DTSTAMP:20260423T164954
CREATED:20260416T194739Z
LAST-MODIFIED:20260416T194739Z
UID:10008284-1777201200-1777208400@www.discovercathedralcity.com
SUMMARY:Brunch with Patsi
DESCRIPTION:Brunch with Patsi at Nick’s Bistro is featuring a Meet & Greet with City Manager Andy Firestine and Councilmember Christina Gordon. This brunch will benefit the Cathedral City Senior Center.
URL:https://www.discovercathedralcity.com/event/brunch-with-patsi/
LOCATION:Nick’s Bistro\, 36200 Date Palm Drive\, Cathedral City\, CA\, 92234\, United States
CATEGORIES:Charity,Community Events
ATTACH;FMTTYPE=image/jpeg:https://www.discovercathedralcity.com/wp-content/uploads/2026/04/Brunch-with-Patsi-4-26-2026-UPDATED.jpg
ORGANIZER;CN="Dinner with Patsi":MAILTO:dinnerwithpatsi@gmail.com
GEO:33.7809145;-116.4524451
X-APPLE-STRUCTURED-LOCATION;VALUE=URI;X-ADDRESS=Nick’s Bistro 36200 Date Palm Drive Cathedral City CA 92234 United States;X-APPLE-RADIUS=500;X-TITLE=36200 Date Palm Drive:geo:-116.4524451,33.7809145
END:VEVENT
BEGIN:VEVENT
DTSTART;VALUE=DATE:20260501
DTEND;VALUE=DATE:20260504
DTSTAMP:20260423T164954
CREATED:20260115T213635Z
LAST-MODIFIED:20260115T213832Z
UID:10007726-1777593600-1777852799@www.discovercathedralcity.com
SUMMARY:10th Annual Taste of Jalisco Festival
DESCRIPTION:Mark your calendars for the 10th Anniversary of the Taste of Jalisco Festival! This beloved annual celebration returns to Cathedral City with NEW festival dates\, bringing three days of authentic Mexican culture\, cuisine\, and entertainment to the heart of the Coachella Valley. \nExperience live performances\, carnival rides and games\, food vendors serving authentic cuisine\, gold medal tequila competitions\, an artisan crafts market\, and much more. Whether you’re joining us for the music\, the food\, or the family-friendly fun\, Taste of Jalisco offers something for everyone. \nMore details—including entertainment lineup\, vendor information\, and ticket details—coming soon! \nVisit tasteofjalisco.com for updates.
URL:https://www.discovercathedralcity.com/event/10th-annual-taste-of-jalisco-festival/
LOCATION:Downtown Festival Lawn\, 68600 East Palm Canyon Drive\, Cathedral City\, CA\, 92234\, United States
CATEGORIES:Community Events,Latino
ATTACH;FMTTYPE=image/jpeg:https://www.discovercathedralcity.com/wp-content/uploads/2026/01/1080x1350_TOJ26_Save-The-Date.jpeg
GEO:33.7802628;-116.4656952
X-APPLE-STRUCTURED-LOCATION;VALUE=URI;X-ADDRESS=Downtown Festival Lawn 68600 East Palm Canyon Drive Cathedral City CA 92234 United States;X-APPLE-RADIUS=500;X-TITLE=68600 East Palm Canyon Drive:geo:-116.4656952,33.7802628
END:VEVENT
BEGIN:VEVENT
DTSTART;TZID=America/Los_Angeles:20260512T103000
DTEND;TZID=America/Los_Angeles:20260512T133000
DTSTAMP:20260423T164954
CREATED:20260131T052540Z
LAST-MODIFIED:20260409T231820Z
UID:10007731-1778581800-1778592600@www.discovercathedralcity.com
SUMMARY:2026 Cathedral City State of the City — Cathedral City Takes Flight
DESCRIPTION:Join Mayor Raymond Gregory and the City Council for the annual State of the City luncheon\, themed Cathedral City Takes Flight. Hosted by Emmy Award-winning KESQ Chief Meteorologist Patrick Evans and produced by Hocker Productions\, this year’s event features a business expo\, awards ceremony\, and the Mayor’s address showcasing Cathedral City’s best\, brightest\, and most innovative businesses. \n\nDate: Tuesday\, May 12\, 2026\nTime: 10:30 am Sponsor Reception | 11:30 am–1:30 pm Luncheon\nLocation: DoubleTree by Hilton Golf Resort\, 67967 Vista Chino\, Cathedral City\n\nGet Tickets \nSponsorship opportunities are available starting at $1\,000. Download our Sponsorship Opportunities deck or contact Jeff Hocker at jeffhocker1@gmail.com or 760-409-1530.
URL:https://www.discovercathedralcity.com/event/2026-cathedral-city-state-of-the-city/
LOCATION:DoubleTree by Hilton Golf Resort\, 67967 Vista Chino\, Cathedral City\, CA\, 92234\, United States
CATEGORIES:City Council,Community Events
ATTACH;FMTTYPE=image/jpeg:https://www.discovercathedralcity.com/wp-content/uploads/2026/01/f7c51144-5118-4a64-8b01-e78012f3f706.jpg
GEO:33.8433628;-116.4774199
X-APPLE-STRUCTURED-LOCATION;VALUE=URI;X-ADDRESS=DoubleTree by Hilton Golf Resort 67967 Vista Chino Cathedral City CA 92234 United States;X-APPLE-RADIUS=500;X-TITLE=67967 Vista Chino:geo:-116.4774199,33.8433628
END:VEVENT
BEGIN:VEVENT
DTSTART;TZID=America/Los_Angeles:20260522T160000
DTEND;TZID=America/Los_Angeles:20260522T210000
DTSTAMP:20260423T164954
CREATED:20260423T180116Z
LAST-MODIFIED:20260423T180116Z
UID:10008286-1779465600-1779483600@www.discovercathedralcity.com
SUMMARY:Celebrating Where Art Lives
DESCRIPTION:The Perez Art District continues to establish Cathedral City as a premier arts destination in the Coachella Valley. With its concentration of galleries\, studios\, and creative spaces along Perez Road\, the district offers an immersive experience where visitors can witness the creative process firsthand and engage directly with the artists who make Cathedral City “Where Art Lives.” \nThis special celebration will have programming\, hands on art classes\, gallery tours\, Q and A with artists\, and more over the course of two days to celebrate the Perez Art District. \nAdmission is FREE.
URL:https://www.discovercathedralcity.com/event/celebrating-where-art-lives/2026-05-22/
LOCATION:Art Walk\, 68895 Perez Rd Unit I-26\, Cathedral City\, CA\, 92234\, United States
CATEGORIES:Art,Community Events
ATTACH;FMTTYPE=image/jpeg:https://www.discovercathedralcity.com/wp-content/uploads/2026/04/Perez-Art-District-IG.jpg
GEO:33.7824048;-116.4606047
X-APPLE-STRUCTURED-LOCATION;VALUE=URI;X-ADDRESS=Art Walk 68895 Perez Rd Unit I-26 Cathedral City CA 92234 United States;X-APPLE-RADIUS=500;X-TITLE=68895 Perez Rd Unit I-26:geo:-116.4606047,33.7824048
END:VEVENT
BEGIN:VEVENT
DTSTART;TZID=America/Los_Angeles:20260530T100000
DTEND;TZID=America/Los_Angeles:20260530T120000
DTSTAMP:20260423T164954
CREATED:20260423T181656Z
LAST-MODIFIED:20260423T184833Z
UID:10008288-1780135200-1780142400@www.discovercathedralcity.com
SUMMARY:Historic Preservation Month
DESCRIPTION:Stories of Cathedral City: A History of Grit\, Grace\, and Conversation Across the Decades \nIn honor of Historic Preservation Month\, we continue the storytelling tradition launched with the staff-produced documentary Cathedral City: A City Built on Grit and Grace — this time\, live and in person with a panel of longtime residents sharing personal stories of the city’s early years and reflecting on how Cathedral City has changed across the decades. \nThis event is FREE and open to the public!
URL:https://www.discovercathedralcity.com/event/historic-preservation-month/
LOCATION:Mary Pickford Theatre\, 36850 Pickfair St\, Cathedral City\, CA\, 92234\, United States
CATEGORIES:Community Events,History
ATTACH;FMTTYPE=image/jpeg:https://www.discovercathedralcity.com/wp-content/uploads/2026/04/May-30-HPM-IG.jpg
GEO:33.781085;-116.463048
X-APPLE-STRUCTURED-LOCATION;VALUE=URI;X-ADDRESS=Mary Pickford Theatre 36850 Pickfair St Cathedral City CA 92234 United States;X-APPLE-RADIUS=500;X-TITLE=36850 Pickfair St:geo:-116.463048,33.781085
END:VEVENT
END:VCALENDAR