BEGIN:VCALENDAR
VERSION:2.0
PRODID:-//Discover Cathedral City - ECPv6.15.13//NONSGML v1.0//EN
CALSCALE:GREGORIAN
METHOD:PUBLISH
X-ORIGINAL-URL:https://www.discovercathedralcity.com
X-WR-CALDESC:Events for Discover Cathedral City
REFRESH-INTERVAL;VALUE=DURATION:PT1H
X-Robots-Tag:noindex
X-PUBLISHED-TTL:PT1H
BEGIN:VTIMEZONE
TZID:America/Los_Angeles
BEGIN:DAYLIGHT
TZOFFSETFROM:-0800
TZOFFSETTO:-0700
TZNAME:PDT
DTSTART:20230312T100000
END:DAYLIGHT
BEGIN:STANDARD
TZOFFSETFROM:-0700
TZOFFSETTO:-0800
TZNAME:PST
DTSTART:20231105T090000
END:STANDARD
BEGIN:DAYLIGHT
TZOFFSETFROM:-0800
TZOFFSETTO:-0700
TZNAME:PDT
DTSTART:20240310T100000
END:DAYLIGHT
BEGIN:STANDARD
TZOFFSETFROM:-0700
TZOFFSETTO:-0800
TZNAME:PST
DTSTART:20241103T090000
END:STANDARD
BEGIN:DAYLIGHT
TZOFFSETFROM:-0800
TZOFFSETTO:-0700
TZNAME:PDT
DTSTART:20250309T100000
END:DAYLIGHT
BEGIN:STANDARD
TZOFFSETFROM:-0700
TZOFFSETTO:-0800
TZNAME:PST
DTSTART:20251102T090000
END:STANDARD
END:VTIMEZONE
BEGIN:VEVENT
DTSTART;TZID=America/Los_Angeles:20240802T110000
DTEND;TZID=America/Los_Angeles:20240802T130000
DTSTAMP:20260420T093506
CREATED:20240508T200441Z
LAST-MODIFIED:20240509T220802Z
UID:10005588-1722596400-1722603600@www.discovercathedralcity.com
SUMMARY:Summer Movie Series 2024
DESCRIPTION:The Cathedral City Parks and Community Events Commission (PACE)\, in partnership with the Mary Pickford Theatre\, presents the return of the “Free Summer Kids Movie Series” happening every Friday at 11:00 a.m. starting Friday\, June 14\, 2024\, thru Friday\, August 2\, 2024. Doors open at 10:30 a.m. The film series offers free admission to see a different movie geared towards kids each Friday morning at the Mary Pickford Theatre in Downtown Cathedral City. \nThe Cathedral City Parks and Community Events Commission will be offering free water and a small popcorn for the first 100 kids at each event during the 8-week period. The cost for this participation is $800 from the FY 2023-2024 PACE Small Events Budget\, which was approved by the City Council at the regular meeting on Wednesday\, April 24\, 2024. \n200 free books will be available at every movie donated by the Read With Me Volunteer Programs. A book will also be read by the Cathedral City Library before every movie. \nSeating is limited and residents can pick up the free passes at the door inside the Mary Pickford Theatre. \nYou may still attempt to go to the film series without a Priority Line Pass\, but you will be placed in a standby line. Once the Priority Line Pass is empty\, those waiting in the standby line will be admitted if seats are still available. \nSUMMER SCHEDULE \n\n6/14- Minions: The Rise of Gru\n6/21- How to Train Your Dragon\n6/28-Puss in Boots: The Last Wish\n7/5- Sing 2\n7/12- Trolls Band Together\n7/19- The Bad Guys\n7/26- Migration\n8/2- Kung Fu Panda
URL:https://www.discovercathedralcity.com/event/summer-movie-series-2024-9/
LOCATION:Mary Pickford Theatre\, 36850 Pickfair St\, Cathedral City\, CA\, 92234\, United States
CATEGORIES:Children Activities,Community Events,Film
ATTACH;FMTTYPE=image/jpeg:https://www.discovercathedralcity.com/wp-content/uploads/2024/05/Free-Summer-Movie-Poster24-2.jpg
ORGANIZER;CN="Cathedral City Parks and Community Events Commission":MAILTO:dpressgrove@cathedralcity.gov
GEO:33.781085;-116.463048
X-APPLE-STRUCTURED-LOCATION;VALUE=URI;X-ADDRESS=Mary Pickford Theatre 36850 Pickfair St Cathedral City CA 92234 United States;X-APPLE-RADIUS=500;X-TITLE=36850 Pickfair St:geo:-116.463048,33.781085
END:VEVENT
BEGIN:VEVENT
DTSTART;TZID=America/Los_Angeles:20240803T100000
DTEND;TZID=America/Los_Angeles:20240803T120000
DTSTAMP:20260420T093506
CREATED:20240724T222632Z
LAST-MODIFIED:20240725T173020Z
UID:10005599-1722679200-1722686400@www.discovercathedralcity.com
SUMMARY:In Conversation
DESCRIPTION:Join us for an important and timely event with the Cathedral City Police Department and Cathedral City Fire Department. This session will include a “Civilian Response to Active Shooter Events” (CRASE) course from the Texas State University Advanced Law Enforcement Rapid Response Training (ALERRT). \nEvent Details: \n\nDate: August 3\, 2024\nTime: 10:00 AM – 12:00 PM\nLocation: Emergency Operations Center (EOC)\, 32100 Desert Vista Rd\n\nThe event will cover crucial topics to help you prepare and respond effectively in active shooter situations. These situations can erupt suddenly and resolve within 10 to 15 minutes\, making it essential to know how to act swiftly and effectively. The brief window of response time is critical for making a significant difference\, and bystanders often become the first line of defense for victims suffering from life-threatening bleeding. \nAdditionally\, the event will feature the STOP THE BLEED® training\, which empowers you to recognize and act quickly against bleeding emergencies. This training equips you with three essential techniques that could save a life. \nRSVP: Please email Fireinfo@cathedralcity.gov to confirm your attendance. \nThis event is proudly supported by Cathedral City Fire\, Dinner with Patsi\, Cathedral City\, Roadrunner Print and Ship\, Altura Credit Union\, and Cathedral City Police. Don’t miss this opportunity to learn life-saving skills and engage in important discussions with our local law enforcement and fire department.
URL:https://www.discovercathedralcity.com/event/in-conversation/
LOCATION:Cathedral City Fire Department Administrative Headquarters\, 32-100 Desert Vista Road\, Cathedral City\, CA\, 92234\, United States
CATEGORIES:Community Events,Health,Public Safety
ATTACH;FMTTYPE=image/png:https://www.discovercathedralcity.com/wp-content/uploads/2024/07/inconversation.png
GEO:33.815125;-116.461222
X-APPLE-STRUCTURED-LOCATION;VALUE=URI;X-ADDRESS=Cathedral City Fire Department Administrative Headquarters 32-100 Desert Vista Road Cathedral City CA 92234 United States;X-APPLE-RADIUS=500;X-TITLE=32-100 Desert Vista Road:geo:-116.461222,33.815125
END:VEVENT
BEGIN:VEVENT
DTSTART;TZID=America/Los_Angeles:20240807T090000
DTEND;TZID=America/Los_Angeles:20240807T130000
DTSTAMP:20260420T093506
CREATED:20240710T220643Z
LAST-MODIFIED:20240710T221008Z
UID:10005597-1723021200-1723035600@www.discovercathedralcity.com
SUMMARY:AARP Smart Driver Course
DESCRIPTION:Calling all drivers! Boost your safety skills and potentially save on insurance with the AARP Smart Driver Course at Cathedral City Senior Center. \n🚗 When: Wed\, August 7 & 14\, 9AM-1PM 💰 Cost: $20 AARP members / $25 non-members 🎓 Benefits: Learn to keep yourself and others safe on the road\, plus claim a possible multi-year auto insurance discount! \nSpace is limited\, so pre-register now! Call 760-321-1548 or visit the front desk. \nStay smart\, drive safe! #AARPSmartDriver #SeniorSafety #DrivingSafety”
URL:https://www.discovercathedralcity.com/event/aarp-smart-driver-course/2024-08-07/
LOCATION:Cathedral City Senior Center\, 37171 W. Buddy Rogers Avenue\, Cathedral City\, CA\, 92234\, United States
CATEGORIES:Auto,Senior
ATTACH;FMTTYPE=image/jpeg:https://www.discovercathedralcity.com/wp-content/uploads/2024/07/Safe-Driver-Course.jpg
GEO:33.7787774;-116.4646519
X-APPLE-STRUCTURED-LOCATION;VALUE=URI;X-ADDRESS=Cathedral City Senior Center 37171 W. Buddy Rogers Avenue Cathedral City CA 92234 United States;X-APPLE-RADIUS=500;X-TITLE=37171 W. Buddy Rogers Avenue:geo:-116.4646519,33.7787774
END:VEVENT
BEGIN:VEVENT
DTSTART;TZID=America/Los_Angeles:20240808T090000
DTEND;TZID=America/Los_Angeles:20240808T150000
DTSTAMP:20260420T093506
CREATED:20240605T213822Z
LAST-MODIFIED:20240605T214156Z
UID:10005592-1723107600-1723129200@www.discovercathedralcity.com
SUMMARY:Blood Drive
DESCRIPTION:🩸 Be a Hero\, Save Lives in Cathedral City! 🦸‍♂️ \nMark your calendars for our upcoming Blood Drive on Thursday\, Aug. 8\, from 9 AM to 3 PM at the Civic Center (68700 Avenida Lalo Guerrero). As our way of saying thanks\, every donor gets to spin our special prize wheel—you could walk away with an awesome gift! 🎁🎰 \nIn the comfort of our Study Session Room\, you can make a difference in someone’s life. One donation can save up to three lives—that’s superhero status right there! 💪 \nDon’t miss this chance to support your community. Book your appointment now: 📞 Call 800.879.4484 🌐 Visit lstream.org/cathedral 📷 Scan the QR code on our flyer \nTogether\, we can ensure our hospitals have the blood they need. See you on Aug. 8! #GiveBlood #SaveLives #CathedralCityHeroes
URL:https://www.discovercathedralcity.com/event/blood-drive/
LOCATION:Study Session\, 1st Floor City Hall\, 68700 Ave Lalo Guerrero\, Cathedral City\, CA\, 92234\, United States
CATEGORIES:Community Events,Health
ATTACH;FMTTYPE=image/jpeg:https://www.discovercathedralcity.com/wp-content/uploads/2024/06/City-of-Cathedral-City-8-8-Blood-Drive-E-FLYER-scaled.jpg
GEO:33.7814067;-116.4640621
X-APPLE-STRUCTURED-LOCATION;VALUE=URI;X-ADDRESS=Study Session 1st Floor City Hall 68700 Ave Lalo Guerrero Cathedral City CA 92234 United States;X-APPLE-RADIUS=500;X-TITLE=68700 Ave Lalo Guerrero:geo:-116.4640621,33.7814067
END:VEVENT
BEGIN:VEVENT
DTSTART;TZID=America/Los_Angeles:20240814T090000
DTEND;TZID=America/Los_Angeles:20240814T130000
DTSTAMP:20260420T093506
CREATED:20240710T220643Z
LAST-MODIFIED:20240710T221008Z
UID:10005598-1723626000-1723640400@www.discovercathedralcity.com
SUMMARY:AARP Smart Driver Course
DESCRIPTION:Calling all drivers! Boost your safety skills and potentially save on insurance with the AARP Smart Driver Course at Cathedral City Senior Center. \n🚗 When: Wed\, August 7 & 14\, 9AM-1PM 💰 Cost: $20 AARP members / $25 non-members 🎓 Benefits: Learn to keep yourself and others safe on the road\, plus claim a possible multi-year auto insurance discount! \nSpace is limited\, so pre-register now! Call 760-321-1548 or visit the front desk. \nStay smart\, drive safe! #AARPSmartDriver #SeniorSafety #DrivingSafety”
URL:https://www.discovercathedralcity.com/event/aarp-smart-driver-course/2024-08-14/
LOCATION:Cathedral City Senior Center\, 37171 W. Buddy Rogers Avenue\, Cathedral City\, CA\, 92234\, United States
CATEGORIES:Auto,Senior
ATTACH;FMTTYPE=image/jpeg:https://www.discovercathedralcity.com/wp-content/uploads/2024/07/Safe-Driver-Course.jpg
GEO:33.7787774;-116.4646519
X-APPLE-STRUCTURED-LOCATION;VALUE=URI;X-ADDRESS=Cathedral City Senior Center 37171 W. Buddy Rogers Avenue Cathedral City CA 92234 United States;X-APPLE-RADIUS=500;X-TITLE=37171 W. Buddy Rogers Avenue:geo:-116.4646519,33.7787774
END:VEVENT
BEGIN:VEVENT
DTSTART;TZID=America/Los_Angeles:20240817T140000
DTEND;TZID=America/Los_Angeles:20240817T160000
DTSTAMP:20260420T093506
CREATED:20240805T232128Z
LAST-MODIFIED:20240805T232128Z
UID:10005605-1723903200-1723910400@www.discovercathedralcity.com
SUMMARY:Healing Sound Energy Meditative Sound Bath
DESCRIPTION:Date: Saturday\, August 17\nTime: 2:00 PM\nLocation: Cathedral City Senior Center 37171 W. Buddy Rogers Ave\, Cathedral City\, CA 92234 \nExperience the healing benefits of Tibetan crystal “singing bowls” in this meditative sound bath session. Harmonize your mind\, body\, and spirit as you relax and recharge. \nWhat to bring: \n\nYoga mat\nBlanket\nPillow (optional)\n\nSuggested donation: $20 at the door \nReservations required. Call 310-801-6538 to reserve your spot. \nFor more information: Website: www.SimeonDenWellness.com Senior Center Phone: 760-321-1548 \nCome enjoy this unique relaxation experience and discover the potential healing properties of sound energy therapy.
URL:https://www.discovercathedralcity.com/event/healing-sound-energy-meditative-sound-bath/
LOCATION:Cathedral City Senior Center\, 37171 W. Buddy Rogers Avenue\, Cathedral City\, CA\, 92234\, United States
CATEGORIES:Energy,Health,Senior
ATTACH;FMTTYPE=image/jpeg:https://www.discovercathedralcity.com/wp-content/uploads/2024/08/Simeon-Den-Wellness-Senior-Center.jpg
GEO:33.7787774;-116.4646519
X-APPLE-STRUCTURED-LOCATION;VALUE=URI;X-ADDRESS=Cathedral City Senior Center 37171 W. Buddy Rogers Avenue Cathedral City CA 92234 United States;X-APPLE-RADIUS=500;X-TITLE=37171 W. Buddy Rogers Avenue:geo:-116.4646519,33.7787774
END:VEVENT
BEGIN:VEVENT
DTSTART;TZID=America/Los_Angeles:20240821T170000
DTEND;TZID=America/Los_Angeles:20240821T200000
DTSTAMP:20260420T093506
CREATED:20240725T231928Z
LAST-MODIFIED:20240812T192844Z
UID:10005600-1724259600-1724270400@www.discovercathedralcity.com
SUMMARY:Dinner with Patsi - August
DESCRIPTION:Join Dinner with Patsi at Luchador Brewing Company\, on Wednesday\, August 21st\, between 5 pm-8 pm. \nPhone (760) 797-2337. Located at 68510 E. Palm Canyon\, Cathedral City\, CA\, 92234. \nPatsi will be there to pass her Red Hat. Donations go towards S.C.R.A.P. Gallery. \nThey will also collect food items for the Cathedral City Senior Center Food Bank.
URL:https://www.discovercathedralcity.com/event/dinner-with-patsi-august-2/
LOCATION:Luchador Brewing Company\, 68510 E. Palm Canyon Dr.\, Cathedral City\, CA\, 92234\, United States
CATEGORIES:Food,Recycling,Senior
ATTACH;FMTTYPE=image/png:https://www.discovercathedralcity.com/wp-content/uploads/2024/07/2024.08-DWP-SCRAP-@-Luchador-flyer.png
ORGANIZER;CN="Dinner with Patsi":MAILTO:dinnerwithpatsi@gmail.com
GEO:33.7807898;-116.4660698
X-APPLE-STRUCTURED-LOCATION;VALUE=URI;X-ADDRESS=Luchador Brewing Company 68510 E. Palm Canyon Dr. Cathedral City CA 92234 United States;X-APPLE-RADIUS=500;X-TITLE=68510 E. Palm Canyon Dr.:geo:-116.4660698,33.7807898
END:VEVENT
BEGIN:VEVENT
DTSTART;TZID=America/Los_Angeles:20240824T100000
DTEND;TZID=America/Los_Angeles:20240824T160000
DTSTAMP:20260420T093506
CREATED:20240508T150605Z
LAST-MODIFIED:20241105T191125Z
UID:10005577-1724493600-1724515200@www.discovercathedralcity.com
SUMMARY:Quarterly Art Exhibit
DESCRIPTION:The Cathedral City Public Library is hosting its Quarterly Art Exhibit\, showcasing works by 10 talented local artists selected from the Cathedral City Public Arts Commissions program. This vibrant exhibition will feature a diverse array of artistic mediums and unique perspectives. Visitors can explore the artwork; some art may be available for purchase\, supporting the creative talents within the community. \nDates:\nMay 18 & 19\, 2024\, August 24 & 25\, 2024\, and November 9 & 10\, 2024 \nTime: 10 AM – 4 PM \nLocation: Cathedral City Public Library 33520 Date Palm Dr\, Cathedral City\, CA 92234 \nThe Quarterly Art Exhibit is Sponsored by:\nCathedral City Public Library and Cathedral City Public Arts Commission.
URL:https://www.discovercathedralcity.com/event/quarterly-art-exhibit/2024-08-24/
LOCATION:Cathedral City Public Library\, 33520 Date Palm Drive\, Cathedral City\, CA\, 92234\, United States
CATEGORIES:Art,Community Events
ATTACH;FMTTYPE=image/jpeg:https://www.discovercathedralcity.com/wp-content/uploads/2024/05/Letter.jpg
GEO:33.8042303;-116.45733
X-APPLE-STRUCTURED-LOCATION;VALUE=URI;X-ADDRESS=Cathedral City Public Library 33520 Date Palm Drive Cathedral City CA 92234 United States;X-APPLE-RADIUS=500;X-TITLE=33520 Date Palm Drive:geo:-116.45733,33.8042303
END:VEVENT
BEGIN:VEVENT
DTSTART;TZID=America/Los_Angeles:20240825T100000
DTEND;TZID=America/Los_Angeles:20240825T160000
DTSTAMP:20260420T093506
CREATED:20240508T150605Z
LAST-MODIFIED:20241105T191125Z
UID:10005578-1724580000-1724601600@www.discovercathedralcity.com
SUMMARY:Quarterly Art Exhibit
DESCRIPTION:The Cathedral City Public Library is hosting its Quarterly Art Exhibit\, showcasing works by 10 talented local artists selected from the Cathedral City Public Arts Commissions program. This vibrant exhibition will feature a diverse array of artistic mediums and unique perspectives. Visitors can explore the artwork; some art may be available for purchase\, supporting the creative talents within the community. \nDates:\nMay 18 & 19\, 2024\, August 24 & 25\, 2024\, and November 9 & 10\, 2024 \nTime: 10 AM – 4 PM \nLocation: Cathedral City Public Library 33520 Date Palm Dr\, Cathedral City\, CA 92234 \nThe Quarterly Art Exhibit is Sponsored by:\nCathedral City Public Library and Cathedral City Public Arts Commission.
URL:https://www.discovercathedralcity.com/event/quarterly-art-exhibit/2024-08-25/
LOCATION:Cathedral City Public Library\, 33520 Date Palm Drive\, Cathedral City\, CA\, 92234\, United States
CATEGORIES:Art,Community Events
ATTACH;FMTTYPE=image/jpeg:https://www.discovercathedralcity.com/wp-content/uploads/2024/05/Letter.jpg
GEO:33.8042303;-116.45733
X-APPLE-STRUCTURED-LOCATION;VALUE=URI;X-ADDRESS=Cathedral City Public Library 33520 Date Palm Drive Cathedral City CA 92234 United States;X-APPLE-RADIUS=500;X-TITLE=33520 Date Palm Drive:geo:-116.45733,33.8042303
END:VEVENT
BEGIN:VEVENT
DTSTART;TZID=America/Los_Angeles:20240831T160000
DTEND;TZID=America/Los_Angeles:20240831T170000
DTSTAMP:20260420T093506
CREATED:20240822T150033Z
LAST-MODIFIED:20240822T150033Z
UID:10005608-1725120000-1725123600@www.discovercathedralcity.com
SUMMARY:Free Ice Cream Social
DESCRIPTION:🔥 Cathedral City Fire Department 🔥\n🍦 Ice Cream Social 🍦 \nEvent: Ice Cream Social\nDate: August 31\, 2024\nTime: 4:00 PM\nLocation: Panorama Park & Ocotillo Park\, Cathedral City \nDetails:\nJoin us for a fun-filled afternoon at Panorama Park or Ocotillo Park. The Cathedral City Fire Department is hosting a community Ice Cream Social\, and everyone is invited. Enjoy free ice cream and mingle with your neighbors in a friendly and festive atmosphere. This is a great way to cool down\, enjoy the summer\, and meet new friends. Don’t miss out on this sweet event! \nIce Cream Social 083124\nIce Cream Social 083124 (Spanish)
URL:https://www.discovercathedralcity.com/event/free-ice-cream-social/
LOCATION:Panorama Park\, 28905 Avenida Maravilla\, Cathedral City\, CA\, 92234\, United States
CATEGORIES:Community Events,Public Safety
ATTACH;FMTTYPE=image/jpeg:https://www.discovercathedralcity.com/wp-content/uploads/2024/08/Ice-Cream-Social-083124.jpg
GEO:33.8400854;-116.4669059
X-APPLE-STRUCTURED-LOCATION;VALUE=URI;X-ADDRESS=Panorama Park 28905 Avenida Maravilla Cathedral City CA 92234 United States;X-APPLE-RADIUS=500;X-TITLE=28905 Avenida Maravilla:geo:-116.4669059,33.8400854
END:VEVENT
END:VCALENDAR