BEGIN:VCALENDAR
VERSION:2.0
PRODID:-//Discover Cathedral City - ECPv6.15.13//NONSGML v1.0//EN
CALSCALE:GREGORIAN
METHOD:PUBLISH
X-ORIGINAL-URL:https://www.discovercathedralcity.com
X-WR-CALDESC:Events for Discover Cathedral City
REFRESH-INTERVAL;VALUE=DURATION:PT1H
X-Robots-Tag:noindex
X-PUBLISHED-TTL:PT1H
BEGIN:VTIMEZONE
TZID:America/Los_Angeles
BEGIN:DAYLIGHT
TZOFFSETFROM:-0800
TZOFFSETTO:-0700
TZNAME:PDT
DTSTART:20230312T100000
END:DAYLIGHT
BEGIN:STANDARD
TZOFFSETFROM:-0700
TZOFFSETTO:-0800
TZNAME:PST
DTSTART:20231105T090000
END:STANDARD
BEGIN:DAYLIGHT
TZOFFSETFROM:-0800
TZOFFSETTO:-0700
TZNAME:PDT
DTSTART:20240310T100000
END:DAYLIGHT
BEGIN:STANDARD
TZOFFSETFROM:-0700
TZOFFSETTO:-0800
TZNAME:PST
DTSTART:20241103T090000
END:STANDARD
BEGIN:DAYLIGHT
TZOFFSETFROM:-0800
TZOFFSETTO:-0700
TZNAME:PDT
DTSTART:20250309T100000
END:DAYLIGHT
BEGIN:STANDARD
TZOFFSETFROM:-0700
TZOFFSETTO:-0800
TZNAME:PST
DTSTART:20251102T090000
END:STANDARD
END:VTIMEZONE
BEGIN:VEVENT
DTSTART;TZID=America/Los_Angeles:20240914T100000
DTEND;TZID=America/Los_Angeles:20240914T230000
DTSTAMP:20260420T112248
CREATED:20240822T151327Z
LAST-MODIFIED:20240826T150129Z
UID:10005609-1726308000-1726354800@www.discovercathedralcity.com
SUMMARY:Hands-Only CPR & Stop the Bleed
DESCRIPTION:🩺 Learn to Save Lives with Hands-Only CPR & Stop the Bleed! 🚑 \nJoin us for a life-saving training event where you’ll learn essential skills to act quickly in emergencies. \n📅 Date: September 14\, 2024\n🕙 Time: 10:00 AM\n📍 Location: EOC\, 32100 Desert Vista Rd \nIn this training\, you’ll: \n\nRecognize cardiac arrest and perform hands-only CPR\nMaster three crucial techniques to manage bleeding emergencies\n\nRSVP: Fireinfo@cathedralcity.gov \nEmpower yourself to make a difference when it matters most! 💪 #CPR #StopTheBleed #SaveLives \n\n\n\n\n\n\n\nHO CPR & STB 091424\nHO-CPR-STB-091424-Spanish-2\n 
URL:https://www.discovercathedralcity.com/event/hands-only-cpr-stop-the-bleed/
LOCATION:Cathedral City Fire Department Administrative Headquarters\, 32-100 Desert Vista Road\, Cathedral City\, CA\, 92234\, United States
CATEGORIES:Community Events,Health,Public Safety
ATTACH;FMTTYPE=image/jpeg:https://www.discovercathedralcity.com/wp-content/uploads/2024/08/HO-CPR-STB-091424-2.jpg
GEO:33.815125;-116.461222
X-APPLE-STRUCTURED-LOCATION;VALUE=URI;X-ADDRESS=Cathedral City Fire Department Administrative Headquarters 32-100 Desert Vista Road Cathedral City CA 92234 United States;X-APPLE-RADIUS=500;X-TITLE=32-100 Desert Vista Road:geo:-116.461222,33.815125
END:VEVENT
BEGIN:VEVENT
DTSTART;TZID=America/Los_Angeles:20240914T160000
DTEND;TZID=America/Los_Angeles:20240914T230000
DTSTAMP:20260420T112248
CREATED:20240912T210920Z
LAST-MODIFIED:20240912T210921Z
UID:10005628-1726329600-1726354800@www.discovercathedralcity.com
SUMMARY:MiChavela Festival 2024
DESCRIPTION:GOLDEN SMOKE SHOP PRESENTS MiChavela Festival 2024! \nThe Coachella Valley’s very own MiChavela Festival is back and is expanding into the Cathedral City Amphitheater for a BIGGER experience! Celebrating Mexican Independence Day! We are bringing you an incredible lineup of entertainment! \nPerforming live on stage: \n\nAldo Trujillo\nBanda Vallarta Show\nRubyana “Selena Tribute”\nGrupo Mando\nMariachi Estrella\nDJ MarkuzArea\nAlong with live Lucha Libre Wrestling! Carnival games for the family and kids!\nWe are bringing back the Classic Lowrider Car show! Hosted by Big Red Chula!\nWe are adding a FULL BAR & BEER GARDEN! Powered by Luchador Brewing Company! Along with some amazing Miche vendors\, Mexican street food vendors\, and much more!\n\nEarly bird passes go on sale Wednesday\, July 31st at 12pm PST. GA Passes are available and include: \n\nAdmission into the festival\nAccess to public GA areas\nView of the main stage\nAccess to GA food and bars\nAccess to local vendors\nAccess to sponsored experiences\nVIP Passes are available and include:\nEverything that GA comes with\nVIP entry and front of the line access\n2 complimentary drinks\nVIP access to the VIP area ( food\, bar\, lounge area )\nFront row to concert\n\nThis is a family friendly event. 17 and under requires an adult 18+ for entry into the festival. 21+ to drink. AGES 12 AND UNDER ARE FREE!!
URL:https://www.discovercathedralcity.com/event/michavela-festival-2024/
LOCATION:Cathedral City Community Amphitheater\, 68526 Avenida Lalo Guerrero\, Cathedral City\, CA\, 92234\, United States
CATEGORIES:Children Activities,Community Events,Food,Latino,Music,Performing Arts
ATTACH;FMTTYPE=image/jpeg:https://www.discovercathedralcity.com/wp-content/uploads/2024/09/Mi-Chavela-Fest-Poster.jpg
GEO:33.7813769;-116.4655492
X-APPLE-STRUCTURED-LOCATION;VALUE=URI;X-ADDRESS=Cathedral City Community Amphitheater 68526 Avenida Lalo Guerrero Cathedral City CA 92234 United States;X-APPLE-RADIUS=500;X-TITLE=68526 Avenida Lalo Guerrero:geo:-116.4655492,33.7813769
END:VEVENT
BEGIN:VEVENT
DTSTART;TZID=America/Los_Angeles:20240915T100000
DTEND;TZID=America/Los_Angeles:20240915T230000
DTSTAMP:20260420T112248
CREATED:20240822T154536Z
LAST-MODIFIED:20240822T154536Z
UID:10005611-1726394400-1726441200@www.discovercathedralcity.com
SUMMARY:Celebrating Agnes Pelton: A Journey to Desert Art Center’s 75th Anniversary
DESCRIPTION:Join us in celebrating Agnes Pelton and the 75th anniversary of the Desert Art Center! 🎨✨\n\n\n\n\n\n\n\n\n\n\nOn Sunday\, September 15th\, from 10:00 am to Noon\, come and explore the historic residence where Pelton auctioned off her painting to help create the original Desert Art Center. This “Come & Go Open House” is a unique opportunity to immerse yourself in local art history. \n📍 68680 F St\, Cathedral City\, CA \nLearn more at www.agnespeltonsociety.com and DiscoverCathedralCity.com. \n#AgnesPelton #DesertArtCenter #CathedralCity #ArtHistory #WhereArtLives
URL:https://www.discovercathedralcity.com/event/celebrating-agnes-pelton-a-journey-to-desert-art-centers-75th-anniversary/
LOCATION:Agnes Pelton Society\,  68680 F St\, Cathedral City\, CA\, 92234\, United States
CATEGORIES:Art,History
ATTACH;FMTTYPE=image/jpeg:https://www.discovercathedralcity.com/wp-content/uploads/2024/08/AP-75th.jpg
GEO:33.7758179;-116.4637359
X-APPLE-STRUCTURED-LOCATION;VALUE=URI;X-ADDRESS=Agnes Pelton Society  68680 F St Cathedral City CA 92234 United States;X-APPLE-RADIUS=500;X-TITLE=68680 F St:geo:-116.4637359,33.7758179
END:VEVENT
BEGIN:VEVENT
DTSTART;TZID=America/Los_Angeles:20240916T083000
DTEND;TZID=America/Los_Angeles:20240916T160000
DTSTAMP:20260420T112248
CREATED:20240826T164858Z
LAST-MODIFIED:20240826T164859Z
UID:10005612-1726475400-1726502400@www.discovercathedralcity.com
SUMMARY:Financial Literacy for Business Owners
DESCRIPTION:Monday\, Sept. 16\, 2024\n8:30am-4pm\nCathedral City City Hall\, 68700 Avenida Lalo Guerrero\nRegistration link: https://mailchi.mp/pbsaccountingandtax/financialliteracy\n\nIn today’s rapidly changing economic landscape\, financial literacy and strategic planning are essential for entrepreneurs and small business owners to thrive. Over the course of this one-day intensive workshop\, we will delve into key topics such as goal setting\, reasonable compensation\, tax planning\, budgeting\, and marketing strategies tailored to support your business objectives. \nLed by industry experts and fueled by real-world examples\, this workshop promises to empower you to take control of your finances\, plan for the future\, and achieve your business goals with confidence. Don’t miss this opportunity to revolutionize your approach to financial management and secure a brighter future for your business. \nReserve your spot today and embark on the path to financial success! \nTopics we’ll cover… \n\nReasonable compensation\nPlanning for the future\nTax planning\nTracking your numbers\nDelegating tasks\nBudgeting\nEntity selection\nCash flow projection\nReverse engineering your goals\nMarketing to support your goals\nReading and understanding your financial reports
URL:https://www.discovercathedralcity.com/event/financial-literacy-for-business-owners/
LOCATION:Cathedral City Civic Center – Lobby\, 68-700 Avenida Lalo Guerrero\, Cathedral City\, CA\, 92234\, United States
CATEGORIES:Community Events,Financial
ATTACH;FMTTYPE=image/jpeg:https://www.discovercathedralcity.com/wp-content/uploads/2024/08/455547771_122184094250061931_1249738834133803187_n.jpg
ORGANIZER;CN="Simplified Accounting Management%2C Inc.":MAILTO:info@samincservices.com
GEO:33.7810365;-116.4646456
X-APPLE-STRUCTURED-LOCATION;VALUE=URI;X-ADDRESS=Cathedral City Civic Center – Lobby 68-700 Avenida Lalo Guerrero Cathedral City CA 92234 United States;X-APPLE-RADIUS=500;X-TITLE=68-700 Avenida Lalo Guerrero:geo:-116.4646456,33.7810365
END:VEVENT
BEGIN:VEVENT
DTSTART;TZID=America/Los_Angeles:20240918T170000
DTEND;TZID=America/Los_Angeles:20240918T200000
DTSTAMP:20260420T112248
CREATED:20240829T212139Z
LAST-MODIFIED:20240905T223250Z
UID:10005613-1726678800-1726689600@www.discovercathedralcity.com
SUMMARY:Dinner with Patsi - September
DESCRIPTION:Join Dinner with Patsi at Barrel District\, on Wednesday\, September 18th\, between 5 pm-8 pm. \nPhone (760) 537-7431. Located at 35939 Date Palm Drive\, Cathedral City\, CA\, 92234. \nPatsi will be there to pass her Red Hat. Donations go towards CCPFA. \nThey will also collect food items for the Cathedral City Senior Center Food Bank.
URL:https://www.discovercathedralcity.com/event/dinner-with-patsi-september-2/
LOCATION:The Barrel District\, 35939 Date Palm Drive\, Cathedral City\, CA\, 92234\, United States
CATEGORIES:Food,Recycling,Senior
ATTACH;FMTTYPE=image/png:https://www.discovercathedralcity.com/wp-content/uploads/2024/08/2024.09-DWP-CC-PFA-@-Barrel-District-flyer.png
ORGANIZER;CN="Dinner with Patsi":MAILTO:dinnerwithpatsi@gmail.com
GEO:33.7876549;-116.4592104
X-APPLE-STRUCTURED-LOCATION;VALUE=URI;X-ADDRESS=The Barrel District 35939 Date Palm Drive Cathedral City CA 92234 United States;X-APPLE-RADIUS=500;X-TITLE=35939 Date Palm Drive:geo:-116.4592104,33.7876549
END:VEVENT
BEGIN:VEVENT
DTSTART;TZID=America/Los_Angeles:20240921T160000
DTEND;TZID=America/Los_Angeles:20240921T180000
DTSTAMP:20260420T112248
CREATED:20240904T175454Z
LAST-MODIFIED:20240904T175454Z
UID:10005614-1726934400-1726941600@www.discovercathedralcity.com
SUMMARY:International Day of Peace
DESCRIPTION:This year’s International Day of Peace event by the Cathedral City Peace Initiative is scheduled for Saturday\, Sept. 21\, 2024\, from 4 to 6 p.m. at the Cathedral City Senior Center\, 37-171 West Buddy Rogers Avenue\, Cathedral City! \nThe event will feature a program focusing on the reality that people could create peace by using the rule of law and due process to assure peace in all communities and the world. At the same time\, participants will enjoy a peace-themed art show sponsored by local artist Karen Riley and her S.C.R.A.P. Gallery\, an organization that works with students to create environmental art. \nEach year the International Day of Peace is observed around the world on Sept. 21. The UN General Assembly has declared this as a day devoted to observing 24 hours of non-violence. Cathedral City is proud to be an International City of Peace.
URL:https://www.discovercathedralcity.com/event/international-day-of-peace-2/
LOCATION:Cathedral City Senior Center\, 37171 W. Buddy Rogers Avenue\, Cathedral City\, CA\, 92234\, United States
CATEGORIES:Community Events,Senior
ATTACH;FMTTYPE=image/jpeg:https://www.discovercathedralcity.com/wp-content/uploads/2024/09/International-Day-of-Peace-2024.jpg
GEO:33.7787774;-116.4646519
X-APPLE-STRUCTURED-LOCATION;VALUE=URI;X-ADDRESS=Cathedral City Senior Center 37171 W. Buddy Rogers Avenue Cathedral City CA 92234 United States;X-APPLE-RADIUS=500;X-TITLE=37171 W. Buddy Rogers Avenue:geo:-116.4646519,33.7787774
END:VEVENT
BEGIN:VEVENT
DTSTART;TZID=America/Los_Angeles:20240922T090000
DTEND;TZID=America/Los_Angeles:20240922T110000
DTSTAMP:20260420T112248
CREATED:20240912T212700Z
LAST-MODIFIED:20240919T152519Z
UID:10005629-1726995600-1727002800@www.discovercathedralcity.com
SUMMARY:Fire Boots\, Brews\, and Chews
DESCRIPTION:🚒🍩 Join us for “Fire Boots\, Brews\, and Chews!” 🚒☕️ \nCathedral City Fire Department is hosting a morning filled with coffee\, donuts\, and a chance to chat with our amazing firefighters! 👩‍🚒👨‍🚒 \n📅 Date: September 22\, 2024\n⏰ Time: 9:00 AM – 11:00 AM\n📍 Location: Fire Station 2\, 32100 Desert Vista Rd\, Cathedral City\, CA 92234 \nCome down to enjoy some treats\, meet your local heroes\, and learn more about how they keep our community safe! 🔥👢 \n#FireBootsBrewsAndChews #CathedralCityFire #CommunityEvent #CoffeeAndDonuts #MeetYourFirefighters #CathedralCityEvents
URL:https://www.discovercathedralcity.com/event/fire-boots-brews-and-chews/
LOCATION:Fire Station #2\, 32-100 Desert Vista Road\, Cathedral City\, CA\, 92234\, United States
CATEGORIES:Community Events,Food,Public Safety
ATTACH;FMTTYPE=image/jpeg:https://www.discovercathedralcity.com/wp-content/uploads/2024/09/Boots-Brews-and-Chews-092224.jpg
GEO:33.8149746;-116.4612962
X-APPLE-STRUCTURED-LOCATION;VALUE=URI;X-ADDRESS=Fire Station #2 32-100 Desert Vista Road Cathedral City CA 92234 United States;X-APPLE-RADIUS=500;X-TITLE=32-100 Desert Vista Road:geo:-116.4612962,33.8149746
END:VEVENT
BEGIN:VEVENT
DTSTART;TZID=America/Los_Angeles:20240924T100000
DTEND;TZID=America/Los_Angeles:20240924T120000
DTSTAMP:20260420T112248
CREATED:20240912T214840Z
LAST-MODIFIED:20240912T214841Z
UID:10005632-1727172000-1727179200@www.discovercathedralcity.com
SUMMARY:Fall Prevention
DESCRIPTION:Join us for a FREE Fall Prevention event on September 24\, 2024\, at 10:00 am at Desert Sands Mobile Home Park in Cathedral City! \nLearn how to stay active and reduce your risk of falls as you age. Our experts from Cathedral City Fire & EMS\, Desert Care Network\, and Eisenhower Medical Center will share: \n\nSafe medicine practices\nTips to fall-proof your home\nSteps to prevent fall-related injuries\nImportance of gait and grip strength\n\nDon’t miss this opportunity to protect yourself and your loved ones. Falling shouldn’t be a normal part of aging. Get informed and stay safe! \nFor more info\, visit CathedralCityFire.org or scan the QR code in our flyer. See you there! \n#FallPrevention #SeniorSafety #CathedralCity #HealthyAging
URL:https://www.discovercathedralcity.com/event/fall-prevention-3/
LOCATION:Desert Sands Mobile Home Park\, Date Palm Drive\, Cathedral City\, CA\, 92234\, United States
CATEGORIES:Community Events,Health,Public Safety,Senior
ATTACH;FMTTYPE=image/jpeg:https://www.discovercathedralcity.com/wp-content/uploads/2024/09/Fall-Prevention-Flyer-092424.jpg
GEO:33.8112317;-116.4555338
X-APPLE-STRUCTURED-LOCATION;VALUE=URI;X-ADDRESS=Desert Sands Mobile Home Park Date Palm Drive Cathedral City CA 92234 United States;X-APPLE-RADIUS=500;X-TITLE=Date Palm Drive:geo:-116.4555338,33.8112317
END:VEVENT
BEGIN:VEVENT
DTSTART;TZID=America/Los_Angeles:20240927T160000
DTEND;TZID=America/Los_Angeles:20240927T190000
DTSTAMP:20260420T112248
CREATED:20240909T210818Z
LAST-MODIFIED:20240913T170948Z
UID:10005619-1727452800-1727463600@www.discovercathedralcity.com
SUMMARY:Art Walk
DESCRIPTION:The highly anticipated PEREZ ART DISTRICT art walks return on the fourth Friday of every month from 4 to 7 PM beginning in September. The most exciting\, creative enclave in the Coachella Valley\, the district highlights over 50 established\, mid-career\, and emerging artists in their studios and galleries. Dubbed the “SoHo of the desert\,” the district’s high-quality art attracts collectors and art enthusiasts from around the world. Every month\, on 4th Fridays @4:00 visit the district for a festive art walk which is free and open to the public. Many studios are also open from 11 a.m. to 3 p.m. year-round. Now featuring over 50 artists in buildings A\, C\, H\, and I as well as home stores and galleries in the 68929 building\, The Perez Art District lets you pull back the curtain and peek into artist workspaces. \n  \n \nVisit ThePerezArtDistrict.com for specific studio and gallery information.
URL:https://www.discovercathedralcity.com/event/art-walk/2024-09-27/
LOCATION:Perez Road\, 68845 Perez Road\, Cathedral City\, CA\, 92234\, United States
CATEGORIES:Art,Community Events
ATTACH;FMTTYPE=image/jpeg:https://www.discovercathedralcity.com/wp-content/uploads/2024/09/perezroadartwalk.jpg
ORGANIZER;CN="The Perez Art District":MAILTO:anne@annebedrick.com
GEO:33.7840849;-116.4624146
X-APPLE-STRUCTURED-LOCATION;VALUE=URI;X-ADDRESS=Perez Road 68845 Perez Road Cathedral City CA 92234 United States;X-APPLE-RADIUS=500;X-TITLE=68845 Perez Road:geo:-116.4624146,33.7840849
END:VEVENT
BEGIN:VEVENT
DTSTART;TZID=America/Los_Angeles:20240928T100000
DTEND;TZID=America/Los_Angeles:20240928T230000
DTSTAMP:20260420T112248
CREATED:20240822T151512Z
LAST-MODIFIED:20240826T145657Z
UID:10005610-1727517600-1727564400@www.discovercathedralcity.com
SUMMARY:Hands-Only CPR & Stop the Bleed
DESCRIPTION:🩺 Learn to Save Lives with Hands-Only CPR & Stop the Bleed! 🚑 \nJoin us for a life-saving training event where you’ll learn essential skills to act quickly in emergencies. \n📅 Date: September 28\, 2024\n🕙 Time: 10:00 AM\n📍 Location: EOC\, 32100 Desert Vista Rd \nIn this training\, you’ll: \n\nRecognize cardiac arrest and perform hands-only CPR\nMaster three crucial techniques to manage bleeding emergencies\n\nRSVP: Fireinfo@cathedralcity.gov \nEmpower yourself to make a difference when it matters most! 💪 #CPR #StopTheBleed #SaveLives \n\n\n\n\n\n\nHO CPR & STB 091424 HO CPR & STB 092824 (Spanish)\n\n\n 
URL:https://www.discovercathedralcity.com/event/hands-only-cpr-stop-the-bleed-2/
LOCATION:Cathedral City Fire Department Administrative Headquarters\, 32-100 Desert Vista Road\, Cathedral City\, CA\, 92234\, United States
CATEGORIES:Community Events,Health,Public Safety
ATTACH;FMTTYPE=image/jpeg:https://www.discovercathedralcity.com/wp-content/uploads/2024/08/HO-CPR-STB-091424-1.jpg
GEO:33.815125;-116.461222
X-APPLE-STRUCTURED-LOCATION;VALUE=URI;X-ADDRESS=Cathedral City Fire Department Administrative Headquarters 32-100 Desert Vista Road Cathedral City CA 92234 United States;X-APPLE-RADIUS=500;X-TITLE=32-100 Desert Vista Road:geo:-116.461222,33.815125
END:VEVENT
END:VCALENDAR