BEGIN:VCALENDAR
VERSION:2.0
PRODID:-//Discover Cathedral City - ECPv6.15.13//NONSGML v1.0//EN
CALSCALE:GREGORIAN
METHOD:PUBLISH
X-ORIGINAL-URL:https://www.discovercathedralcity.com
X-WR-CALDESC:Events for Discover Cathedral City
REFRESH-INTERVAL;VALUE=DURATION:PT1H
X-Robots-Tag:noindex
X-PUBLISHED-TTL:PT1H
BEGIN:VTIMEZONE
TZID:America/Los_Angeles
BEGIN:DAYLIGHT
TZOFFSETFROM:-0800
TZOFFSETTO:-0700
TZNAME:PDT
DTSTART:20230312T100000
END:DAYLIGHT
BEGIN:STANDARD
TZOFFSETFROM:-0700
TZOFFSETTO:-0800
TZNAME:PST
DTSTART:20231105T090000
END:STANDARD
BEGIN:DAYLIGHT
TZOFFSETFROM:-0800
TZOFFSETTO:-0700
TZNAME:PDT
DTSTART:20240310T100000
END:DAYLIGHT
BEGIN:STANDARD
TZOFFSETFROM:-0700
TZOFFSETTO:-0800
TZNAME:PST
DTSTART:20241103T090000
END:STANDARD
BEGIN:DAYLIGHT
TZOFFSETFROM:-0800
TZOFFSETTO:-0700
TZNAME:PDT
DTSTART:20250309T100000
END:DAYLIGHT
BEGIN:STANDARD
TZOFFSETFROM:-0700
TZOFFSETTO:-0800
TZNAME:PST
DTSTART:20251102T090000
END:STANDARD
END:VTIMEZONE
BEGIN:VEVENT
DTSTART;TZID=America/Los_Angeles:20241002T170000
DTEND;TZID=America/Los_Angeles:20241002T200000
DTSTAMP:20260420T132709
CREATED:20240904T201704Z
LAST-MODIFIED:20241002T183326Z
UID:10005615-1727888400-1727899200@www.discovercathedralcity.com
SUMMARY:The Richard G. and Anne K. Altman Craft Corner
DESCRIPTION:Exciting news! The Richard G. and Anne K. Altman Craft Corner is having a ribbon cutting and dedication ceremony\, hosted by Mayor Mark Carnevale. Come join us for this special occasion at the Cathedral City Senior Center. This is a great opportunity to check out the new creative space and get inspired. All are welcome! \nKey details: \n\nThe Richard G. and Anne K. Altman Craft Corner\nRibbon Cutting & Dedication from Mayor Mark Carnevale\nCathedral City Senior Center\nOpen to the public
URL:https://www.discovercathedralcity.com/event/the-richard-g-and-anne-k-altman-craft-corner/
LOCATION:Cathedral City Senior Center\, 37171 W. Buddy Rogers Avenue\, Cathedral City\, CA\, 92234\, United States
CATEGORIES:Senior
ATTACH;FMTTYPE=image/jpeg:https://www.discovercathedralcity.com/wp-content/uploads/2024/09/Altman-Invite-1-scaled.jpg
GEO:33.7787774;-116.4646519
X-APPLE-STRUCTURED-LOCATION;VALUE=URI;X-ADDRESS=Cathedral City Senior Center 37171 W. Buddy Rogers Avenue Cathedral City CA 92234 United States;X-APPLE-RADIUS=500;X-TITLE=37171 W. Buddy Rogers Avenue:geo:-116.4646519,33.7787774
END:VEVENT
BEGIN:VEVENT
DTSTART;TZID=America/Los_Angeles:20241004T170000
DTEND;TZID=America/Los_Angeles:20241004T183000
DTSTAMP:20260420T132709
CREATED:20240819T201149Z
LAST-MODIFIED:20240819T201149Z
UID:10005607-1728061200-1728066600@www.discovercathedralcity.com
SUMMARY:Stachetober 2024
DESCRIPTION: Get ready for the most epic event of the year!\nThe Cathedral City Firefighters proudly present\n🚒🔥 STACHETOBER 2024! 🔥🚒 \nJoin us on October 4th at 5 PM at Luchador Brewing Company for an evening of fun\, music\, and community spirit—all supporting the Cathedral City Boys & Girls Club! \n🎶 Music 🏆 Trophies 🎟️ Raffle 🛍️ Silent Auction 👕 \n \nGet your exclusive Stachetober shirts here! \nEmceed by Dinner with Patsi—you won’t want to miss it! \nAddress: 68510 East Palm Canyon #140\, Cathedral City\, CA 92234 \nSupport a great cause\, have a blast\, and show off your best ‘stache! See you there! 😎🎉 \n#Stachetober2024 #CathedralCityFirefighters #SupportLocal #CommunityEvent #BoysAndGirlsClub
URL:https://www.discovercathedralcity.com/event/stachetober-2024/
LOCATION:Luchador Brewing Company\, 68510 E. Palm Canyon Dr.\, Cathedral City\, CA\, 92234\, United States
CATEGORIES:Boys & Girls Club of Cathedral City Event,Community Events,Public Safety
ATTACH;FMTTYPE=image/jpeg:https://www.discovercathedralcity.com/wp-content/uploads/2024/08/Stachetober-1.jpg
GEO:33.7807898;-116.4660698
X-APPLE-STRUCTURED-LOCATION;VALUE=URI;X-ADDRESS=Luchador Brewing Company 68510 E. Palm Canyon Dr. Cathedral City CA 92234 United States;X-APPLE-RADIUS=500;X-TITLE=68510 E. Palm Canyon Dr.:geo:-116.4660698,33.7807898
END:VEVENT
BEGIN:VEVENT
DTSTART;TZID=America/Los_Angeles:20241005T080000
DTEND;TZID=America/Los_Angeles:20241005T090000
DTSTAMP:20260420T132709
CREATED:20241017T223831Z
LAST-MODIFIED:20250129T161604Z
UID:10005639-1728115200-1728118800@www.discovercathedralcity.com
SUMMARY:Community Shredding Event
DESCRIPTION:Join us for FREE Document Shredding Events hosted by the City of Cathedral City! \nWhen: The first Saturday of the month from October to May. \nTime: 8:00 a.m. – 9:00 a.m. ​ \nLocation: 68700 Avenida Lalo Guerrero. ​ \nBring all your sensitive documents\, including legal documents\, medical records\, financial statements\, tax records\, and more! ​ \nTips: \n\nNo need to remove paper clips\, staples\, file folders\, or binder clips. ​\nYou can bring your documents in boxes or plastic bags. ​\n\nRestrictions: \n\nLimited to Cathedral City residents only. ​\nProof of residency is required. ​\nLimit of 5 banker-sized boxes per resident or household. ​\nNo businesses allowed.\n\nWitness the entire shredding process on-site and ensure your documents are securely destroyed. ​ Arrive early as the event ends once the shredding truck is filled to capacity. ​ \nThis is a FREE event\, so take advantage of this opportunity to protect your identity and dispose of your sensitive documents safely. ​ \nFor more information\, call (760) 770-0369 or email dpressgrove@cathedralcity.gov. ​
URL:https://www.discovercathedralcity.com/event/community-shredding-event-2/2024-10-05/
LOCATION:Parking Area Outside of City Hall\, 68700 Avenida Lalo Guerrero\, Cathedral City\, CA\, 92234\, United States
CATEGORIES:Community Events,Environment,Recycling
GEO:33.7814067;-116.4640621
X-APPLE-STRUCTURED-LOCATION;VALUE=URI;X-ADDRESS=Parking Area Outside of City Hall 68700 Avenida Lalo Guerrero Cathedral City CA 92234 United States;X-APPLE-RADIUS=500;X-TITLE=68700 Avenida Lalo Guerrero:geo:-116.4640621,33.7814067
END:VEVENT
BEGIN:VEVENT
DTSTART;TZID=America/Los_Angeles:20241011T130000
DTEND;TZID=America/Los_Angeles:20241011T140000
DTSTAMP:20260420T132709
CREATED:20240912T215758Z
LAST-MODIFIED:20240914T133026Z
UID:10005634-1728651600-1728655200@www.discovercathedralcity.com
SUMMARY:Fall Prevention
DESCRIPTION:Join us for a FREE Fall Prevention event on October 11\, 2024\, at 10:00 am at Cathedral City Senior Center in Cathedral City! \nStaylng Actlve Is essential to good health as we get older\, but our risk falling and fracturing bones or suffering a traumatic brain Injury Increases. \nJoin us for this FREE event to hear all about Fall Prevention from the Cathedral City Fire Department\, in collaboration with the Desert Care Network. \nLearn safe medicine practices\, practical tips to help fall-proof your home\, steps to prevent fall-related injuries and the importance of gait and grip strength. \nDon’t miss this opportunity to protect yourself and your loved ones. Falling shouldn’t be a normal part of aging. Get informed and stay safe! \nFor more info\, visit CathedralCityFire.org or scan the QR code in our flyer. See you there! \n#FallPrevention #SeniorSafety #CathedralCity #HealthyAging \nClick to access Fall-Prevention-Flyer_Senior-Center-10.11.24.pdf
URL:https://www.discovercathedralcity.com/event/fall-prevention-3-2-2/
LOCATION:Cathedral City Senior Center\, 37171 W. Buddy Rogers Avenue\, Cathedral City\, CA\, 92234\, United States
CATEGORIES:Community Events,Health,Public Safety,Senior
ATTACH;FMTTYPE=image/jpeg:https://www.discovercathedralcity.com/wp-content/uploads/2024/09/Fall-Prevention-Flyer_Senior-Center-10.11.24.jpg
GEO:33.7787774;-116.4646519
X-APPLE-STRUCTURED-LOCATION;VALUE=URI;X-ADDRESS=Cathedral City Senior Center 37171 W. Buddy Rogers Avenue Cathedral City CA 92234 United States;X-APPLE-RADIUS=500;X-TITLE=37171 W. Buddy Rogers Avenue:geo:-116.4646519,33.7787774
END:VEVENT
BEGIN:VEVENT
DTSTART;TZID=America/Los_Angeles:20241012T080000
DTEND;TZID=America/Los_Angeles:20241012T110000
DTSTAMP:20260420T132709
CREATED:20240912T213257Z
LAST-MODIFIED:20240912T213258Z
UID:10005630-1728720000-1728730800@www.discovercathedralcity.com
SUMMARY:Pancake Breakfast & Fire Prevention Open House
DESCRIPTION:🥞 Join us for a Pancake Breakfast & Fire Prevention Open House! 🚒🔥 \n📅 When: October 12\, 2024\n⏰ Time: 8:00 AM – 11:00 AM\n📍 Where: Fire Station 2\, 32100 Desert Vista Rd\, Cathedral City \nCome out and enjoy a hearty pancake breakfast with the Cathedral City Fire Department and meet your local firefighters! 🚒👩‍🚒👨‍🚒\nLearn about fire safety and prevention while having a great time with the community. \n✨ This family-friendly event is the perfect way to spend your Saturday morning!\nDon’t miss out on the fun\, food\, and valuable safety tips. See you there! 🥞💙 \nFor more info\, visit: cathedralcityfire.org \n#PancakeBreakfast #FireSafety #CathedralCityFireDept #CommunityEvent #CathedralCity #FirePrevention
URL:https://www.discovercathedralcity.com/event/pancake-breakfast-fire-prevention-open-house/
LOCATION:Fire Station #2\, 32-100 Desert Vista Road\, Cathedral City\, CA\, 92234\, United States
CATEGORIES:Community Events,Public Safety
ATTACH;FMTTYPE=image/jpeg:https://www.discovercathedralcity.com/wp-content/uploads/2024/09/Pancake-Breakfast-101224.jpg
GEO:33.8149746;-116.4612962
X-APPLE-STRUCTURED-LOCATION;VALUE=URI;X-ADDRESS=Fire Station #2 32-100 Desert Vista Road Cathedral City CA 92234 United States;X-APPLE-RADIUS=500;X-TITLE=32-100 Desert Vista Road:geo:-116.4612962,33.8149746
END:VEVENT
BEGIN:VEVENT
DTSTART;TZID=America/Los_Angeles:20241013T170000
DTEND;TZID=America/Los_Angeles:20241013T203000
DTSTAMP:20260420T132709
CREATED:20241007T212344Z
LAST-MODIFIED:20241007T212433Z
UID:10005638-1728838800-1728851400@www.discovercathedralcity.com
SUMMARY:Pretty in Pink - Miss Uchawi
DESCRIPTION:RESERVE YOUR DINNER SHOW SEATS HERE \nDinner Show benefiting Eisenhower Lucy Curci Cancer Center Foundation. \n• 3 Course Dinner by Trilussa \n• Reservation/ Dinner at 5pm \n• Auction/Show at 6pm \nIntroducing Miss Uchawi\, the world’s most fabulous Magician and Hypnotist! As a Las Vegas Showgirl\, she transcends expectations\, earning acclaim as the David Copperfield of Drag Queens. Her illustrious career includes captivating audiences on multiple national college tours\, lighting up comedy clubs\, and starring in national commercials. \nHeadlining her own Vegas spectacle\, Queen of Magic\, she combines drama\, fashion\, award-winning magic\, southern sass\, and a charming persona honed over 10+ years of professional production and performance experience. Miss Uchawi has dedicated her life to drag and variety entertainment\, and best of all\, she is just getting started! \nOnline reservations close at 12:00PM the day of the show. After this time\, please call The Roost Lounge at 760-507-8495 to inquire about seating availability. Thank you.
URL:https://www.discovercathedralcity.com/event/pretty-in-pink-miss-uchawi/
LOCATION:The Roost Lounge\, 68718 East Palm Canyon Drive\, Cathedral City\, CA\, 92234\, United States
ATTACH;FMTTYPE=image/jpeg:https://www.discovercathedralcity.com/wp-content/uploads/2024/10/Snapinsta.app_460834644_18037553741472372_2426935579743134208_n_1080.jpg
GEO:33.7799551;-116.463431
X-APPLE-STRUCTURED-LOCATION;VALUE=URI;X-ADDRESS=The Roost Lounge 68718 East Palm Canyon Drive Cathedral City CA 92234 United States;X-APPLE-RADIUS=500;X-TITLE=68718 East Palm Canyon Drive:geo:-116.463431,33.7799551
END:VEVENT
BEGIN:VEVENT
DTSTART;TZID=America/Los_Angeles:20241014T120000
DTEND;TZID=America/Los_Angeles:20241014T140000
DTSTAMP:20260420T132709
CREATED:20241002T225507Z
LAST-MODIFIED:20241010T175300Z
UID:10005636-1728907200-1728914400@www.discovercathedralcity.com
SUMMARY:Hispanic Heritage Month Celebration
DESCRIPTION:📅 Date: Saturday\, October 14\, 2024\n🕒 Time: 12:00 PM – 9:00 PM\n📍 Location: Cathedral City Sr. Center \nJoin us for a vibrant celebration of Hispanic Heritage Month! Enjoy live music\, delicious Latin American cuisine\, cultural performances\, and family-friendly activities. This event will highlight the rich traditions and contributions of the Hispanic community\, with something for everyone to enjoy. Don’t miss out on this lively day of fun and culture!
URL:https://www.discovercathedralcity.com/event/hispanic-heritage-month-celebration/
LOCATION:Cathedral City Senior Center\, 37171 W. Buddy Rogers Avenue\, Cathedral City\, CA\, 92234\, United States
CATEGORIES:Community Events,History,Latino,Senior
ATTACH;FMTTYPE=image/jpeg:https://www.discovercathedralcity.com/wp-content/uploads/2024/10/Hispanic-Hertige-Month-Celebration-Flyer-4-1-1_Page_1.jpg
GEO:33.7787774;-116.4646519
X-APPLE-STRUCTURED-LOCATION;VALUE=URI;X-ADDRESS=Cathedral City Senior Center 37171 W. Buddy Rogers Avenue Cathedral City CA 92234 United States;X-APPLE-RADIUS=500;X-TITLE=37171 W. Buddy Rogers Avenue:geo:-116.4646519,33.7787774
END:VEVENT
BEGIN:VEVENT
DTSTART;VALUE=DATE:20241016
DTEND;VALUE=DATE:20241017
DTSTAMP:20260420T132709
CREATED:20241004T184748Z
LAST-MODIFIED:20241004T184827Z
UID:10005637-1729036800-1729123199@www.discovercathedralcity.com
SUMMARY:EVENT NOW FULL: Free Spay & Neuter October Event
DESCRIPTION: UPDATE: EVENT NOW FULL. We thank you for your interest in this event! ———The Cathedral City Parks & Community Events Commission and Riverside County Animal Services are pleased to announce a free spay and neuter event that will take place Oct. 16\, 2024\, at the Cathedral City Library! Spots are in high demand and will fill quickly.We are excited to help the community in any way that we can! Please sign up for appointment online at https://bit.ly/3zopbqJ or scan the QR code.
URL:https://www.discovercathedralcity.com/event/free-spay-neuter-october-event/
LOCATION:Cathedral City Public Library\, 33520 Date Palm Drive\, Cathedral City\, CA\, 92234\, United States
CATEGORIES:Pets
ATTACH;FMTTYPE=image/jpeg:https://www.discovercathedralcity.com/wp-content/uploads/2024/10/Spay-Neuter-Oct-2024.jpg
GEO:33.8042303;-116.45733
X-APPLE-STRUCTURED-LOCATION;VALUE=URI;X-ADDRESS=Cathedral City Public Library 33520 Date Palm Drive Cathedral City CA 92234 United States;X-APPLE-RADIUS=500;X-TITLE=33520 Date Palm Drive:geo:-116.45733,33.8042303
END:VEVENT
BEGIN:VEVENT
DTSTART;TZID=America/Los_Angeles:20241017T150000
DTEND;TZID=America/Los_Angeles:20241017T173000
DTSTAMP:20260420T132709
CREATED:20211011T202704Z
LAST-MODIFIED:20240806T211908Z
UID:10003487-1729177200-1729186200@www.discovercathedralcity.com
SUMMARY:CCHS Homecoming Parade & Rally
DESCRIPTION:The Cathedral City High School Homecoming Parade and Rally returns to Downtown Cathedral City on Thursday\, October 17th from 4:30 pm to 5:30 pm.  The parade route will mirror the route used last time in 2023 where it starts south of Perez Road on Cathedral Canyon Drive and continues south to Avenida Lalo Guerrero and turns left.  Once on Avenida Lalo Guerrero\, the parade will end in front of City Hall for the Rally. \nOver the years\, the parade has featured football team\, marching band\, cheer leaders\, students nominated for Homecoming King and Queen\, various honor groups\, elected officials\, middle and elementary school students\, and more. \nAttendees should park in the City’s Parking Garage by entering from the east on Officer David Vasquez Road behind City Hall.  From the parking garage\, you will be steps from the parade route and rally. \nDue to the parade\, motorists should be aware that Avenida Lalo Guerrero and Cathedral Canyon Drive between East Palm Canyon Drive (HWY 111) and Perez Road will be closed for safety from 3:00 pm to approximately 5:30 pm. Both East Palm Canyon Drive and Perez Road will remain open to traffic during the parade.  Customers wanting to access businesses along the parade route will need to use secondary streets or be prepared to travel a moderate distance from their car to the business.
URL:https://www.discovercathedralcity.com/event/cchs-homecoming-parade-rally-2/
LOCATION:Cathedral City Civic Center Plaza\, 68700 Avenida Lalo Guerrero\, Cathedral City\, CA\, 92234\, United States
CATEGORIES:Community Events,Music,Sporting Event
ATTACH;FMTTYPE=image/jpeg:https://www.discovercathedralcity.com/wp-content/uploads/2021/10/311231534_465990275567588_21528815759596643_n-e1722977700380.jpg
GEO:33.7814432;-116.464137
X-APPLE-STRUCTURED-LOCATION;VALUE=URI;X-ADDRESS=Cathedral City Civic Center Plaza 68700 Avenida Lalo Guerrero Cathedral City CA 92234 United States;X-APPLE-RADIUS=500;X-TITLE=68700 Avenida Lalo Guerrero:geo:-116.464137,33.7814432
END:VEVENT
BEGIN:VEVENT
DTSTART;TZID=America/Los_Angeles:20241019T170000
DTEND;TZID=America/Los_Angeles:20241019T200000
DTSTAMP:20260420T132709
CREATED:20240729T164238Z
LAST-MODIFIED:20240729T164238Z
UID:10005601-1729357200-1729368000@www.discovercathedralcity.com
SUMMARY:Coachella Valleys Battle in the Desert 2024
DESCRIPTION:Come watch the sport of amateur boxing at the Cathedral City Community Amphitheater in Downtown Cathedral City. \n\n\nDoors open at 4:00 pm \n1st boxing match starts at approximately 5:00 pm \n\nFor tickets\, contact Jesus Gonzalez (760) 335-8895
URL:https://www.discovercathedralcity.com/event/coachella-valleys-battle-in-the-desert-2024/
LOCATION:Cathedral City Community Amphitheater\, 68526 Avenida Lalo Guerrero\, Cathedral City\, CA\, 92234\, United States
CATEGORIES:Public Safety,Sporting Event
ATTACH;FMTTYPE=image/jpeg:https://www.discovercathedralcity.com/wp-content/uploads/2024/07/Battle-in-the-Desert-2024.jpg
GEO:33.7813769;-116.4655492
X-APPLE-STRUCTURED-LOCATION;VALUE=URI;X-ADDRESS=Cathedral City Community Amphitheater 68526 Avenida Lalo Guerrero Cathedral City CA 92234 United States;X-APPLE-RADIUS=500;X-TITLE=68526 Avenida Lalo Guerrero:geo:-116.4655492,33.7813769
END:VEVENT
BEGIN:VEVENT
DTSTART;TZID=America/Los_Angeles:20241025T160000
DTEND;TZID=America/Los_Angeles:20241025T190000
DTSTAMP:20260420T132709
CREATED:20240909T210818Z
LAST-MODIFIED:20240913T170948Z
UID:10005620-1729872000-1729882800@www.discovercathedralcity.com
SUMMARY:Art Walk
DESCRIPTION:The highly anticipated PEREZ ART DISTRICT art walks return on the fourth Friday of every month from 4 to 7 PM beginning in September. The most exciting\, creative enclave in the Coachella Valley\, the district highlights over 50 established\, mid-career\, and emerging artists in their studios and galleries. Dubbed the “SoHo of the desert\,” the district’s high-quality art attracts collectors and art enthusiasts from around the world. Every month\, on 4th Fridays @4:00 visit the district for a festive art walk which is free and open to the public. Many studios are also open from 11 a.m. to 3 p.m. year-round. Now featuring over 50 artists in buildings A\, C\, H\, and I as well as home stores and galleries in the 68929 building\, The Perez Art District lets you pull back the curtain and peek into artist workspaces. \n  \n \nVisit ThePerezArtDistrict.com for specific studio and gallery information.
URL:https://www.discovercathedralcity.com/event/art-walk/2024-10-25/
LOCATION:Perez Road\, 68845 Perez Road\, Cathedral City\, CA\, 92234\, United States
CATEGORIES:Art,Community Events
ATTACH;FMTTYPE=image/jpeg:https://www.discovercathedralcity.com/wp-content/uploads/2024/09/perezroadartwalk.jpg
ORGANIZER;CN="The Perez Art District":MAILTO:anne@annebedrick.com
GEO:33.7840849;-116.4624146
X-APPLE-STRUCTURED-LOCATION;VALUE=URI;X-ADDRESS=Perez Road 68845 Perez Road Cathedral City CA 92234 United States;X-APPLE-RADIUS=500;X-TITLE=68845 Perez Road:geo:-116.4624146,33.7840849
END:VEVENT
BEGIN:VEVENT
DTSTART;TZID=America/Los_Angeles:20241026T090000
DTEND;TZID=America/Los_Angeles:20241026T103000
DTSTAMP:20260420T132709
CREATED:20240729T181131Z
LAST-MODIFIED:20240905T214030Z
UID:10005602-1729933200-1729938600@www.discovercathedralcity.com
SUMMARY:Howl-O-Ween
DESCRIPTION:The Cathedral City Parks & Community Events Commission presents the inaugural Howl-O-Ween 24 Dog Costume Contest from 9-10:30 a.m. at Panorama Park Dog Park\, 28905 Avenida Maravilla\, Cathedral City\, CA 92234. \nSponsored by: \n\n\n1st place prize; Small/Large Dog – $75 from Denny’s on Vista Chino \n\n\n2nd place prize; Small/Large Dog – $50 from Mary Pickford Theaters \n\n\n3rd place prize; Small/Large Dog –$25 from George’s Burgers \n\n\nBest Lookalike Costume; Small-Large Dog – $50 from Mary Pickford Theaters
URL:https://www.discovercathedralcity.com/event/howl-o-ween-24/
LOCATION:Panorama Park\, 28905 Avenida Maravilla\, Cathedral City\, CA\, 92234\, United States
CATEGORIES:Community Events,Pets
ATTACH;FMTTYPE=image/jpeg:https://www.discovercathedralcity.com/wp-content/uploads/2024/07/Howloween-Letter-1.jpg
ORGANIZER;CN="Cathedral City Parks and Community Events Commission":MAILTO:dpressgrove@cathedralcity.gov
GEO:33.8400854;-116.4669059
X-APPLE-STRUCTURED-LOCATION;VALUE=URI;X-ADDRESS=Panorama Park 28905 Avenida Maravilla Cathedral City CA 92234 United States;X-APPLE-RADIUS=500;X-TITLE=28905 Avenida Maravilla:geo:-116.4669059,33.8400854
END:VEVENT
BEGIN:VEVENT
DTSTART;TZID=America/Los_Angeles:20241026T090000
DTEND;TZID=America/Los_Angeles:20241026T110000
DTSTAMP:20260420T132709
CREATED:20240912T214217Z
LAST-MODIFIED:20240912T214218Z
UID:10005631-1729933200-1729940400@www.discovercathedralcity.com
SUMMARY:Cathedral City Fire Department Open House
DESCRIPTION:🚒 Cathedral City Fire Department Open House! 🚨 \nJoin us for a fun\, family-friendly day and get an up-close look at the life-saving work of our firefighters! \n📅 When: October 26\, 2024\n⏰ Time: 9:00 AM – 11:00 AM\n📍 Where: 68950 Buddy Rogers Ave\, Cathedral City \nWhat to Expect:\n✅ Interactive Displays\n✅ Meet the Firefighters\n✅ Fire Engines & Water Rescue Equipment\n✅ Ladder Truck Demonstrations\n✅ Learn about Defensible Space\n✅ Sign up for our Lock Box Program \nThis is a great chance to see real firefighting equipment and learn about important safety tips. Don’t miss out on this exciting experience for the whole family! \nFor tours by appointment\, email: fireinfo@cathedralcity.gov \n#CathedralCityFireDept #OpenHouse #FireSafety #CommunityEvent #MeetTheFirefighters #FamilyFun
URL:https://www.discovercathedralcity.com/event/cathedral-city-fire-department-open-house/
LOCATION:Fire Station #1\, Buddy Rogers Avenue\, Cathedral City\, CA\, 92234\, United States
CATEGORIES:Community Events,Public Safety
ATTACH;FMTTYPE=image/jpeg:https://www.discovercathedralcity.com/wp-content/uploads/2024/09/Open-House-102624.jpg
GEO:33.7806999;-116.4588718
X-APPLE-STRUCTURED-LOCATION;VALUE=URI;X-ADDRESS=Fire Station #1 Buddy Rogers Avenue Cathedral City CA 92234 United States;X-APPLE-RADIUS=500;X-TITLE=Buddy Rogers Avenue:geo:-116.4588718,33.7806999
END:VEVENT
BEGIN:VEVENT
DTSTART;TZID=America/Los_Angeles:20241027T120000
DTEND;TZID=America/Los_Angeles:20241027T150000
DTSTAMP:20260420T132709
CREATED:20240626T151235Z
LAST-MODIFIED:20240808T234420Z
UID:10005595-1730030400-1730041200@www.discovercathedralcity.com
SUMMARY:Halloween Spooktacular 2024
DESCRIPTION:Presented by State Farm Agent\, Phil Goodge \n\n\n\n\n\n\n\nCathedral City’s Halloween Spooktacular features trick or treating with over 50\,000 pieces of candy!  Join friends\, neighbors\, and family for a Spooktacular time including activities such as Halloween costume contests (two bikes given away each hour)\, police and fire exhibitions\, music\, and family games. \nHalloween Spooktacular provides you with information about the police and fire departments\, to view special demonstrations\, and get to know the men and women who serve you on a daily basis.  Free admission. Free parking. \n\n\n\n\n\n\n\n\n\n \n\n\n\n\n\n\n\n\n\n\n\n\nFor Sponsorship Opportunities\, contact: \nEric Davis\, City of Cathedral City (760) 770-0340\, Ext. 134\nSponsorshipSpecialist@cathedralcity.gov
URL:https://www.discovercathedralcity.com/event/halloween-spooktacular-2024/
LOCATION:Cathedral City Civic Center Plaza\, 68700 Avenida Lalo Guerrero\, Cathedral City\, CA\, 92234\, United States
CATEGORIES:Children Activities,Community Events,Food,Music
ATTACH;FMTTYPE=image/jpeg:https://www.discovercathedralcity.com/wp-content/uploads/2024/06/Spooktacular2024-Letter-2-scaled.jpg
GEO:33.7814432;-116.464137
X-APPLE-STRUCTURED-LOCATION;VALUE=URI;X-ADDRESS=Cathedral City Civic Center Plaza 68700 Avenida Lalo Guerrero Cathedral City CA 92234 United States;X-APPLE-RADIUS=500;X-TITLE=68700 Avenida Lalo Guerrero:geo:-116.464137,33.7814432
END:VEVENT
END:VCALENDAR