BEGIN:VCALENDAR
VERSION:2.0
PRODID:-//Discover Cathedral City - ECPv6.15.13//NONSGML v1.0//EN
CALSCALE:GREGORIAN
METHOD:PUBLISH
X-WR-CALNAME:Discover Cathedral City
X-ORIGINAL-URL:https://www.discovercathedralcity.com
X-WR-CALDESC:Events for Discover Cathedral City
REFRESH-INTERVAL;VALUE=DURATION:PT1H
X-Robots-Tag:noindex
X-PUBLISHED-TTL:PT1H
BEGIN:VTIMEZONE
TZID:America/Los_Angeles
BEGIN:DAYLIGHT
TZOFFSETFROM:-0800
TZOFFSETTO:-0700
TZNAME:PDT
DTSTART:20240310T100000
END:DAYLIGHT
BEGIN:STANDARD
TZOFFSETFROM:-0700
TZOFFSETTO:-0800
TZNAME:PST
DTSTART:20241103T090000
END:STANDARD
BEGIN:DAYLIGHT
TZOFFSETFROM:-0800
TZOFFSETTO:-0700
TZNAME:PDT
DTSTART:20250309T100000
END:DAYLIGHT
BEGIN:STANDARD
TZOFFSETFROM:-0700
TZOFFSETTO:-0800
TZNAME:PST
DTSTART:20251102T090000
END:STANDARD
BEGIN:DAYLIGHT
TZOFFSETFROM:-0800
TZOFFSETTO:-0700
TZNAME:PDT
DTSTART:20260308T100000
END:DAYLIGHT
BEGIN:STANDARD
TZOFFSETFROM:-0700
TZOFFSETTO:-0800
TZNAME:PST
DTSTART:20261101T090000
END:STANDARD
END:VTIMEZONE
BEGIN:VEVENT
DTSTART;TZID=America/Los_Angeles:20250801T093000
DTEND;TZID=America/Los_Angeles:20250801T120000
DTSTAMP:20260421T082327
CREATED:20250612T000851Z
LAST-MODIFIED:20250612T000851Z
UID:10006660-1754040600-1754049600@www.discovercathedralcity.com
SUMMARY:Free Kids Summer Movie Series 2025
DESCRIPTION:The Cathedral City Parks and Community Events Commission (PACE)\, in partnership with the Mary Pickford Theatre\, presents the return of the “Free Summer Kids Movie Series” happening every Friday at 10:00 a.m. starting Friday\, June 13\, 2025\, through Friday\, August 1\, 2025. Doors open at 9:30 a.m. The film series offers free admission to see a different movie geared towards kids each Friday morning at the Mary Pickford Theatre in Downtown Cathedral City.\n\n\nThe Cathedral City Parks and Community Events Commission will be offering free water and a small popcorn for the first 100 kids at each event during the 8-week period. The total cost for refreshments is $1\,200 for the 8-week series\, with generous sponsorship from Dinner with Patsi covering $800 and the remaining $400 funded through the PACE events budget. \nFree books will be available at every movie donated by the Read With Me Volunteer Programs. A book will also be read by the Cathedral City Library before every movie. \nTickets and Seating \nSeating is limited and residents can pick up free passes at the Cathedral City Library located at 33520 Date Palm Drive. Flyers and tickets will also be distributed during the last week of school and to partner organizations including Desert Arc\, Behavioral Lab\, and the Salvation Army. You may still attempt to go to the film series without a pass\, but you will be placed in a standby line. Once priority pass holders are seated\, those waiting in the standby line will be admitted if seats are still available. \nLast year’s series broke attendance records with 1\,737 kids and parents participating over the 8-week period. \nCommunity Partners \nDinner with Patsi is the presenting sponsor for the 2025 series\, providing major funding support and will receive sponsorship recognition on all promotional materials and at each event. Read With Me Volunteer Programs will continue their partnership by providing free books at every movie. The Cathedral City Library will also return to read stories to children before each film begins. \nSummer 2025 Schedule \n\nJune 13 – Minions: The Rise of Gru\nJune 20 – Migration\nJune 27 – Despicable Me 4\nJuly 4 – The Bad Guys\nJuly 11 – The Wild Robot\nJuly 18 – Kung Fu Panda 4\nJuly 25 – Puss in Boots: The Last Wish\nAugust 1 – Sing 2\n\nFor more information\, visit www.DPlaceEntertainment.com
URL:https://www.discovercathedralcity.com/event/free-kids-summer-movie-series-2025/2025-08-01/
LOCATION:Mary Pickford Theatre\, 36850 Pickfair St\, Cathedral City\, CA\, 92234\, United States
CATEGORIES:Children Activities,Community Events
ATTACH;FMTTYPE=image/jpeg:https://www.discovercathedralcity.com/wp-content/uploads/2025/06/2025-KSS-Flyer-PK-City-Friday.jpg
ORGANIZER;CN="Cathedral City Parks and Community Events Commission":MAILTO:dpressgrove@cathedralcity.gov
GEO:33.781085;-116.463048
X-APPLE-STRUCTURED-LOCATION;VALUE=URI;X-ADDRESS=Mary Pickford Theatre 36850 Pickfair St Cathedral City CA 92234 United States;X-APPLE-RADIUS=500;X-TITLE=36850 Pickfair St:geo:-116.463048,33.781085
END:VEVENT
BEGIN:VEVENT
DTSTART;TZID=America/Los_Angeles:20250807T090000
DTEND;TZID=America/Los_Angeles:20250807T140000
DTSTAMP:20260421T082327
CREATED:20250723T175920Z
LAST-MODIFIED:20250723T180113Z
UID:10006686-1754557200-1754575200@www.discovercathedralcity.com
SUMMARY:Blood Drive
DESCRIPTION:Donate blood at the Life Stream Blood Bank’s blood drive in Cathedral City on August 7th from 9am to 2pm in the Study Session Room of City Hall. Make your appointment by visiting the link or calling 800-879-4484. Donors will receive a free t-shirt showing your support (while supplies last). \nDone sangre en la campaña de donación del Banco de Sangre Life Stream en Cathedral City el 7 de agosto\, de 9:00 a 14:00\, en la Sala de Sesiones de Estudio del Ayuntamiento. Programe su cita visitando el enlace o llamando al 800-879-4484. Los donantes recibirán una camiseta gratuita como muestra de su apoyo (hasta agotar existencias). \n 
URL:https://www.discovercathedralcity.com/event/blood-drive-2/
LOCATION:Study Session\, 1st Floor City Hall\, 68700 Ave Lalo Guerrero\, Cathedral City\, CA\, 92234\, United States
CATEGORIES:Community Events,Health
ATTACH;FMTTYPE=image/jpeg:https://www.discovercathedralcity.com/wp-content/uploads/2025/07/blood-drive-8.7.jpg
GEO:33.7814067;-116.4640621
X-APPLE-STRUCTURED-LOCATION;VALUE=URI;X-ADDRESS=Study Session 1st Floor City Hall 68700 Ave Lalo Guerrero Cathedral City CA 92234 United States;X-APPLE-RADIUS=500;X-TITLE=68700 Ave Lalo Guerrero:geo:-116.4640621,33.7814067
END:VEVENT
BEGIN:VEVENT
DTSTART;TZID=America/Los_Angeles:20250811T090000
DTEND;TZID=America/Los_Angeles:20250811T123000
DTSTAMP:20260421T082327
CREATED:20250630T184427Z
LAST-MODIFIED:20250630T184427Z
UID:10006667-1754902800-1754915400@www.discovercathedralcity.com
SUMMARY:Cognitive Behavioral Therapy Sessions
DESCRIPTION:Feeling overwhelmed\, anxious\, or down? You’re not alone and help is here. We can help you manage stress and aniexty\, cope with loss or grief\, build healthy thinking habits… seniors 60 and over are FREE. Book your appointments now at 760-321-1518.
URL:https://www.discovercathedralcity.com/event/cognitive-behavioral-therapy-sessions/2025-08-11/
LOCATION:Cathedral City Senior Center\, 37171 W. Buddy Rogers Avenue\, Cathedral City\, CA\, 92234\, United States
CATEGORIES:Community Events,Senior
ATTACH;FMTTYPE=image/jpeg:https://www.discovercathedralcity.com/wp-content/uploads/2025/06/ICRC-Cognitive-Behavioral-Therepy-CBT-Sessions-2025-1-1-1.jpg
GEO:33.7787774;-116.4646519
X-APPLE-STRUCTURED-LOCATION;VALUE=URI;X-ADDRESS=Cathedral City Senior Center 37171 W. Buddy Rogers Avenue Cathedral City CA 92234 United States;X-APPLE-RADIUS=500;X-TITLE=37171 W. Buddy Rogers Avenue:geo:-116.4646519,33.7787774
END:VEVENT
BEGIN:VEVENT
DTSTART;TZID=America/Los_Angeles:20250821T170000
DTEND;TZID=America/Los_Angeles:20250821T183000
DTSTAMP:20260421T082327
CREATED:20250731T165742Z
LAST-MODIFIED:20250731T165742Z
UID:10006688-1755795600-1755801000@www.discovercathedralcity.com
SUMMARY:Cathedral City IGNITE
DESCRIPTION:The IGNITE Program is a Cathedral City economic development initiative designed to spark entrepreneurship through networking\, workshops\, and resource-sharing for new and growing businesses. Are you seeking funding to expand\, innovate\, or overcome financial challenges? Join us for an insightful presentation to explore strategies for securing funding\, preparing for business debt\, understanding today’s lending landscape\, and discovering how we can support your success!
URL:https://www.discovercathedralcity.com/event/cathedral-city-ignite/
LOCATION:Cathedral City Council Chambers\, 68700 Ave Lalo Guerrero\, Cathedral City\, CA\, 92234\, United States
CATEGORIES:Community Events,Financial
ATTACH;FMTTYPE=image/jpeg:https://www.discovercathedralcity.com/wp-content/uploads/2025/07/Ignite-8-21-IG.jpg
GEO:33.7813891;-116.4641156
X-APPLE-STRUCTURED-LOCATION;VALUE=URI;X-ADDRESS=Cathedral City Council Chambers 68700 Ave Lalo Guerrero Cathedral City CA 92234 United States;X-APPLE-RADIUS=500;X-TITLE=68700 Ave Lalo Guerrero:geo:-116.4641156,33.7813891
END:VEVENT
BEGIN:VEVENT
DTSTART;TZID=America/Los_Angeles:20250823T100000
DTEND;TZID=America/Los_Angeles:20250823T150000
DTSTAMP:20260421T082327
CREATED:20250805T212807Z
LAST-MODIFIED:20250805T212807Z
UID:10006693-1755943200-1755961200@www.discovercathedralcity.com
SUMMARY:Quarterly Art Exhibit
DESCRIPTION:Join the Cathedral City Public Arts Commission and Riverside County Library System at our QUARTERLY ART EXHIBIT featuring local artists!
URL:https://www.discovercathedralcity.com/event/quarterly-art-exhibit-2/2025-08-23/
LOCATION:Cathedral City Public Library\, 33520 Date Palm Drive\, Cathedral City\, CA\, 92234\, United States
CATEGORIES:Art,Community Events
ATTACH;FMTTYPE=image/jpeg:https://www.discovercathedralcity.com/wp-content/uploads/2025/08/Quarterly-Art-Exhibit-Aug-23-24-PAC-IG.jpg
GEO:33.8042303;-116.45733
X-APPLE-STRUCTURED-LOCATION;VALUE=URI;X-ADDRESS=Cathedral City Public Library 33520 Date Palm Drive Cathedral City CA 92234 United States;X-APPLE-RADIUS=500;X-TITLE=33520 Date Palm Drive:geo:-116.45733,33.8042303
END:VEVENT
BEGIN:VEVENT
DTSTART;TZID=America/Los_Angeles:20250824T100000
DTEND;TZID=America/Los_Angeles:20250824T150000
DTSTAMP:20260421T082327
CREATED:20250805T212807Z
LAST-MODIFIED:20250805T212807Z
UID:10006694-1756029600-1756047600@www.discovercathedralcity.com
SUMMARY:Quarterly Art Exhibit
DESCRIPTION:Join the Cathedral City Public Arts Commission and Riverside County Library System at our QUARTERLY ART EXHIBIT featuring local artists!
URL:https://www.discovercathedralcity.com/event/quarterly-art-exhibit-2/2025-08-24/
LOCATION:Cathedral City Public Library\, 33520 Date Palm Drive\, Cathedral City\, CA\, 92234\, United States
CATEGORIES:Art,Community Events
ATTACH;FMTTYPE=image/jpeg:https://www.discovercathedralcity.com/wp-content/uploads/2025/08/Quarterly-Art-Exhibit-Aug-23-24-PAC-IG.jpg
GEO:33.8042303;-116.45733
X-APPLE-STRUCTURED-LOCATION;VALUE=URI;X-ADDRESS=Cathedral City Public Library 33520 Date Palm Drive Cathedral City CA 92234 United States;X-APPLE-RADIUS=500;X-TITLE=33520 Date Palm Drive:geo:-116.45733,33.8042303
END:VEVENT
BEGIN:VEVENT
DTSTART;TZID=America/Los_Angeles:20250828T170000
DTEND;TZID=America/Los_Angeles:20250828T183000
DTSTAMP:20260421T082327
CREATED:20250731T170141Z
LAST-MODIFIED:20250731T170141Z
UID:10006689-1756400400-1756405800@www.discovercathedralcity.com
SUMMARY:Cathedral City IGNITE
DESCRIPTION:The IGNITE Program is a Cathedral City economic development initiative designed to spark entrepreneurship through networking\, workshops\, and resource-sharing for new and growing businesses. Join this 90 minute in person presentation and gain an understanding of the compliance responsibilities of an LLC (Limited Liability Company) and Corporations. Attendees will learn the essential steps to maintain good standing with state and federal regulations\, ensuring their business operations remain compliant and protected.\nIn this workshop\, you will learn: \n\nIntroduction to LLCs and corporations\nEssential LLC and Corporation documents\nCompliance deadlines and reporting requirements
URL:https://www.discovercathedralcity.com/event/cathedral-city-ignite-2/
LOCATION:Cathedral City Council Chambers\, 68700 Ave Lalo Guerrero\, Cathedral City\, CA\, 92234\, United States
CATEGORIES:Community Events,Financial
ATTACH;FMTTYPE=image/jpeg:https://www.discovercathedralcity.com/wp-content/uploads/2025/07/Ignite-8-28-IG.jpg
GEO:33.7813891;-116.4641156
X-APPLE-STRUCTURED-LOCATION;VALUE=URI;X-ADDRESS=Cathedral City Council Chambers 68700 Ave Lalo Guerrero Cathedral City CA 92234 United States;X-APPLE-RADIUS=500;X-TITLE=68700 Ave Lalo Guerrero:geo:-116.4641156,33.7813891
END:VEVENT
BEGIN:VEVENT
DTSTART;TZID=America/Los_Angeles:20250830T110000
DTEND;TZID=America/Los_Angeles:20250830T130000
DTSTAMP:20260421T082327
CREATED:20250814T184732Z
LAST-MODIFIED:20250814T184732Z
UID:10006695-1756551600-1756558800@www.discovercathedralcity.com
SUMMARY:Cathedral City 100th Anniversary Celebration: Honoring Our First Land Marker
DESCRIPTION:Step back in time and celebrate a century of Cathedral City heritage at this special commemorative event marking the 100th anniversary of our community’s first designated land marker. \nThe celebration begins with an exclusive screening of a newly produced short film entitled “Cathedral City: Built by Grit and Grace” documenting Cathedral City’s remarkable transformation from desert landscape to thriving community\, created by our dedicated city staff. Following this historical journey\, we’ll present the classic 1963 film “Palm Springs Weekend\,” which was actually filmed right here in Cathedral City at the Desert Palms Inn\, showcasing our city’s early role in Hollywood history. \nThis milestone event celebrates our community’s rich heritage and the foundation that built the Cathedral City we know and love today. All attendees will receive exclusive 100th anniversary commemorative items as a memento of this historic occasion. \nJoin fellow residents\, history enthusiasts\, and community leaders for this unique opportunity to reflect on our past and celebrate the foundation that built the Cathedral City we know and love today. Light refreshments will be provided\, and admission is free for all community members. \nThis special presentation is made possible through the dedicated efforts of the Cathedral City Historic Preservation Committee and the generous support of Canyon Print & Signs\, continuing our tradition of community partnership and local business involvement in preserving our heritage. \nEvent Details: \n\nDate: Saturday\, August 30th\nTime: 11:00 AM – 1:00 PM\nLocation: Mary Pickford Theatre\, Downtown Cathedral City\nAdmission: Free\nRefreshments: Provided\nParking: Available downtown
URL:https://www.discovercathedralcity.com/event/cathedral-city-100th-anniversary-celebration-honoring-our-first-land-marker/
LOCATION:Mary Pickford Theatre\, 36850 Pickfair St\, Cathedral City\, CA\, 92234\, United States
CATEGORIES:Community Events,History
ATTACH;FMTTYPE=image/jpeg:https://www.discovercathedralcity.com/wp-content/uploads/2025/08/100-yr-event-IG.jpg
GEO:33.781085;-116.463048
X-APPLE-STRUCTURED-LOCATION;VALUE=URI;X-ADDRESS=Mary Pickford Theatre 36850 Pickfair St Cathedral City CA 92234 United States;X-APPLE-RADIUS=500;X-TITLE=36850 Pickfair St:geo:-116.463048,33.781085
END:VEVENT
END:VCALENDAR