BEGIN:VCALENDAR
VERSION:2.0
PRODID:-//Discover Cathedral City - ECPv6.15.13//NONSGML v1.0//EN
CALSCALE:GREGORIAN
METHOD:PUBLISH
X-WR-CALNAME:Discover Cathedral City
X-ORIGINAL-URL:https://www.discovercathedralcity.com
X-WR-CALDESC:Events for Discover Cathedral City
REFRESH-INTERVAL;VALUE=DURATION:PT1H
X-Robots-Tag:noindex
X-PUBLISHED-TTL:PT1H
BEGIN:VTIMEZONE
TZID:America/Los_Angeles
BEGIN:DAYLIGHT
TZOFFSETFROM:-0800
TZOFFSETTO:-0700
TZNAME:PDT
DTSTART:20250309T100000
END:DAYLIGHT
BEGIN:STANDARD
TZOFFSETFROM:-0700
TZOFFSETTO:-0800
TZNAME:PST
DTSTART:20251102T090000
END:STANDARD
BEGIN:DAYLIGHT
TZOFFSETFROM:-0800
TZOFFSETTO:-0700
TZNAME:PDT
DTSTART:20260308T100000
END:DAYLIGHT
BEGIN:STANDARD
TZOFFSETFROM:-0700
TZOFFSETTO:-0800
TZNAME:PST
DTSTART:20261101T090000
END:STANDARD
BEGIN:DAYLIGHT
TZOFFSETFROM:-0800
TZOFFSETTO:-0700
TZNAME:PDT
DTSTART:20270314T100000
END:DAYLIGHT
BEGIN:STANDARD
TZOFFSETFROM:-0700
TZOFFSETTO:-0800
TZNAME:PST
DTSTART:20271107T090000
END:STANDARD
END:VTIMEZONE
BEGIN:VEVENT
DTSTART;TZID=America/Los_Angeles:20260509T110000
DTEND;TZID=America/Los_Angeles:20260509T150000
DTSTAMP:20260422T045713
CREATED:20260109T202844Z
LAST-MODIFIED:20260109T202844Z
UID:10007723-1778324400-1778338800@www.discovercathedralcity.com
SUMMARY:Second Saturday Showcase
DESCRIPTION:Second Saturday Showcase \nExplore the vibrant Perez Art District during this new daytime art walk! Stroll through four buildings of working artists and one building of galleries and stores along Perez Road. Meet local artists\, watch them create\, and find your next favorite piece—all while enjoying the beautiful desert sunshine. \nThis free monthly event runs September through May\, perfect for art lovers who want to explore the district and still be home before dark. \nWhen: Second Saturdays\, 11 a.m. – 3 p.m. \nWhere: Perez Art District\, Perez Road\, Cathedral City \nCost: Free
URL:https://www.discovercathedralcity.com/event/second-saturday-showcase/2026-05-09/
LOCATION:Perez Road\, 68845 Perez Road\, Cathedral City\, CA\, 92234\, United States
CATEGORIES:Art
ATTACH;FMTTYPE=image/jpeg:https://www.discovercathedralcity.com/wp-content/uploads/2026/01/Perez-Second-Saturday-2026.jpg
GEO:33.7840849;-116.4624146
X-APPLE-STRUCTURED-LOCATION;VALUE=URI;X-ADDRESS=Perez Road 68845 Perez Road Cathedral City CA 92234 United States;X-APPLE-RADIUS=500;X-TITLE=68845 Perez Road:geo:-116.4624146,33.7840849
END:VEVENT
BEGIN:VEVENT
DTSTART;TZID=America/Los_Angeles:20260512T093000
DTEND;TZID=America/Los_Angeles:20260512T130000
DTSTAMP:20260422T045713
CREATED:20260319T213258Z
LAST-MODIFIED:20260319T213322Z
UID:10008014-1778578200-1778590800@www.discovercathedralcity.com
SUMMARY:Cognitive Behavioral Therapy Sessions
DESCRIPTION:Feeling overwhelmed\, anxious\, or down? You’re not alone and help is here. We can help you manage stress and aneixty\, cope with loss or grief\, build healthy thinking habits… seniors 60 and over are FREE. Book your appointments now at 760-321-1518.
URL:https://www.discovercathedralcity.com/event/cognitive-behavioral-therapy-sessions-2/2026-05-12/
LOCATION:Cathedral City Senior Center\, 37171 W. Buddy Rogers Avenue\, Cathedral City\, CA\, 92234\, United States
CATEGORIES:Community Events,Senior
ATTACH;FMTTYPE=image/jpeg:https://www.discovercathedralcity.com/wp-content/uploads/2026/03/ICRC-Cognitive-Behavioral-Therepy-CBT-Sessions-2026-1-1-1-1-1-1-1.jpg
GEO:33.7787774;-116.4646519
X-APPLE-STRUCTURED-LOCATION;VALUE=URI;X-ADDRESS=Cathedral City Senior Center 37171 W. Buddy Rogers Avenue Cathedral City CA 92234 United States;X-APPLE-RADIUS=500;X-TITLE=37171 W. Buddy Rogers Avenue:geo:-116.4646519,33.7787774
END:VEVENT
BEGIN:VEVENT
DTSTART;TZID=America/Los_Angeles:20260512T103000
DTEND;TZID=America/Los_Angeles:20260512T133000
DTSTAMP:20260422T045713
CREATED:20260131T052540Z
LAST-MODIFIED:20260409T231820Z
UID:10007731-1778581800-1778592600@www.discovercathedralcity.com
SUMMARY:2026 Cathedral City State of the City — Cathedral City Takes Flight
DESCRIPTION:Join Mayor Raymond Gregory and the City Council for the annual State of the City luncheon\, themed Cathedral City Takes Flight. Hosted by Emmy Award-winning KESQ Chief Meteorologist Patrick Evans and produced by Hocker Productions\, this year’s event features a business expo\, awards ceremony\, and the Mayor’s address showcasing Cathedral City’s best\, brightest\, and most innovative businesses. \n\nDate: Tuesday\, May 12\, 2026\nTime: 10:30 am Sponsor Reception | 11:30 am–1:30 pm Luncheon\nLocation: DoubleTree by Hilton Golf Resort\, 67967 Vista Chino\, Cathedral City\n\nGet Tickets \nSponsorship opportunities are available starting at $1\,000. Download our Sponsorship Opportunities deck or contact Jeff Hocker at jeffhocker1@gmail.com or 760-409-1530.
URL:https://www.discovercathedralcity.com/event/2026-cathedral-city-state-of-the-city/
LOCATION:DoubleTree by Hilton Golf Resort\, 67967 Vista Chino\, Cathedral City\, CA\, 92234\, United States
CATEGORIES:City Council,Community Events
ATTACH;FMTTYPE=image/jpeg:https://www.discovercathedralcity.com/wp-content/uploads/2026/01/f7c51144-5118-4a64-8b01-e78012f3f706.jpg
GEO:33.8433628;-116.4774199
X-APPLE-STRUCTURED-LOCATION;VALUE=URI;X-ADDRESS=DoubleTree by Hilton Golf Resort 67967 Vista Chino Cathedral City CA 92234 United States;X-APPLE-RADIUS=500;X-TITLE=67967 Vista Chino:geo:-116.4774199,33.8433628
END:VEVENT
BEGIN:VEVENT
DTSTART;VALUE=DATE:20260515
DTEND;VALUE=DATE:20260516
DTSTAMP:20260422T045713
CREATED:20250828T181320Z
LAST-MODIFIED:20250904T191125Z
UID:10006828-1778803200-1778889599@www.discovercathedralcity.com
SUMMARY:Social Worker at CCSC
DESCRIPTION:CCSC will have a social worker at the center to connect the community with resources\, support\, and services to improve well-being. Call for an appointment 760-321-1548 \n2nd and 3rd Friday of every month at CCSC.
URL:https://www.discovercathedralcity.com/event/social-worker-at-ccsc-2/2026-05-15/
LOCATION:Cathedral City Senior Center\, 37171 W. Buddy Rogers Avenue\, Cathedral City\, CA\, 92234\, United States
CATEGORIES:Senior
ATTACH;FMTTYPE=image/jpeg:https://www.discovercathedralcity.com/wp-content/uploads/2025/08/FFB-Social-Worker-At-CCSC-1-1.jpg
GEO:33.7787774;-116.4646519
X-APPLE-STRUCTURED-LOCATION;VALUE=URI;X-ADDRESS=Cathedral City Senior Center 37171 W. Buddy Rogers Avenue Cathedral City CA 92234 United States;X-APPLE-RADIUS=500;X-TITLE=37171 W. Buddy Rogers Avenue:geo:-116.4646519,33.7787774
END:VEVENT
BEGIN:VEVENT
DTSTART;TZID=America/Los_Angeles:20260518T090000
DTEND;TZID=America/Los_Angeles:20260518T140000
DTSTAMP:20260422T045713
CREATED:20250930T230502Z
LAST-MODIFIED:20250930T230502Z
UID:10007190-1779094800-1779112800@www.discovercathedralcity.com
SUMMARY:Notary Services for Seniors
DESCRIPTION:The Cathedral City Senior Center is offering free notary services once a month for seniors! Sign up in advance. Space is limited. \nServices: \n\nPower of Attorney – Authorize someone you trust to handle important decisions on your behalf.\nWill – Create or update a legal document to ensure your wishes are honored.\nSign up today at the front desk!\nor call 760-321-1548
URL:https://www.discovercathedralcity.com/event/notary-services-for-seniors/2026-05-18/
LOCATION:Cathedral City Senior Center\, 37171 W. Buddy Rogers Avenue\, Cathedral City\, CA\, 92234\, United States
CATEGORIES:Senior
ATTACH;FMTTYPE=image/jpeg:https://www.discovercathedralcity.com/wp-content/uploads/2025/09/Screenshot-2025-09-30-160151.jpg
GEO:33.7787774;-116.4646519
X-APPLE-STRUCTURED-LOCATION;VALUE=URI;X-ADDRESS=Cathedral City Senior Center 37171 W. Buddy Rogers Avenue Cathedral City CA 92234 United States;X-APPLE-RADIUS=500;X-TITLE=37171 W. Buddy Rogers Avenue:geo:-116.4646519,33.7787774
END:VEVENT
BEGIN:VEVENT
DTSTART;TZID=America/Los_Angeles:20260522T160000
DTEND;TZID=America/Los_Angeles:20260522T190000
DTSTAMP:20260422T045713
CREATED:20250925T223407Z
LAST-MODIFIED:20260109T203331Z
UID:10007177-1779465600-1779476400@www.discovercathedralcity.com
SUMMARY:The Perez Art District's Art Walks
DESCRIPTION:The Perez Art District resumes its beloved tradition of 4th Friday art walks from 4:00 to 7:00 PM. Dubbed the “SoHo of the desert\,” the district features over 50 established\, mid-career\, and emerging artists working in their studios and galleries throughout buildings A\, C\, H\, and I\, as well as the 68929 building. \nThe free\, public event attracts collectors and art enthusiasts from around the world\, offering visitors the opportunity to meet artists\, view works in progress\, and purchase pieces directly from creators. Many studios also remain open year-round from 11:00 AM to 3:00 PM Thursday through Saturday. \nA Thriving Arts Destination\nThe Perez Art District continues to establish Cathedral City as a premier arts destination in the Coachella Valley. With its concentration of galleries\, studios\, and creative spaces along Perez Road\, the district offers an immersive experience where visitors can witness the creative process firsthand and engage directly with the artists who make Cathedral City “Where Art Lives.” \nThe September 26th art walk marks the beginning of a new season of monthly celebrations\, with subsequent walks scheduled for the fourth Friday of each month through the year. \nEvent Details\nWhat: The Perez Art District Monthly Art Walk\nWhen: Every 4th Friday\, 4:00-7:00 PM (beginning September 26\, 2025)\nWhere: The Perez Art District\, Perez Road\, Cathedral City\nCost: Free and open to the public\nInformation: ThePerezArtDistrict.com
URL:https://www.discovercathedralcity.com/event/the-perez-art-districts-art-walks/2026-05-22/
LOCATION:Perez Road\, 68845 Perez Road\, Cathedral City\, CA\, 92234\, United States
CATEGORIES:Art
ATTACH;FMTTYPE=image/jpeg:https://www.discovercathedralcity.com/wp-content/uploads/2025/09/Perez-Art-District-2026.jpg
ORGANIZER;CN="The Perez Art District":MAILTO:anne@annebedrick.com
GEO:33.7840849;-116.4624146
X-APPLE-STRUCTURED-LOCATION;VALUE=URI;X-ADDRESS=Perez Road 68845 Perez Road Cathedral City CA 92234 United States;X-APPLE-RADIUS=500;X-TITLE=68845 Perez Road:geo:-116.4624146,33.7840849
END:VEVENT
END:VCALENDAR