BEGIN:VCALENDAR
VERSION:2.0
PRODID:-//Discover Cathedral City - ECPv6.15.13//NONSGML v1.0//EN
CALSCALE:GREGORIAN
METHOD:PUBLISH
X-ORIGINAL-URL:https://www.discovercathedralcity.com
X-WR-CALDESC:Events for Discover Cathedral City
REFRESH-INTERVAL;VALUE=DURATION:PT1H
X-Robots-Tag:noindex
X-PUBLISHED-TTL:PT1H
BEGIN:VTIMEZONE
TZID:America/Los_Angeles
BEGIN:DAYLIGHT
TZOFFSETFROM:-0800
TZOFFSETTO:-0700
TZNAME:PDT
DTSTART:20220313T100000
END:DAYLIGHT
BEGIN:STANDARD
TZOFFSETFROM:-0700
TZOFFSETTO:-0800
TZNAME:PST
DTSTART:20221106T090000
END:STANDARD
BEGIN:DAYLIGHT
TZOFFSETFROM:-0800
TZOFFSETTO:-0700
TZNAME:PDT
DTSTART:20230312T100000
END:DAYLIGHT
BEGIN:STANDARD
TZOFFSETFROM:-0700
TZOFFSETTO:-0800
TZNAME:PST
DTSTART:20231105T090000
END:STANDARD
BEGIN:DAYLIGHT
TZOFFSETFROM:-0800
TZOFFSETTO:-0700
TZNAME:PDT
DTSTART:20240310T100000
END:DAYLIGHT
BEGIN:STANDARD
TZOFFSETFROM:-0700
TZOFFSETTO:-0800
TZNAME:PST
DTSTART:20241103T090000
END:STANDARD
END:VTIMEZONE
BEGIN:VEVENT
DTSTART;TZID=America/Los_Angeles:20230505T170000
DTEND;TZID=America/Los_Angeles:20230505T200000
DTSTAMP:20260420T192305
CREATED:20220922T152451Z
LAST-MODIFIED:20221215T232011Z
UID:10003115-1683306000-1683316800@www.discovercathedralcity.com
SUMMARY:First Friday Art Walk
DESCRIPTION:The Perez Art District hosts a free art walk on the First-Friday of EVERY month\, October-June from 5-8 pm.  Visitors can meander down the street\, visiting artists in their studios to not only see where the art is created but to also buy art directly from the artists.  Unlike other gallery districts\, The Perez Art District is a collection of working artists’ studios where the artists enjoy sharing their work and the ideas behind them.  Visitors will see a wide range of artistic practices including paintings\, sculptures\, mixed media\, photography\, printmaking\, and ceramics. \nStudios are located at 68845 and 68895 Perez Road\, Building H and Building I\, in Cathedral City\, CA.  Look for the Black “Art District” sign on the corner. Parking is plentiful\, in front of and behind the studios\, and visitors can easily walk from one end to the other. \nFollow us! \nInstagram: https://www.instagram.com/ThePerezArtDistrict \nFacebook https://www.facebook.com/ThePerezArtDistrict
URL:https://www.discovercathedralcity.com/event/first-friday-art-walk/2023-05-05/
LOCATION:Art Walk\, 68895 Perez Rd Unit I-26\, Cathedral City\, CA\, 92234\, United States
CATEGORIES:Art
ATTACH;FMTTYPE=image/jpeg:https://www.discovercathedralcity.com/wp-content/uploads/2022/09/PRAD2.jpg
ORGANIZER;CN="The Perez Art District":MAILTO:anne@annebedrick.com
GEO:33.7824048;-116.4606047
X-APPLE-STRUCTURED-LOCATION;VALUE=URI;X-ADDRESS=Art Walk 68895 Perez Rd Unit I-26 Cathedral City CA 92234 United States;X-APPLE-RADIUS=500;X-TITLE=68895 Perez Rd Unit I-26:geo:-116.4606047,33.7824048
END:VEVENT
END:VCALENDAR