BEGIN:VCALENDAR
VERSION:2.0
PRODID:-//Discover Cathedral City - ECPv6.15.13//NONSGML v1.0//EN
CALSCALE:GREGORIAN
METHOD:PUBLISH
X-WR-CALNAME:Discover Cathedral City
X-ORIGINAL-URL:https://www.discovercathedralcity.com
X-WR-CALDESC:Events for Discover Cathedral City
REFRESH-INTERVAL;VALUE=DURATION:PT1H
X-Robots-Tag:noindex
X-PUBLISHED-TTL:PT1H
BEGIN:VTIMEZONE
TZID:America/Los_Angeles
BEGIN:DAYLIGHT
TZOFFSETFROM:-0800
TZOFFSETTO:-0700
TZNAME:PDT
DTSTART:20230312T100000
END:DAYLIGHT
BEGIN:STANDARD
TZOFFSETFROM:-0700
TZOFFSETTO:-0800
TZNAME:PST
DTSTART:20231105T090000
END:STANDARD
BEGIN:DAYLIGHT
TZOFFSETFROM:-0800
TZOFFSETTO:-0700
TZNAME:PDT
DTSTART:20240310T100000
END:DAYLIGHT
BEGIN:STANDARD
TZOFFSETFROM:-0700
TZOFFSETTO:-0800
TZNAME:PST
DTSTART:20241103T090000
END:STANDARD
BEGIN:DAYLIGHT
TZOFFSETFROM:-0800
TZOFFSETTO:-0700
TZNAME:PDT
DTSTART:20250309T100000
END:DAYLIGHT
BEGIN:STANDARD
TZOFFSETFROM:-0700
TZOFFSETTO:-0800
TZNAME:PST
DTSTART:20251102T090000
END:STANDARD
END:VTIMEZONE
BEGIN:VEVENT
DTSTART;TZID=America/Los_Angeles:20240126T110000
DTEND;TZID=America/Los_Angeles:20240126T160000
DTSTAMP:20260420T042937
CREATED:20240111T191750Z
LAST-MODIFIED:20240111T212658Z
UID:10005138-1706266800-1706284800@www.discovercathedralcity.com
SUMMARY:4th Annual Desert Open Studios
DESCRIPTION:Mark your calendars – The fourth annual Desert Open Studios has new dates and new format \nThe DOS organizing committee announced this week that the free\, self-directed studio tour will be held Friday\, Saturday\, and Sunday\, January 26\, 27\, and 28\, 2024. Participating artists’ studios will be open to the public from 11:00 am through until 4:00 pm each day. \nFounded by artists in 2021\, Desert Open Studios has grown to more than 160 artists. Visitors will get to see the vibrant range of creative expression in the Coachella Valley. During the tour\, each artist will open their studios\, share their artistic process\, and offer artwork for sale. \nDesert Open Studios is a volunteer organization that encourages participation from artists and arts lovers to help make the annual event a success. Founded from the need for an easy way to introduce the dynamic and diverse group of desert artists to local and visiting art enthusiasts\, collectors\, and gallery owners. Participating in the studio tour also allows artists to get to know other creatives in the area for collaboration\, or share their work space\, material uses\, exhibition opportunities\, and more. \nWHAT: Desert Open Studios is celebrating its fourth year! Desert Open Studios offers an annual free self-guided art tour across the Coachella Valley. The tour is a unique way for the public to connect with more than 150 area artists\, to observe their processes\, purchase artwork\, and explore spaces usually not open to outsiders. \nWHEN: January 26\, 27 and 28\, 2024\, 11AM-4PM\nThe Perez Art District will be open on Jan 26th till 7PM \nWHO: More than 160 artists are participating this year. The artists span all across the Coachella Valley from Indio to Desert Hot Springs. \nWHERE: The tour covers the Coachella Valley uniting the east and west art scenes. From Indio\, La Quinta\, Palm Desert\, Rancho Mirage\, Cathedral City\, Palm Springs\, and Desert Hot Springs\, visitors will discover artists everywhere! There are several artists hubs\, communities\, and art centers where groups of artists have come together to create micro-creative communities. Hubs include Backstreet Arts District and Via Negocio in Palm Springs\, Perez Road in Cathedral City\, and The Indio Arts Center in Indio. Visitors can use printed and online maps to design a customized adventure focused on the areas they want to visit and types of art they are interested in. We also offer a free PDF downloadable handbook including an easy-to-use artist index. \nFor more information\, contact: Lynda Keeler\, Co-Organizer\ncell & text: 323-459-4086\nemail: lkeeler@yahoo.com\nWebsite: www.desertopenstudios.com\nInstagram: https://www.instagram.com/desertopenstudios/\nFacebook group: https://www.facebook.com/groups/369455464305527/about \nFor calendar listings\, contact:\nRob Lavery\nrob.lavery@gmail.com
URL:https://www.discovercathedralcity.com/event/the-fourth-annual-desert-open-studios/2024-01-26/
LOCATION:various locations
CATEGORIES:Art
ATTACH;FMTTYPE=image/png:https://www.discovercathedralcity.com/wp-content/uploads/2024/01/Desert-Open-Studios.png
ORGANIZER;CN="Desert Open Studios":MAILTO:desertopenstudios@gmail.com
END:VEVENT
BEGIN:VEVENT
DTSTART;TZID=America/Los_Angeles:20240126T160000
DTEND;TZID=America/Los_Angeles:20240126T190000
DTSTAMP:20260420T042937
CREATED:20231002T143841Z
LAST-MODIFIED:20231102T224226Z
UID:10005071-1706284800-1706295600@www.discovercathedralcity.com
SUMMARY:The Perez Art District's Fourth Fridays
DESCRIPTION:The Perez Art District’s highly anticipated Art Walk occurs on 4th Fridays @ 4pm. \nThis is an immersive experience for art enthusiasts and the local community alike.  The Art Walk offers a unique chance to witness the creative process across a variety of disciplines\, including painting\, sculpture\, photography\, and mixed media. \nConveniently located at 68845 Perez Rd in Cathedral City\, California\, the Perez Art District is home to a vibrant community of artists. \nVisitors to the district will have the opportunity to explore the working studios of over 30 talented artists in the H and I Buildings\, with an additional 8 artists in the A and C Buildings. Additionally\, some of the home and design stores and galleries in the 68929 building will participate. \nTo stay updated on upcoming events\, follow the Perez Art District on social media: \n\nFacebook (https://www.facebook.com/ThePerezArtDistrict)\nInstagram (https://www.instagram.com/ThePerezArtDistrict/)\n\nFind us in buildings A\, C\, H\, and I as well as in the 68929 building along Perez Rd in Cathedral City\, CA. \nThe Art Walk starts at 4pm and runs until 7pm\, allowing ample time for attendees to discover the diverse range of artistic styles within the district and then head across the walking bridge to downtown Cathedral City to enjoy a dinner out. \nWe look forward to seeing you on 4th Fridays @ 4pm!
URL:https://www.discovercathedralcity.com/event/the-perez-art-districts-fourth-fridays-2/2024-01-26/
LOCATION:Art Walk\, 68895 Perez Rd Unit I-26\, Cathedral City\, CA\, 92234\, United States
CATEGORIES:Art,Community Events,Shopping
ATTACH;FMTTYPE=image/jpeg:https://www.discovercathedralcity.com/wp-content/uploads/2023/10/Artwalk.jpg
ORGANIZER;CN="The Perez Art District":MAILTO:anne@annebedrick.com
GEO:33.7824048;-116.4606047
X-APPLE-STRUCTURED-LOCATION;VALUE=URI;X-ADDRESS=Art Walk 68895 Perez Rd Unit I-26 Cathedral City CA 92234 United States;X-APPLE-RADIUS=500;X-TITLE=68895 Perez Rd Unit I-26:geo:-116.4606047,33.7824048
END:VEVENT
BEGIN:VEVENT
DTSTART;TZID=America/Los_Angeles:20240127T110000
DTEND;TZID=America/Los_Angeles:20240127T160000
DTSTAMP:20260420T042937
CREATED:20240111T191750Z
LAST-MODIFIED:20240111T212658Z
UID:10005139-1706353200-1706371200@www.discovercathedralcity.com
SUMMARY:4th Annual Desert Open Studios
DESCRIPTION:Mark your calendars – The fourth annual Desert Open Studios has new dates and new format \nThe DOS organizing committee announced this week that the free\, self-directed studio tour will be held Friday\, Saturday\, and Sunday\, January 26\, 27\, and 28\, 2024. Participating artists’ studios will be open to the public from 11:00 am through until 4:00 pm each day. \nFounded by artists in 2021\, Desert Open Studios has grown to more than 160 artists. Visitors will get to see the vibrant range of creative expression in the Coachella Valley. During the tour\, each artist will open their studios\, share their artistic process\, and offer artwork for sale. \nDesert Open Studios is a volunteer organization that encourages participation from artists and arts lovers to help make the annual event a success. Founded from the need for an easy way to introduce the dynamic and diverse group of desert artists to local and visiting art enthusiasts\, collectors\, and gallery owners. Participating in the studio tour also allows artists to get to know other creatives in the area for collaboration\, or share their work space\, material uses\, exhibition opportunities\, and more. \nWHAT: Desert Open Studios is celebrating its fourth year! Desert Open Studios offers an annual free self-guided art tour across the Coachella Valley. The tour is a unique way for the public to connect with more than 150 area artists\, to observe their processes\, purchase artwork\, and explore spaces usually not open to outsiders. \nWHEN: January 26\, 27 and 28\, 2024\, 11AM-4PM\nThe Perez Art District will be open on Jan 26th till 7PM \nWHO: More than 160 artists are participating this year. The artists span all across the Coachella Valley from Indio to Desert Hot Springs. \nWHERE: The tour covers the Coachella Valley uniting the east and west art scenes. From Indio\, La Quinta\, Palm Desert\, Rancho Mirage\, Cathedral City\, Palm Springs\, and Desert Hot Springs\, visitors will discover artists everywhere! There are several artists hubs\, communities\, and art centers where groups of artists have come together to create micro-creative communities. Hubs include Backstreet Arts District and Via Negocio in Palm Springs\, Perez Road in Cathedral City\, and The Indio Arts Center in Indio. Visitors can use printed and online maps to design a customized adventure focused on the areas they want to visit and types of art they are interested in. We also offer a free PDF downloadable handbook including an easy-to-use artist index. \nFor more information\, contact: Lynda Keeler\, Co-Organizer\ncell & text: 323-459-4086\nemail: lkeeler@yahoo.com\nWebsite: www.desertopenstudios.com\nInstagram: https://www.instagram.com/desertopenstudios/\nFacebook group: https://www.facebook.com/groups/369455464305527/about \nFor calendar listings\, contact:\nRob Lavery\nrob.lavery@gmail.com
URL:https://www.discovercathedralcity.com/event/the-fourth-annual-desert-open-studios/2024-01-27/
LOCATION:various locations
CATEGORIES:Art
ATTACH;FMTTYPE=image/png:https://www.discovercathedralcity.com/wp-content/uploads/2024/01/Desert-Open-Studios.png
ORGANIZER;CN="Desert Open Studios":MAILTO:desertopenstudios@gmail.com
END:VEVENT
BEGIN:VEVENT
DTSTART;TZID=America/Los_Angeles:20240128T110000
DTEND;TZID=America/Los_Angeles:20240128T160000
DTSTAMP:20260420T042937
CREATED:20240111T191750Z
LAST-MODIFIED:20240111T212658Z
UID:10005140-1706439600-1706457600@www.discovercathedralcity.com
SUMMARY:4th Annual Desert Open Studios
DESCRIPTION:Mark your calendars – The fourth annual Desert Open Studios has new dates and new format \nThe DOS organizing committee announced this week that the free\, self-directed studio tour will be held Friday\, Saturday\, and Sunday\, January 26\, 27\, and 28\, 2024. Participating artists’ studios will be open to the public from 11:00 am through until 4:00 pm each day. \nFounded by artists in 2021\, Desert Open Studios has grown to more than 160 artists. Visitors will get to see the vibrant range of creative expression in the Coachella Valley. During the tour\, each artist will open their studios\, share their artistic process\, and offer artwork for sale. \nDesert Open Studios is a volunteer organization that encourages participation from artists and arts lovers to help make the annual event a success. Founded from the need for an easy way to introduce the dynamic and diverse group of desert artists to local and visiting art enthusiasts\, collectors\, and gallery owners. Participating in the studio tour also allows artists to get to know other creatives in the area for collaboration\, or share their work space\, material uses\, exhibition opportunities\, and more. \nWHAT: Desert Open Studios is celebrating its fourth year! Desert Open Studios offers an annual free self-guided art tour across the Coachella Valley. The tour is a unique way for the public to connect with more than 150 area artists\, to observe their processes\, purchase artwork\, and explore spaces usually not open to outsiders. \nWHEN: January 26\, 27 and 28\, 2024\, 11AM-4PM\nThe Perez Art District will be open on Jan 26th till 7PM \nWHO: More than 160 artists are participating this year. The artists span all across the Coachella Valley from Indio to Desert Hot Springs. \nWHERE: The tour covers the Coachella Valley uniting the east and west art scenes. From Indio\, La Quinta\, Palm Desert\, Rancho Mirage\, Cathedral City\, Palm Springs\, and Desert Hot Springs\, visitors will discover artists everywhere! There are several artists hubs\, communities\, and art centers where groups of artists have come together to create micro-creative communities. Hubs include Backstreet Arts District and Via Negocio in Palm Springs\, Perez Road in Cathedral City\, and The Indio Arts Center in Indio. Visitors can use printed and online maps to design a customized adventure focused on the areas they want to visit and types of art they are interested in. We also offer a free PDF downloadable handbook including an easy-to-use artist index. \nFor more information\, contact: Lynda Keeler\, Co-Organizer\ncell & text: 323-459-4086\nemail: lkeeler@yahoo.com\nWebsite: www.desertopenstudios.com\nInstagram: https://www.instagram.com/desertopenstudios/\nFacebook group: https://www.facebook.com/groups/369455464305527/about \nFor calendar listings\, contact:\nRob Lavery\nrob.lavery@gmail.com
URL:https://www.discovercathedralcity.com/event/the-fourth-annual-desert-open-studios/2024-01-28/
LOCATION:various locations
CATEGORIES:Art
ATTACH;FMTTYPE=image/png:https://www.discovercathedralcity.com/wp-content/uploads/2024/01/Desert-Open-Studios.png
ORGANIZER;CN="Desert Open Studios":MAILTO:desertopenstudios@gmail.com
END:VEVENT
END:VCALENDAR