BEGIN:VCALENDAR
VERSION:2.0
PRODID:-//Discover Cathedral City - ECPv6.15.13//NONSGML v1.0//EN
CALSCALE:GREGORIAN
METHOD:PUBLISH
X-ORIGINAL-URL:https://www.discovercathedralcity.com
X-WR-CALDESC:Events for Discover Cathedral City
REFRESH-INTERVAL;VALUE=DURATION:PT1H
X-Robots-Tag:noindex
X-PUBLISHED-TTL:PT1H
BEGIN:VTIMEZONE
TZID:America/Los_Angeles
BEGIN:DAYLIGHT
TZOFFSETFROM:-0800
TZOFFSETTO:-0700
TZNAME:PDT
DTSTART:20230312T100000
END:DAYLIGHT
BEGIN:STANDARD
TZOFFSETFROM:-0700
TZOFFSETTO:-0800
TZNAME:PST
DTSTART:20231105T090000
END:STANDARD
BEGIN:DAYLIGHT
TZOFFSETFROM:-0800
TZOFFSETTO:-0700
TZNAME:PDT
DTSTART:20240310T100000
END:DAYLIGHT
BEGIN:STANDARD
TZOFFSETFROM:-0700
TZOFFSETTO:-0800
TZNAME:PST
DTSTART:20241103T090000
END:STANDARD
BEGIN:DAYLIGHT
TZOFFSETFROM:-0800
TZOFFSETTO:-0700
TZNAME:PDT
DTSTART:20250309T100000
END:DAYLIGHT
BEGIN:STANDARD
TZOFFSETFROM:-0700
TZOFFSETTO:-0800
TZNAME:PST
DTSTART:20251102T090000
END:STANDARD
END:VTIMEZONE
BEGIN:VEVENT
DTSTART;TZID=America/Los_Angeles:20240223T110000
DTEND;TZID=America/Los_Angeles:20240223T160000
DTSTAMP:20260420T004021
CREATED:20240208T214326Z
LAST-MODIFIED:20240208T220259Z
UID:10005510-1708686000-1708704000@www.discovercathedralcity.com
SUMMARY:The Desert Art Tour: An Official Modernism Week Event
DESCRIPTION:The Desert Art Tour: An official Modernism Week Event\, runs Friday and Saturday\, February 23rd & 24th\, 2024 from 11 am to 4 pm each day (extended hours at the Perez Art District on Friday from 11am to 7pm)\nYou are invited to see artist’s workspaces and learn about how their contemporary work is influenced by artists of the mid-century modern era. Educational materials linking their work to the great masters will be on display. Come meet the artists of the Coachella Valley; you will be able to see their creations\, ask questions\, and buy art directly. And\, most importantly\, you will enjoy a behind-the-scenes experience and discussion not usually available to the public. \nOur artists’ studios are in Palm Springs and in Cathedral City. This is a free self-guided tour. You choose where to start\, which studios to see\, and visit the art districts in the order of your choosing. Look for the official Modernism Week Tour signage to find participating studios. Your own transportation is required. \nEach location has plenty of parking. Handicap parking is available; This activity is wheelchair accessible. \nRegister for free tickets here: https://go.modtix.com/f/f24/desert-art-tour?date=2024-02-23
URL:https://www.discovercathedralcity.com/event/the-desert-art-tour-an-official-modernism-week-event/2024-02-23/
LOCATION:various locations
CATEGORIES:Art
ATTACH;FMTTYPE=image/jpeg:https://www.discovercathedralcity.com/wp-content/uploads/2024/02/modartour.jpg
ORGANIZER;CN="Desert Open Studios":MAILTO:desertopenstudios@gmail.com
END:VEVENT
BEGIN:VEVENT
DTSTART;TZID=America/Los_Angeles:20240223T160000
DTEND;TZID=America/Los_Angeles:20240223T190000
DTSTAMP:20260420T004021
CREATED:20231002T143841Z
LAST-MODIFIED:20231102T224226Z
UID:10005072-1708704000-1708714800@www.discovercathedralcity.com
SUMMARY:The Perez Art District's Fourth Fridays
DESCRIPTION:The Perez Art District’s highly anticipated Art Walk occurs on 4th Fridays @ 4pm. \nThis is an immersive experience for art enthusiasts and the local community alike.  The Art Walk offers a unique chance to witness the creative process across a variety of disciplines\, including painting\, sculpture\, photography\, and mixed media. \nConveniently located at 68845 Perez Rd in Cathedral City\, California\, the Perez Art District is home to a vibrant community of artists. \nVisitors to the district will have the opportunity to explore the working studios of over 30 talented artists in the H and I Buildings\, with an additional 8 artists in the A and C Buildings. Additionally\, some of the home and design stores and galleries in the 68929 building will participate. \nTo stay updated on upcoming events\, follow the Perez Art District on social media: \n\nFacebook (https://www.facebook.com/ThePerezArtDistrict)\nInstagram (https://www.instagram.com/ThePerezArtDistrict/)\n\nFind us in buildings A\, C\, H\, and I as well as in the 68929 building along Perez Rd in Cathedral City\, CA. \nThe Art Walk starts at 4pm and runs until 7pm\, allowing ample time for attendees to discover the diverse range of artistic styles within the district and then head across the walking bridge to downtown Cathedral City to enjoy a dinner out. \nWe look forward to seeing you on 4th Fridays @ 4pm!
URL:https://www.discovercathedralcity.com/event/the-perez-art-districts-fourth-fridays-2/2024-02-23/
LOCATION:Art Walk\, 68895 Perez Rd Unit I-26\, Cathedral City\, CA\, 92234\, United States
CATEGORIES:Art,Community Events,Shopping
ATTACH;FMTTYPE=image/jpeg:https://www.discovercathedralcity.com/wp-content/uploads/2023/10/Artwalk.jpg
ORGANIZER;CN="The Perez Art District":MAILTO:anne@annebedrick.com
GEO:33.7824048;-116.4606047
X-APPLE-STRUCTURED-LOCATION;VALUE=URI;X-ADDRESS=Art Walk 68895 Perez Rd Unit I-26 Cathedral City CA 92234 United States;X-APPLE-RADIUS=500;X-TITLE=68895 Perez Rd Unit I-26:geo:-116.4606047,33.7824048
END:VEVENT
BEGIN:VEVENT
DTSTART;TZID=America/Los_Angeles:20240224T110000
DTEND;TZID=America/Los_Angeles:20240224T160000
DTSTAMP:20260420T004021
CREATED:20240208T214326Z
LAST-MODIFIED:20240208T220259Z
UID:10005511-1708772400-1708790400@www.discovercathedralcity.com
SUMMARY:The Desert Art Tour: An Official Modernism Week Event
DESCRIPTION:The Desert Art Tour: An official Modernism Week Event\, runs Friday and Saturday\, February 23rd & 24th\, 2024 from 11 am to 4 pm each day (extended hours at the Perez Art District on Friday from 11am to 7pm)\nYou are invited to see artist’s workspaces and learn about how their contemporary work is influenced by artists of the mid-century modern era. Educational materials linking their work to the great masters will be on display. Come meet the artists of the Coachella Valley; you will be able to see their creations\, ask questions\, and buy art directly. And\, most importantly\, you will enjoy a behind-the-scenes experience and discussion not usually available to the public. \nOur artists’ studios are in Palm Springs and in Cathedral City. This is a free self-guided tour. You choose where to start\, which studios to see\, and visit the art districts in the order of your choosing. Look for the official Modernism Week Tour signage to find participating studios. Your own transportation is required. \nEach location has plenty of parking. Handicap parking is available; This activity is wheelchair accessible. \nRegister for free tickets here: https://go.modtix.com/f/f24/desert-art-tour?date=2024-02-23
URL:https://www.discovercathedralcity.com/event/the-desert-art-tour-an-official-modernism-week-event/2024-02-24/
LOCATION:various locations
CATEGORIES:Art
ATTACH;FMTTYPE=image/jpeg:https://www.discovercathedralcity.com/wp-content/uploads/2024/02/modartour.jpg
ORGANIZER;CN="Desert Open Studios":MAILTO:desertopenstudios@gmail.com
END:VEVENT
END:VCALENDAR