BEGIN:VCALENDAR
VERSION:2.0
PRODID:-//Discover Cathedral City - ECPv6.15.13//NONSGML v1.0//EN
CALSCALE:GREGORIAN
METHOD:PUBLISH
X-WR-CALNAME:Discover Cathedral City
X-ORIGINAL-URL:https://www.discovercathedralcity.com
X-WR-CALDESC:Events for Discover Cathedral City
REFRESH-INTERVAL;VALUE=DURATION:PT1H
X-Robots-Tag:noindex
X-PUBLISHED-TTL:PT1H
BEGIN:VTIMEZONE
TZID:America/Los_Angeles
BEGIN:DAYLIGHT
TZOFFSETFROM:-0800
TZOFFSETTO:-0700
TZNAME:PDT
DTSTART:20230312T100000
END:DAYLIGHT
BEGIN:STANDARD
TZOFFSETFROM:-0700
TZOFFSETTO:-0800
TZNAME:PST
DTSTART:20231105T090000
END:STANDARD
BEGIN:DAYLIGHT
TZOFFSETFROM:-0800
TZOFFSETTO:-0700
TZNAME:PDT
DTSTART:20240310T100000
END:DAYLIGHT
BEGIN:STANDARD
TZOFFSETFROM:-0700
TZOFFSETTO:-0800
TZNAME:PST
DTSTART:20241103T090000
END:STANDARD
BEGIN:DAYLIGHT
TZOFFSETFROM:-0800
TZOFFSETTO:-0700
TZNAME:PDT
DTSTART:20250309T100000
END:DAYLIGHT
BEGIN:STANDARD
TZOFFSETFROM:-0700
TZOFFSETTO:-0800
TZNAME:PST
DTSTART:20251102T090000
END:STANDARD
END:VTIMEZONE
BEGIN:VEVENT
DTSTART;TZID=America/Los_Angeles:20241102T150000
DTEND;TZID=America/Los_Angeles:20241102T170000
DTSTAMP:20260419T065853
CREATED:20241024T202937Z
LAST-MODIFIED:20241024T202937Z
UID:10005649-1730559600-1730566800@www.discovercathedralcity.com
SUMMARY:Ocotillo Park Bench Painting Unveiling
DESCRIPTION:Join us for a vibrant afternoon celebrating art and community at the Ocotillo Park Bench Painting Unveiling\, hosted by the Cathedral City Public Arts Commission!\n\n\n\n\n\n\n\n\n\n📅 Date: Saturday\, November 2\, 2024\n⏰ Time: 3:00 PM – 5:00 PM\n📍 Location: Ocotillo Park\, 33300 Moreno Road\, Cathedral City\, CA \nThis family-friendly event will feature:\n🎶 Live Music\n🍽️ Food Truck\n🎨 Kids Art Activities\n🍧 Free Paletas (Mexican popsicles) \nCome see the beautifully painted benches and experience a unique blend of art\, culture\, and fun. Don’t miss this colorful celebration of local creativity! \nFor more details\, visit discovercathedralcity.com.
URL:https://www.discovercathedralcity.com/event/ocotillo-park-bench-painting-unveiling/
LOCATION:Ocotillo Park\, 33300 Moreno Rd\, Cathedral City\, CA\, 92234\, United States
CATEGORIES:Art,Children Activities,Community Events,Music
ATTACH;FMTTYPE=image/jpeg:https://www.discovercathedralcity.com/wp-content/uploads/2024/10/OcatilloBenches8.5x11-scaled.jpg
GEO:33.805963;-116.4634998
X-APPLE-STRUCTURED-LOCATION;VALUE=URI;X-ADDRESS=Ocotillo Park 33300 Moreno Rd Cathedral City CA 92234 United States;X-APPLE-RADIUS=500;X-TITLE=33300 Moreno Rd:geo:-116.4634998,33.805963
END:VEVENT
BEGIN:VEVENT
DTSTART;TZID=America/Los_Angeles:20241109T100000
DTEND;TZID=America/Los_Angeles:20241109T160000
DTSTAMP:20260419T065853
CREATED:20240508T150605Z
LAST-MODIFIED:20241105T191125Z
UID:10005579-1731146400-1731168000@www.discovercathedralcity.com
SUMMARY:Quarterly Art Exhibit
DESCRIPTION:The Cathedral City Public Library is hosting its Quarterly Art Exhibit\, showcasing works by 10 talented local artists selected from the Cathedral City Public Arts Commissions program. This vibrant exhibition will feature a diverse array of artistic mediums and unique perspectives. Visitors can explore the artwork; some art may be available for purchase\, supporting the creative talents within the community. \nDates:\nMay 18 & 19\, 2024\, August 24 & 25\, 2024\, and November 9 & 10\, 2024 \nTime: 10 AM – 4 PM \nLocation: Cathedral City Public Library 33520 Date Palm Dr\, Cathedral City\, CA 92234 \nThe Quarterly Art Exhibit is Sponsored by:\nCathedral City Public Library and Cathedral City Public Arts Commission.
URL:https://www.discovercathedralcity.com/event/quarterly-art-exhibit/2024-11-09/
LOCATION:Cathedral City Public Library\, 33520 Date Palm Drive\, Cathedral City\, CA\, 92234\, United States
CATEGORIES:Art,Community Events
ATTACH;FMTTYPE=image/jpeg:https://www.discovercathedralcity.com/wp-content/uploads/2024/05/Letter.jpg
GEO:33.8042303;-116.45733
X-APPLE-STRUCTURED-LOCATION;VALUE=URI;X-ADDRESS=Cathedral City Public Library 33520 Date Palm Drive Cathedral City CA 92234 United States;X-APPLE-RADIUS=500;X-TITLE=33520 Date Palm Drive:geo:-116.45733,33.8042303
END:VEVENT
BEGIN:VEVENT
DTSTART;TZID=America/Los_Angeles:20241110T100000
DTEND;TZID=America/Los_Angeles:20241110T160000
DTSTAMP:20260419T065853
CREATED:20240508T150605Z
LAST-MODIFIED:20241105T191125Z
UID:10005580-1731232800-1731254400@www.discovercathedralcity.com
SUMMARY:Quarterly Art Exhibit
DESCRIPTION:The Cathedral City Public Library is hosting its Quarterly Art Exhibit\, showcasing works by 10 talented local artists selected from the Cathedral City Public Arts Commissions program. This vibrant exhibition will feature a diverse array of artistic mediums and unique perspectives. Visitors can explore the artwork; some art may be available for purchase\, supporting the creative talents within the community. \nDates:\nMay 18 & 19\, 2024\, August 24 & 25\, 2024\, and November 9 & 10\, 2024 \nTime: 10 AM – 4 PM \nLocation: Cathedral City Public Library 33520 Date Palm Dr\, Cathedral City\, CA 92234 \nThe Quarterly Art Exhibit is Sponsored by:\nCathedral City Public Library and Cathedral City Public Arts Commission.
URL:https://www.discovercathedralcity.com/event/quarterly-art-exhibit/2024-11-10/
LOCATION:Cathedral City Public Library\, 33520 Date Palm Drive\, Cathedral City\, CA\, 92234\, United States
CATEGORIES:Art,Community Events
ATTACH;FMTTYPE=image/jpeg:https://www.discovercathedralcity.com/wp-content/uploads/2024/05/Letter.jpg
GEO:33.8042303;-116.45733
X-APPLE-STRUCTURED-LOCATION;VALUE=URI;X-ADDRESS=Cathedral City Public Library 33520 Date Palm Drive Cathedral City CA 92234 United States;X-APPLE-RADIUS=500;X-TITLE=33520 Date Palm Drive:geo:-116.45733,33.8042303
END:VEVENT
END:VCALENDAR