BEGIN:VCALENDAR
VERSION:2.0
PRODID:-//Discover Cathedral City - ECPv6.15.13//NONSGML v1.0//EN
CALSCALE:GREGORIAN
METHOD:PUBLISH
X-WR-CALNAME:Discover Cathedral City
X-ORIGINAL-URL:https://www.discovercathedralcity.com
X-WR-CALDESC:Events for Discover Cathedral City
REFRESH-INTERVAL;VALUE=DURATION:PT1H
X-Robots-Tag:noindex
X-PUBLISHED-TTL:PT1H
BEGIN:VTIMEZONE
TZID:America/Los_Angeles
BEGIN:DAYLIGHT
TZOFFSETFROM:-0800
TZOFFSETTO:-0700
TZNAME:PDT
DTSTART:20210314T100000
END:DAYLIGHT
BEGIN:STANDARD
TZOFFSETFROM:-0700
TZOFFSETTO:-0800
TZNAME:PST
DTSTART:20211107T090000
END:STANDARD
BEGIN:DAYLIGHT
TZOFFSETFROM:-0800
TZOFFSETTO:-0700
TZNAME:PDT
DTSTART:20220313T100000
END:DAYLIGHT
BEGIN:STANDARD
TZOFFSETFROM:-0700
TZOFFSETTO:-0800
TZNAME:PST
DTSTART:20221106T090000
END:STANDARD
BEGIN:DAYLIGHT
TZOFFSETFROM:-0800
TZOFFSETTO:-0700
TZNAME:PDT
DTSTART:20230312T100000
END:DAYLIGHT
BEGIN:STANDARD
TZOFFSETFROM:-0700
TZOFFSETTO:-0800
TZNAME:PST
DTSTART:20231105T090000
END:STANDARD
BEGIN:DAYLIGHT
TZOFFSETFROM:-0800
TZOFFSETTO:-0700
TZNAME:PDT
DTSTART:20240310T100000
END:DAYLIGHT
BEGIN:STANDARD
TZOFFSETFROM:-0700
TZOFFSETTO:-0800
TZNAME:PST
DTSTART:20241103T090000
END:STANDARD
BEGIN:DAYLIGHT
TZOFFSETFROM:-0800
TZOFFSETTO:-0700
TZNAME:PDT
DTSTART:20250309T100000
END:DAYLIGHT
BEGIN:STANDARD
TZOFFSETFROM:-0700
TZOFFSETTO:-0800
TZNAME:PST
DTSTART:20251102T090000
END:STANDARD
BEGIN:DAYLIGHT
TZOFFSETFROM:-0800
TZOFFSETTO:-0700
TZNAME:PDT
DTSTART:20260308T100000
END:DAYLIGHT
BEGIN:STANDARD
TZOFFSETFROM:-0700
TZOFFSETTO:-0800
TZNAME:PST
DTSTART:20261101T090000
END:STANDARD
END:VTIMEZONE
BEGIN:VEVENT
DTSTART;TZID=America/Los_Angeles:20251025T190000
DTEND;TZID=America/Los_Angeles:20251025T210000
DTSTAMP:20260420T014936
CREATED:20251007T230907Z
LAST-MODIFIED:20251007T230932Z
UID:10007525-1761418800-1761426000@www.discovercathedralcity.com
SUMMARY:Halloween Screams
DESCRIPTION:Cathedral City High School Theater for the Performing Arts & Blue Mane Productions present HALLOWEEN SCREAMS – a comic thriller in two acts. Tickets are available online or at the door. VIP $10 and GA $8.
URL:https://www.discovercathedralcity.com/event/halloween-screams/2025-10-25/2/
LOCATION:Cathedral City High School Theater\, 69250 Dinah Shore Dr.\, Cathedral City\, CA\, 92234\, United States
CATEGORIES:Community Events
ATTACH;FMTTYPE=image/jpeg:https://www.discovercathedralcity.com/wp-content/uploads/2025/10/Screenshot-2025-10-07-160118.jpg
GEO:33.8040016;-116.4506472
X-APPLE-STRUCTURED-LOCATION;VALUE=URI;X-ADDRESS=Cathedral City High School Theater 69250 Dinah Shore Dr. Cathedral City CA 92234 United States;X-APPLE-RADIUS=500;X-TITLE=69250 Dinah Shore Dr.:geo:-116.4506472,33.8040016
END:VEVENT
BEGIN:VEVENT
DTSTART;TZID=America/Los_Angeles:20251025T130000
DTEND;TZID=America/Los_Angeles:20251025T150000
DTSTAMP:20260420T014936
CREATED:20251007T230907Z
LAST-MODIFIED:20251007T230932Z
UID:10007524-1761397200-1761404400@www.discovercathedralcity.com
SUMMARY:Halloween Screams
DESCRIPTION:Cathedral City High School Theater for the Performing Arts & Blue Mane Productions present HALLOWEEN SCREAMS – a comic thriller in two acts. Tickets are available online or at the door. VIP $10 and GA $8.
URL:https://www.discovercathedralcity.com/event/halloween-screams/2025-10-25/1/
LOCATION:Cathedral City High School Theater\, 69250 Dinah Shore Dr.\, Cathedral City\, CA\, 92234\, United States
CATEGORIES:Community Events
ATTACH;FMTTYPE=image/jpeg:https://www.discovercathedralcity.com/wp-content/uploads/2025/10/Screenshot-2025-10-07-160118.jpg
GEO:33.8040016;-116.4506472
X-APPLE-STRUCTURED-LOCATION;VALUE=URI;X-ADDRESS=Cathedral City High School Theater 69250 Dinah Shore Dr. Cathedral City CA 92234 United States;X-APPLE-RADIUS=500;X-TITLE=69250 Dinah Shore Dr.:geo:-116.4506472,33.8040016
END:VEVENT
BEGIN:VEVENT
DTSTART;TZID=America/Los_Angeles:20251024T190000
DTEND;TZID=America/Los_Angeles:20251024T210000
DTSTAMP:20260420T014936
CREATED:20251007T230907Z
LAST-MODIFIED:20251007T230932Z
UID:10007523-1761332400-1761339600@www.discovercathedralcity.com
SUMMARY:Halloween Screams
DESCRIPTION:Cathedral City High School Theater for the Performing Arts & Blue Mane Productions present HALLOWEEN SCREAMS – a comic thriller in two acts. Tickets are available online or at the door. VIP $10 and GA $8.
URL:https://www.discovercathedralcity.com/event/halloween-screams/2025-10-24/
LOCATION:Cathedral City High School Theater\, 69250 Dinah Shore Dr.\, Cathedral City\, CA\, 92234\, United States
CATEGORIES:Community Events
ATTACH;FMTTYPE=image/jpeg:https://www.discovercathedralcity.com/wp-content/uploads/2025/10/Screenshot-2025-10-07-160118.jpg
GEO:33.8040016;-116.4506472
X-APPLE-STRUCTURED-LOCATION;VALUE=URI;X-ADDRESS=Cathedral City High School Theater 69250 Dinah Shore Dr. Cathedral City CA 92234 United States;X-APPLE-RADIUS=500;X-TITLE=69250 Dinah Shore Dr.:geo:-116.4506472,33.8040016
END:VEVENT
BEGIN:VEVENT
DTSTART;TZID=America/Los_Angeles:20251023T190000
DTEND;TZID=America/Los_Angeles:20251023T210000
DTSTAMP:20260420T014936
CREATED:20251007T230907Z
LAST-MODIFIED:20251007T230932Z
UID:10007522-1761246000-1761253200@www.discovercathedralcity.com
SUMMARY:Halloween Screams
DESCRIPTION:Cathedral City High School Theater for the Performing Arts & Blue Mane Productions present HALLOWEEN SCREAMS – a comic thriller in two acts. Tickets are available online or at the door. VIP $10 and GA $8.
URL:https://www.discovercathedralcity.com/event/halloween-screams/2025-10-23/
LOCATION:Cathedral City High School Theater\, 69250 Dinah Shore Dr.\, Cathedral City\, CA\, 92234\, United States
CATEGORIES:Community Events
ATTACH;FMTTYPE=image/jpeg:https://www.discovercathedralcity.com/wp-content/uploads/2025/10/Screenshot-2025-10-07-160118.jpg
GEO:33.8040016;-116.4506472
X-APPLE-STRUCTURED-LOCATION;VALUE=URI;X-ADDRESS=Cathedral City High School Theater 69250 Dinah Shore Dr. Cathedral City CA 92234 United States;X-APPLE-RADIUS=500;X-TITLE=69250 Dinah Shore Dr.:geo:-116.4506472,33.8040016
END:VEVENT
BEGIN:VEVENT
DTSTART;TZID=America/Los_Angeles:20251018T190000
DTEND;TZID=America/Los_Angeles:20251018T210000
DTSTAMP:20260420T014936
CREATED:20251007T230907Z
LAST-MODIFIED:20251007T230932Z
UID:10007521-1760814000-1760821200@www.discovercathedralcity.com
SUMMARY:Halloween Screams
DESCRIPTION:Cathedral City High School Theater for the Performing Arts & Blue Mane Productions present HALLOWEEN SCREAMS – a comic thriller in two acts. Tickets are available online or at the door. VIP $10 and GA $8.
URL:https://www.discovercathedralcity.com/event/halloween-screams/2025-10-18/2/
LOCATION:Cathedral City High School Theater\, 69250 Dinah Shore Dr.\, Cathedral City\, CA\, 92234\, United States
CATEGORIES:Community Events
ATTACH;FMTTYPE=image/jpeg:https://www.discovercathedralcity.com/wp-content/uploads/2025/10/Screenshot-2025-10-07-160118.jpg
GEO:33.8040016;-116.4506472
X-APPLE-STRUCTURED-LOCATION;VALUE=URI;X-ADDRESS=Cathedral City High School Theater 69250 Dinah Shore Dr. Cathedral City CA 92234 United States;X-APPLE-RADIUS=500;X-TITLE=69250 Dinah Shore Dr.:geo:-116.4506472,33.8040016
END:VEVENT
BEGIN:VEVENT
DTSTART;TZID=America/Los_Angeles:20251018T130000
DTEND;TZID=America/Los_Angeles:20251018T150000
DTSTAMP:20260420T014936
CREATED:20251007T230907Z
LAST-MODIFIED:20251007T230932Z
UID:10007520-1760792400-1760799600@www.discovercathedralcity.com
SUMMARY:Halloween Screams
DESCRIPTION:Cathedral City High School Theater for the Performing Arts & Blue Mane Productions present HALLOWEEN SCREAMS – a comic thriller in two acts. Tickets are available online or at the door. VIP $10 and GA $8.
URL:https://www.discovercathedralcity.com/event/halloween-screams/2025-10-18/1/
LOCATION:Cathedral City High School Theater\, 69250 Dinah Shore Dr.\, Cathedral City\, CA\, 92234\, United States
CATEGORIES:Community Events
ATTACH;FMTTYPE=image/jpeg:https://www.discovercathedralcity.com/wp-content/uploads/2025/10/Screenshot-2025-10-07-160118.jpg
GEO:33.8040016;-116.4506472
X-APPLE-STRUCTURED-LOCATION;VALUE=URI;X-ADDRESS=Cathedral City High School Theater 69250 Dinah Shore Dr. Cathedral City CA 92234 United States;X-APPLE-RADIUS=500;X-TITLE=69250 Dinah Shore Dr.:geo:-116.4506472,33.8040016
END:VEVENT
BEGIN:VEVENT
DTSTART;TZID=America/Los_Angeles:20251017T190000
DTEND;TZID=America/Los_Angeles:20251017T210000
DTSTAMP:20260420T014936
CREATED:20251007T230907Z
LAST-MODIFIED:20251007T230932Z
UID:10007519-1760727600-1760734800@www.discovercathedralcity.com
SUMMARY:Halloween Screams
DESCRIPTION:Cathedral City High School Theater for the Performing Arts & Blue Mane Productions present HALLOWEEN SCREAMS – a comic thriller in two acts. Tickets are available online or at the door. VIP $10 and GA $8.
URL:https://www.discovercathedralcity.com/event/halloween-screams/2025-10-17/
LOCATION:Cathedral City High School Theater\, 69250 Dinah Shore Dr.\, Cathedral City\, CA\, 92234\, United States
CATEGORIES:Community Events
ATTACH;FMTTYPE=image/jpeg:https://www.discovercathedralcity.com/wp-content/uploads/2025/10/Screenshot-2025-10-07-160118.jpg
GEO:33.8040016;-116.4506472
X-APPLE-STRUCTURED-LOCATION;VALUE=URI;X-ADDRESS=Cathedral City High School Theater 69250 Dinah Shore Dr. Cathedral City CA 92234 United States;X-APPLE-RADIUS=500;X-TITLE=69250 Dinah Shore Dr.:geo:-116.4506472,33.8040016
END:VEVENT
BEGIN:VEVENT
DTSTART;TZID=America/Los_Angeles:20251016T190000
DTEND;TZID=America/Los_Angeles:20251016T210000
DTSTAMP:20260420T014936
CREATED:20251007T230907Z
LAST-MODIFIED:20251007T230932Z
UID:10007518-1760641200-1760648400@www.discovercathedralcity.com
SUMMARY:Halloween Screams
DESCRIPTION:Cathedral City High School Theater for the Performing Arts & Blue Mane Productions present HALLOWEEN SCREAMS – a comic thriller in two acts. Tickets are available online or at the door. VIP $10 and GA $8.
URL:https://www.discovercathedralcity.com/event/halloween-screams/2025-10-16/
LOCATION:Cathedral City High School Theater\, 69250 Dinah Shore Dr.\, Cathedral City\, CA\, 92234\, United States
CATEGORIES:Community Events
ATTACH;FMTTYPE=image/jpeg:https://www.discovercathedralcity.com/wp-content/uploads/2025/10/Screenshot-2025-10-07-160118.jpg
GEO:33.8040016;-116.4506472
X-APPLE-STRUCTURED-LOCATION;VALUE=URI;X-ADDRESS=Cathedral City High School Theater 69250 Dinah Shore Dr. Cathedral City CA 92234 United States;X-APPLE-RADIUS=500;X-TITLE=69250 Dinah Shore Dr.:geo:-116.4506472,33.8040016
END:VEVENT
BEGIN:VEVENT
DTSTART;TZID=America/Los_Angeles:20240427T190000
DTEND;TZID=America/Los_Angeles:20240427T213000
DTSTAMP:20260420T014936
CREATED:20240408T213310Z
LAST-MODIFIED:20240408T213310Z
UID:10005551-1714244400-1714253400@www.discovercathedralcity.com
SUMMARY:Cathedral City High School - West Side Story
DESCRIPTION:Get ready for an unforgettable theatrical experience! Cathedral City High School and Blue Mane Productions proudly present the iconic musical “West Side Story.” This legendary Broadway show features a book by Arthur Laurents\, music by Leonard Bernstein\, and lyrics by Stephen Sondheim. \nThe entire original production will be directed and choreographed by Jerome Robbins\, promising a truly authentic and captivating performance. Don’t miss your chance to witness this timeless tale of love\, rivalry\, and the struggle for acceptance. \nCatch one of the evening shows from April 18th\, 19th\, 20th\, and April 25th\, 26th\, and 27th at 7 pm or attend the matinee performances on April 20th and 27th at 1 pm. \nTicket prices are $10 for VIP\, $8 for general admission\, and $6 for students and seniors. Visit catcityhightheater.com or call (760) 770-0149 for tickets and more information. \nMark your calendars and get ready to experience the magic of West Side Story like never before!
URL:https://www.discovercathedralcity.com/event/cathedral-city-high-school-west-side-story/2024-04-27/2/
LOCATION:Cathedral City High School Theater\, 69250 Dinah Shore Dr.\, Cathedral City\, CA\, 92234\, United States
CATEGORIES:Music,Performing Arts
ATTACH;FMTTYPE=image/jpeg:https://www.discovercathedralcity.com/wp-content/uploads/2024/04/West-Side-Story-Poster-updated-scaled-e1712610328469.jpg
GEO:33.8040016;-116.4506472
X-APPLE-STRUCTURED-LOCATION;VALUE=URI;X-ADDRESS=Cathedral City High School Theater 69250 Dinah Shore Dr. Cathedral City CA 92234 United States;X-APPLE-RADIUS=500;X-TITLE=69250 Dinah Shore Dr.:geo:-116.4506472,33.8040016
END:VEVENT
BEGIN:VEVENT
DTSTART;TZID=America/Los_Angeles:20240427T130000
DTEND;TZID=America/Los_Angeles:20240427T153000
DTSTAMP:20260420T014936
CREATED:20240408T213310Z
LAST-MODIFIED:20240408T213310Z
UID:10005550-1714222800-1714231800@www.discovercathedralcity.com
SUMMARY:Cathedral City High School - West Side Story
DESCRIPTION:Get ready for an unforgettable theatrical experience! Cathedral City High School and Blue Mane Productions proudly present the iconic musical “West Side Story.” This legendary Broadway show features a book by Arthur Laurents\, music by Leonard Bernstein\, and lyrics by Stephen Sondheim. \nThe entire original production will be directed and choreographed by Jerome Robbins\, promising a truly authentic and captivating performance. Don’t miss your chance to witness this timeless tale of love\, rivalry\, and the struggle for acceptance. \nCatch one of the evening shows from April 18th\, 19th\, 20th\, and April 25th\, 26th\, and 27th at 7 pm or attend the matinee performances on April 20th and 27th at 1 pm. \nTicket prices are $10 for VIP\, $8 for general admission\, and $6 for students and seniors. Visit catcityhightheater.com or call (760) 770-0149 for tickets and more information. \nMark your calendars and get ready to experience the magic of West Side Story like never before!
URL:https://www.discovercathedralcity.com/event/cathedral-city-high-school-west-side-story/2024-04-27/1/
LOCATION:Cathedral City High School Theater\, 69250 Dinah Shore Dr.\, Cathedral City\, CA\, 92234\, United States
CATEGORIES:Music,Performing Arts
ATTACH;FMTTYPE=image/jpeg:https://www.discovercathedralcity.com/wp-content/uploads/2024/04/West-Side-Story-Poster-updated-scaled-e1712610328469.jpg
GEO:33.8040016;-116.4506472
X-APPLE-STRUCTURED-LOCATION;VALUE=URI;X-ADDRESS=Cathedral City High School Theater 69250 Dinah Shore Dr. Cathedral City CA 92234 United States;X-APPLE-RADIUS=500;X-TITLE=69250 Dinah Shore Dr.:geo:-116.4506472,33.8040016
END:VEVENT
BEGIN:VEVENT
DTSTART;TZID=America/Los_Angeles:20240426T190000
DTEND;TZID=America/Los_Angeles:20240426T213000
DTSTAMP:20260420T014936
CREATED:20240408T213310Z
LAST-MODIFIED:20240408T213310Z
UID:10005549-1714158000-1714167000@www.discovercathedralcity.com
SUMMARY:Cathedral City High School - West Side Story
DESCRIPTION:Get ready for an unforgettable theatrical experience! Cathedral City High School and Blue Mane Productions proudly present the iconic musical “West Side Story.” This legendary Broadway show features a book by Arthur Laurents\, music by Leonard Bernstein\, and lyrics by Stephen Sondheim. \nThe entire original production will be directed and choreographed by Jerome Robbins\, promising a truly authentic and captivating performance. Don’t miss your chance to witness this timeless tale of love\, rivalry\, and the struggle for acceptance. \nCatch one of the evening shows from April 18th\, 19th\, 20th\, and April 25th\, 26th\, and 27th at 7 pm or attend the matinee performances on April 20th and 27th at 1 pm. \nTicket prices are $10 for VIP\, $8 for general admission\, and $6 for students and seniors. Visit catcityhightheater.com or call (760) 770-0149 for tickets and more information. \nMark your calendars and get ready to experience the magic of West Side Story like never before!
URL:https://www.discovercathedralcity.com/event/cathedral-city-high-school-west-side-story/2024-04-26/
LOCATION:Cathedral City High School Theater\, 69250 Dinah Shore Dr.\, Cathedral City\, CA\, 92234\, United States
CATEGORIES:Music,Performing Arts
ATTACH;FMTTYPE=image/jpeg:https://www.discovercathedralcity.com/wp-content/uploads/2024/04/West-Side-Story-Poster-updated-scaled-e1712610328469.jpg
GEO:33.8040016;-116.4506472
X-APPLE-STRUCTURED-LOCATION;VALUE=URI;X-ADDRESS=Cathedral City High School Theater 69250 Dinah Shore Dr. Cathedral City CA 92234 United States;X-APPLE-RADIUS=500;X-TITLE=69250 Dinah Shore Dr.:geo:-116.4506472,33.8040016
END:VEVENT
BEGIN:VEVENT
DTSTART;TZID=America/Los_Angeles:20240425T190000
DTEND;TZID=America/Los_Angeles:20240425T213000
DTSTAMP:20260420T014936
CREATED:20240408T213310Z
LAST-MODIFIED:20240408T213310Z
UID:10005548-1714071600-1714080600@www.discovercathedralcity.com
SUMMARY:Cathedral City High School - West Side Story
DESCRIPTION:Get ready for an unforgettable theatrical experience! Cathedral City High School and Blue Mane Productions proudly present the iconic musical “West Side Story.” This legendary Broadway show features a book by Arthur Laurents\, music by Leonard Bernstein\, and lyrics by Stephen Sondheim. \nThe entire original production will be directed and choreographed by Jerome Robbins\, promising a truly authentic and captivating performance. Don’t miss your chance to witness this timeless tale of love\, rivalry\, and the struggle for acceptance. \nCatch one of the evening shows from April 18th\, 19th\, 20th\, and April 25th\, 26th\, and 27th at 7 pm or attend the matinee performances on April 20th and 27th at 1 pm. \nTicket prices are $10 for VIP\, $8 for general admission\, and $6 for students and seniors. Visit catcityhightheater.com or call (760) 770-0149 for tickets and more information. \nMark your calendars and get ready to experience the magic of West Side Story like never before!
URL:https://www.discovercathedralcity.com/event/cathedral-city-high-school-west-side-story/2024-04-25/
LOCATION:Cathedral City High School Theater\, 69250 Dinah Shore Dr.\, Cathedral City\, CA\, 92234\, United States
CATEGORIES:Music,Performing Arts
ATTACH;FMTTYPE=image/jpeg:https://www.discovercathedralcity.com/wp-content/uploads/2024/04/West-Side-Story-Poster-updated-scaled-e1712610328469.jpg
GEO:33.8040016;-116.4506472
X-APPLE-STRUCTURED-LOCATION;VALUE=URI;X-ADDRESS=Cathedral City High School Theater 69250 Dinah Shore Dr. Cathedral City CA 92234 United States;X-APPLE-RADIUS=500;X-TITLE=69250 Dinah Shore Dr.:geo:-116.4506472,33.8040016
END:VEVENT
BEGIN:VEVENT
DTSTART;TZID=America/Los_Angeles:20240420T190000
DTEND;TZID=America/Los_Angeles:20240420T213000
DTSTAMP:20260420T014936
CREATED:20240408T213310Z
LAST-MODIFIED:20240408T213310Z
UID:10005547-1713639600-1713648600@www.discovercathedralcity.com
SUMMARY:Cathedral City High School - West Side Story
DESCRIPTION:Get ready for an unforgettable theatrical experience! Cathedral City High School and Blue Mane Productions proudly present the iconic musical “West Side Story.” This legendary Broadway show features a book by Arthur Laurents\, music by Leonard Bernstein\, and lyrics by Stephen Sondheim. \nThe entire original production will be directed and choreographed by Jerome Robbins\, promising a truly authentic and captivating performance. Don’t miss your chance to witness this timeless tale of love\, rivalry\, and the struggle for acceptance. \nCatch one of the evening shows from April 18th\, 19th\, 20th\, and April 25th\, 26th\, and 27th at 7 pm or attend the matinee performances on April 20th and 27th at 1 pm. \nTicket prices are $10 for VIP\, $8 for general admission\, and $6 for students and seniors. Visit catcityhightheater.com or call (760) 770-0149 for tickets and more information. \nMark your calendars and get ready to experience the magic of West Side Story like never before!
URL:https://www.discovercathedralcity.com/event/cathedral-city-high-school-west-side-story/2024-04-20/2/
LOCATION:Cathedral City High School Theater\, 69250 Dinah Shore Dr.\, Cathedral City\, CA\, 92234\, United States
CATEGORIES:Music,Performing Arts
ATTACH;FMTTYPE=image/jpeg:https://www.discovercathedralcity.com/wp-content/uploads/2024/04/West-Side-Story-Poster-updated-scaled-e1712610328469.jpg
GEO:33.8040016;-116.4506472
X-APPLE-STRUCTURED-LOCATION;VALUE=URI;X-ADDRESS=Cathedral City High School Theater 69250 Dinah Shore Dr. Cathedral City CA 92234 United States;X-APPLE-RADIUS=500;X-TITLE=69250 Dinah Shore Dr.:geo:-116.4506472,33.8040016
END:VEVENT
BEGIN:VEVENT
DTSTART;TZID=America/Los_Angeles:20240420T130000
DTEND;TZID=America/Los_Angeles:20240420T153000
DTSTAMP:20260420T014936
CREATED:20240408T213310Z
LAST-MODIFIED:20240408T213310Z
UID:10005546-1713618000-1713627000@www.discovercathedralcity.com
SUMMARY:Cathedral City High School - West Side Story
DESCRIPTION:Get ready for an unforgettable theatrical experience! Cathedral City High School and Blue Mane Productions proudly present the iconic musical “West Side Story.” This legendary Broadway show features a book by Arthur Laurents\, music by Leonard Bernstein\, and lyrics by Stephen Sondheim. \nThe entire original production will be directed and choreographed by Jerome Robbins\, promising a truly authentic and captivating performance. Don’t miss your chance to witness this timeless tale of love\, rivalry\, and the struggle for acceptance. \nCatch one of the evening shows from April 18th\, 19th\, 20th\, and April 25th\, 26th\, and 27th at 7 pm or attend the matinee performances on April 20th and 27th at 1 pm. \nTicket prices are $10 for VIP\, $8 for general admission\, and $6 for students and seniors. Visit catcityhightheater.com or call (760) 770-0149 for tickets and more information. \nMark your calendars and get ready to experience the magic of West Side Story like never before!
URL:https://www.discovercathedralcity.com/event/cathedral-city-high-school-west-side-story/2024-04-20/1/
LOCATION:Cathedral City High School Theater\, 69250 Dinah Shore Dr.\, Cathedral City\, CA\, 92234\, United States
CATEGORIES:Music,Performing Arts
ATTACH;FMTTYPE=image/jpeg:https://www.discovercathedralcity.com/wp-content/uploads/2024/04/West-Side-Story-Poster-updated-scaled-e1712610328469.jpg
GEO:33.8040016;-116.4506472
X-APPLE-STRUCTURED-LOCATION;VALUE=URI;X-ADDRESS=Cathedral City High School Theater 69250 Dinah Shore Dr. Cathedral City CA 92234 United States;X-APPLE-RADIUS=500;X-TITLE=69250 Dinah Shore Dr.:geo:-116.4506472,33.8040016
END:VEVENT
BEGIN:VEVENT
DTSTART;TZID=America/Los_Angeles:20240419T190000
DTEND;TZID=America/Los_Angeles:20240419T213000
DTSTAMP:20260420T014936
CREATED:20240408T213310Z
LAST-MODIFIED:20240408T213310Z
UID:10005545-1713553200-1713562200@www.discovercathedralcity.com
SUMMARY:Cathedral City High School - West Side Story
DESCRIPTION:Get ready for an unforgettable theatrical experience! Cathedral City High School and Blue Mane Productions proudly present the iconic musical “West Side Story.” This legendary Broadway show features a book by Arthur Laurents\, music by Leonard Bernstein\, and lyrics by Stephen Sondheim. \nThe entire original production will be directed and choreographed by Jerome Robbins\, promising a truly authentic and captivating performance. Don’t miss your chance to witness this timeless tale of love\, rivalry\, and the struggle for acceptance. \nCatch one of the evening shows from April 18th\, 19th\, 20th\, and April 25th\, 26th\, and 27th at 7 pm or attend the matinee performances on April 20th and 27th at 1 pm. \nTicket prices are $10 for VIP\, $8 for general admission\, and $6 for students and seniors. Visit catcityhightheater.com or call (760) 770-0149 for tickets and more information. \nMark your calendars and get ready to experience the magic of West Side Story like never before!
URL:https://www.discovercathedralcity.com/event/cathedral-city-high-school-west-side-story/2024-04-19/
LOCATION:Cathedral City High School Theater\, 69250 Dinah Shore Dr.\, Cathedral City\, CA\, 92234\, United States
CATEGORIES:Music,Performing Arts
ATTACH;FMTTYPE=image/jpeg:https://www.discovercathedralcity.com/wp-content/uploads/2024/04/West-Side-Story-Poster-updated-scaled-e1712610328469.jpg
GEO:33.8040016;-116.4506472
X-APPLE-STRUCTURED-LOCATION;VALUE=URI;X-ADDRESS=Cathedral City High School Theater 69250 Dinah Shore Dr. Cathedral City CA 92234 United States;X-APPLE-RADIUS=500;X-TITLE=69250 Dinah Shore Dr.:geo:-116.4506472,33.8040016
END:VEVENT
BEGIN:VEVENT
DTSTART;TZID=America/Los_Angeles:20240418T190000
DTEND;TZID=America/Los_Angeles:20240418T213000
DTSTAMP:20260420T014936
CREATED:20240408T213310Z
LAST-MODIFIED:20240408T213310Z
UID:10005544-1713466800-1713475800@www.discovercathedralcity.com
SUMMARY:Cathedral City High School - West Side Story
DESCRIPTION:Get ready for an unforgettable theatrical experience! Cathedral City High School and Blue Mane Productions proudly present the iconic musical “West Side Story.” This legendary Broadway show features a book by Arthur Laurents\, music by Leonard Bernstein\, and lyrics by Stephen Sondheim. \nThe entire original production will be directed and choreographed by Jerome Robbins\, promising a truly authentic and captivating performance. Don’t miss your chance to witness this timeless tale of love\, rivalry\, and the struggle for acceptance. \nCatch one of the evening shows from April 18th\, 19th\, 20th\, and April 25th\, 26th\, and 27th at 7 pm or attend the matinee performances on April 20th and 27th at 1 pm. \nTicket prices are $10 for VIP\, $8 for general admission\, and $6 for students and seniors. Visit catcityhightheater.com or call (760) 770-0149 for tickets and more information. \nMark your calendars and get ready to experience the magic of West Side Story like never before!
URL:https://www.discovercathedralcity.com/event/cathedral-city-high-school-west-side-story/2024-04-18/
LOCATION:Cathedral City High School Theater\, 69250 Dinah Shore Dr.\, Cathedral City\, CA\, 92234\, United States
CATEGORIES:Music,Performing Arts
ATTACH;FMTTYPE=image/jpeg:https://www.discovercathedralcity.com/wp-content/uploads/2024/04/West-Side-Story-Poster-updated-scaled-e1712610328469.jpg
GEO:33.8040016;-116.4506472
X-APPLE-STRUCTURED-LOCATION;VALUE=URI;X-ADDRESS=Cathedral City High School Theater 69250 Dinah Shore Dr. Cathedral City CA 92234 United States;X-APPLE-RADIUS=500;X-TITLE=69250 Dinah Shore Dr.:geo:-116.4506472,33.8040016
END:VEVENT
BEGIN:VEVENT
DTSTART;TZID=America/Los_Angeles:20240213T170000
DTEND;TZID=America/Los_Angeles:20240213T190000
DTSTAMP:20260420T014936
CREATED:20230423T044515Z
LAST-MODIFIED:20240130T002116Z
UID:10005130-1707843600-1707850800@www.discovercathedralcity.com
SUMMARY:Tastes & Sounds of Cathedral City - Cathedral City High School Jazz Band
DESCRIPTION:The Cathedral City High School “Royal Jazz Band” is an esteemed ensemble recognized throughout Southern California for their exceptional musicality and professionalism. Led by the talented director Mr. Matthew Howe\, this audition-only group consistently delivers exceptional performances at various events including weddings\, parties\, community functions\, and even on local radio and TV. Their collaborations with renowned jazz artists like Buddy Greco\, as well as their extensive participation in clinics with leading professionals such as Lorin Cohen\, Anthony Fesmire\, and Jeff Ellwood\, have honed their skills to a level that rivals industry professionals. In addition\, the band has also released a CD in 2008\, showcasing their dedication and skill. With their captivating jazz sounds\, the Royal Jazz Band enhances any event\, providing an enjoyable musical experience. \n\nIndulge in a weekly feast for the senses at\nImmerse yourself in a musical and culinary adventure like no other. \nJoin us in Downtown Cathedral City every week from\nFebruary 13 to April 9\, 2024\nand savor the flavors\, rhythms\, and talents of our vibrant community! \nCommunity Amphitheater
URL:https://www.discovercathedralcity.com/event/tastes-sounds-of-cathedral-city-cchs-jazz-band/
LOCATION:Cathedral City Community Amphitheater\, 68526 Avenida Lalo Guerrero\, Cathedral City\, CA\, 92234\, United States
CATEGORIES:Community Events,Concert,Food,Music
ATTACH;FMTTYPE=image/png:https://www.discovercathedralcity.com/wp-content/uploads/2023/04/Cathedral-City-HS-Jazz-Band-_-2019-RCC-Jazz-Festival-0-48-screenshot-e1706574006345.png
GEO:33.7813769;-116.4655492
X-APPLE-STRUCTURED-LOCATION;VALUE=URI;X-ADDRESS=Cathedral City Community Amphitheater 68526 Avenida Lalo Guerrero Cathedral City CA 92234 United States;X-APPLE-RADIUS=500;X-TITLE=68526 Avenida Lalo Guerrero:geo:-116.4655492,33.7813769
END:VEVENT
BEGIN:VEVENT
DTSTART;TZID=America/Los_Angeles:20221214T183000
DTEND;TZID=America/Los_Angeles:20221214T200000
DTSTAMP:20260420T014936
CREATED:20221122T222350Z
LAST-MODIFIED:20221122T223020Z
UID:10004027-1671042600-1671048000@www.discovercathedralcity.com
SUMMARY:Cathedral City High School Winter Concert
DESCRIPTION:Winter Choir Concert – 14 December @ 6:30 pm.\n\nFREE admission – come one\, come all!\n\n\n\nFeaturing the CCHS Choirs\,\nThe Cougars’ Voice from Nellie Coffman Middle School &\nThe Vocal Academy from James Workman Middle School.
URL:https://www.discovercathedralcity.com/event/winter-concert/
LOCATION:Cathedral City High School Theater\, 69250 Dinah Shore Dr.\, Cathedral City\, CA\, 92234\, United States
CATEGORIES:Music,Performing Arts
ATTACH;FMTTYPE=image/jpeg:https://www.discovercathedralcity.com/wp-content/uploads/2022/11/2022-Winter-Concert-Poster.jpg
GEO:33.8040016;-116.4506472
X-APPLE-STRUCTURED-LOCATION;VALUE=URI;X-ADDRESS=Cathedral City High School Theater 69250 Dinah Shore Dr. Cathedral City CA 92234 United States;X-APPLE-RADIUS=500;X-TITLE=69250 Dinah Shore Dr.:geo:-116.4506472,33.8040016
END:VEVENT
END:VCALENDAR