BEGIN:VCALENDAR
VERSION:2.0
PRODID:-//Discover Cathedral City - ECPv6.15.13//NONSGML v1.0//EN
CALSCALE:GREGORIAN
METHOD:PUBLISH
X-WR-CALNAME:Discover Cathedral City
X-ORIGINAL-URL:https://www.discovercathedralcity.com
X-WR-CALDESC:Events for Discover Cathedral City
REFRESH-INTERVAL;VALUE=DURATION:PT1H
X-Robots-Tag:noindex
X-PUBLISHED-TTL:PT1H
BEGIN:VTIMEZONE
TZID:America/Los_Angeles
BEGIN:DAYLIGHT
TZOFFSETFROM:-0800
TZOFFSETTO:-0700
TZNAME:PDT
DTSTART:20220313T100000
END:DAYLIGHT
BEGIN:STANDARD
TZOFFSETFROM:-0700
TZOFFSETTO:-0800
TZNAME:PST
DTSTART:20221106T090000
END:STANDARD
BEGIN:DAYLIGHT
TZOFFSETFROM:-0800
TZOFFSETTO:-0700
TZNAME:PDT
DTSTART:20230312T100000
END:DAYLIGHT
BEGIN:STANDARD
TZOFFSETFROM:-0700
TZOFFSETTO:-0800
TZNAME:PST
DTSTART:20231105T090000
END:STANDARD
BEGIN:DAYLIGHT
TZOFFSETFROM:-0800
TZOFFSETTO:-0700
TZNAME:PDT
DTSTART:20240310T100000
END:DAYLIGHT
BEGIN:STANDARD
TZOFFSETFROM:-0700
TZOFFSETTO:-0800
TZNAME:PST
DTSTART:20241103T090000
END:STANDARD
END:VTIMEZONE
BEGIN:VEVENT
DTSTART;TZID=America/Los_Angeles:20231023T163000
DTEND;TZID=America/Los_Angeles:20231023T173000
DTSTAMP:20260420T143545
CREATED:20231019T231018Z
LAST-MODIFIED:20231019T232016Z
UID:10005105-1698078600-1698082200@www.discovercathedralcity.com
SUMMARY:College of the Desert Listening Tours
DESCRIPTION:Editor’s note: The event will now be one hour later\, running from 5:30 to 6:30 p.m. at the same location (City Hall Study Session Room\, 1st floor). \n\nLaura Hope\, Interim President/Superintendent at College of the Desert\, continues her listening tour to amplify the community’s diverse voices on College accessibility\, environment and programming. All are welcome to help foster inclusivity and a positive learning environment. The Cathedral City event will take place at City Hall in the Study Session Room (1st floor) on Monday\, Oct. 23\, 2023\, from 4:30-5:30 p.m. \nHope has prioritized these sessions as part of a new era of transparency and collaboration at College of the Desert. Attendees can voice their opinions in a comfortable setting and help ensure community needs are met — whether those are related to academics\, industry workforce needs\, career advancement programs\, or barriers to educational success. \nThe school is fueled by its interaction with the surrounding region\, and these gatherings allow for more options and opportunities. “This is your community and your college\,” Hope says. “We want to give space to hear all our students\, faculty\, staff and others discuss their challenges and triumphs here at College of the Desert. You are entitled to your dreams\, and we are here to work together toward making them a reality.” \nEvery corner of the College’s service area will host a session for a total of at least six events through the rest of the year. Find the schedule below — dates\, locations and times are subject to change. More dates and locations may be added to continue this important dialogue. \n\nTuesday\, October 24\, 2023 – 5:30pm-6:30pm\n\nIndio Campus\, Room 105\n\n\nMonday\, October 23\, 2023 – 4:30-5:30pm\n\nCathedral City\, City Hall\, Study Session Room – 5:30pm-6:30pm\n\n\nMonday\, December 18\, 2023 – 9:30am-10:30am & 5:30pm-6:30pm\n\nVirtual Sessions – Zoom links TBD\n\n\nTuesday\, December 19\, 2023 – 5:30pm-6:30pm\n\nPalm Desert Campus\, Craven’s MPR\n\n\n\nEach meeting will be an open forum discussion with an update provided by Hope. Attendees are encouraged to come armed with their most pressing questions and comments. Expect the conversation to be open\, respectful\, and full of candor. \nFor any additional questions\, please reach out to otp@collegeofthedesert.edu.
URL:https://www.discovercathedralcity.com/event/college-of-the-desert-listening-tours/
LOCATION:Study Session\, 1st Floor City Hall\, 68700 Ave Lalo Guerrero\, Cathedral City\, CA\, 92234\, United States
ATTACH;FMTTYPE=image/jpeg:https://www.discovercathedralcity.com/wp-content/uploads/2023/10/College-of-the-Desert-Listening-Tours1.jpg
ORGANIZER;CN="Collage of the Desert":MAILTO:otp@collegeofthedesert.edu
GEO:33.7814067;-116.4640621
X-APPLE-STRUCTURED-LOCATION;VALUE=URI;X-ADDRESS=Study Session 1st Floor City Hall 68700 Ave Lalo Guerrero Cathedral City CA 92234 United States;X-APPLE-RADIUS=500;X-TITLE=68700 Ave Lalo Guerrero:geo:-116.4640621,33.7814067
END:VEVENT
END:VCALENDAR