BEGIN:VCALENDAR
VERSION:2.0
PRODID:-//Discover Cathedral City - ECPv6.15.13//NONSGML v1.0//EN
CALSCALE:GREGORIAN
METHOD:PUBLISH
X-WR-CALNAME:Discover Cathedral City
X-ORIGINAL-URL:https://www.discovercathedralcity.com
X-WR-CALDESC:Events for Discover Cathedral City
REFRESH-INTERVAL;VALUE=DURATION:PT1H
X-Robots-Tag:noindex
X-PUBLISHED-TTL:PT1H
BEGIN:VTIMEZONE
TZID:America/Los_Angeles
BEGIN:DAYLIGHT
TZOFFSETFROM:-0800
TZOFFSETTO:-0700
TZNAME:PDT
DTSTART:20230312T100000
END:DAYLIGHT
BEGIN:STANDARD
TZOFFSETFROM:-0700
TZOFFSETTO:-0800
TZNAME:PST
DTSTART:20231105T090000
END:STANDARD
BEGIN:DAYLIGHT
TZOFFSETFROM:-0800
TZOFFSETTO:-0700
TZNAME:PDT
DTSTART:20240310T100000
END:DAYLIGHT
BEGIN:STANDARD
TZOFFSETFROM:-0700
TZOFFSETTO:-0800
TZNAME:PST
DTSTART:20241103T090000
END:STANDARD
BEGIN:DAYLIGHT
TZOFFSETFROM:-0800
TZOFFSETTO:-0700
TZNAME:PDT
DTSTART:20250309T100000
END:DAYLIGHT
BEGIN:STANDARD
TZOFFSETFROM:-0700
TZOFFSETTO:-0800
TZNAME:PST
DTSTART:20251102T090000
END:STANDARD
END:VTIMEZONE
BEGIN:VEVENT
DTSTART;TZID=America/Los_Angeles:20241120T170000
DTEND;TZID=America/Los_Angeles:20241120T183000
DTSTAMP:20260419T175009
CREATED:20241024T204318Z
LAST-MODIFIED:20241024T204318Z
UID:10005650-1732122000-1732127400@www.discovercathedralcity.com
SUMMARY:Dinner with Patsi - November
DESCRIPTION:Join Dinner with Patsi at Brunch 101\, on Wednesday\, November 20th\, with seatings at 5 pm and 6:30 pm. \nPhone: (760) 507-8464\nLocated at 68718 E Palm Canyon Drive\, Cathedral City\, CA. \nPatsi will be there to pass her Red Hat. Donations help Dinner with Patsi keep the lights on. \nThey will also collect food items for the Cathedral City Senior Center Food Bank. \nSpecial Dinner Menu – Reservations Strongly Recommended!
URL:https://www.discovercathedralcity.com/event/dinner-with-patsi-november-2/
LOCATION:Brunch 101\, 68718 E. Palm Canyon Dr.\, Cathedral City\, CA\, 92234\, United States
CATEGORIES:Food,Recycling,Senior
ATTACH;FMTTYPE=image/png:https://www.discovercathedralcity.com/wp-content/uploads/2024/10/2024.11-DWP-DWP-@-Brunch-101-flyer.png
ORGANIZER;CN="Dinner with Patsi":MAILTO:dinnerwithpatsi@gmail.com
GEO:33.779804;-116.463094
X-APPLE-STRUCTURED-LOCATION;VALUE=URI;X-ADDRESS=Brunch 101 68718 E. Palm Canyon Dr. Cathedral City CA 92234 United States;X-APPLE-RADIUS=500;X-TITLE=68718 E. Palm Canyon Dr.:geo:-116.463094,33.779804
END:VEVENT
END:VCALENDAR