BEGIN:VCALENDAR
VERSION:2.0
PRODID:-//Discover Cathedral City - ECPv6.15.13//NONSGML v1.0//EN
CALSCALE:GREGORIAN
METHOD:PUBLISH
X-WR-CALNAME:Discover Cathedral City
X-ORIGINAL-URL:https://www.discovercathedralcity.com
X-WR-CALDESC:Events for Discover Cathedral City
REFRESH-INTERVAL;VALUE=DURATION:PT1H
X-Robots-Tag:noindex
X-PUBLISHED-TTL:PT1H
BEGIN:VTIMEZONE
TZID:America/Los_Angeles
BEGIN:DAYLIGHT
TZOFFSETFROM:-0800
TZOFFSETTO:-0700
TZNAME:PDT
DTSTART:20240310T100000
END:DAYLIGHT
BEGIN:STANDARD
TZOFFSETFROM:-0700
TZOFFSETTO:-0800
TZNAME:PST
DTSTART:20241103T090000
END:STANDARD
BEGIN:DAYLIGHT
TZOFFSETFROM:-0800
TZOFFSETTO:-0700
TZNAME:PDT
DTSTART:20250309T100000
END:DAYLIGHT
BEGIN:STANDARD
TZOFFSETFROM:-0700
TZOFFSETTO:-0800
TZNAME:PST
DTSTART:20251102T090000
END:STANDARD
BEGIN:DAYLIGHT
TZOFFSETFROM:-0800
TZOFFSETTO:-0700
TZNAME:PDT
DTSTART:20260308T100000
END:DAYLIGHT
BEGIN:STANDARD
TZOFFSETFROM:-0700
TZOFFSETTO:-0800
TZNAME:PST
DTSTART:20261101T090000
END:STANDARD
END:VTIMEZONE
BEGIN:VEVENT
DTSTART;TZID=America/Los_Angeles:20250416T170000
DTEND;TZID=America/Los_Angeles:20250416T200000
DTSTAMP:20260419T074251
CREATED:20250403T224741Z
LAST-MODIFIED:20250403T224817Z
UID:10006636-1744822800-1744833600@www.discovercathedralcity.com
SUMMARY:Dinner with Patsi - April
DESCRIPTION:Dinner With Patsi Fundraiser – Safe Schools Desert Cities \nJoin us for a special dinner event benefiting Safe Schools Desert Cities\, an organization empowering LGBTQ+ youth. The dinner will be hosted by Bubba’s Bones & Brews in Cathedral City. \nDate: Wednesday\, April 16\, 2025 \nTime: 5:00 PM – 8:00 PM \nLocation: Bubba’s Bones & Brews\, 68525 Ramon Road\, Cathedral City \nPhone: 760-699-7231 \nDon’t forget to ask for a “Patsi Special”! Walk-ins are welcome\, though reservations are recommended. Attendees are encouraged to bring non-perishable food items to support the Cathedral City Senior Center Food Bank. \nThis fundraising event is organized by Dinner With Patsi\, a 501(c)3 nonprofit organization (Tax ID: 92-0964093).
URL:https://www.discovercathedralcity.com/event/dinner-with-patsi-april-2/
LOCATION:Bubba’s Bones & Brews\, 68525 Ramon Rd\, Cathedral City\, CA\, 92234\, United States
CATEGORIES:Charity,Community Events,Senior
ATTACH;FMTTYPE=image/jpeg:https://www.discovercathedralcity.com/wp-content/uploads/2025/04/2025.04-DWP-SafeSchools-@-Bubbas-flyer.jpg
ORGANIZER;CN="Dinner with Patsi":MAILTO:dinnerwithpatsi@gmail.com
GEO:33.8154719;-116.4661826
X-APPLE-STRUCTURED-LOCATION;VALUE=URI;X-ADDRESS=Bubba’s Bones & Brews 68525 Ramon Rd Cathedral City CA 92234 United States;X-APPLE-RADIUS=500;X-TITLE=68525 Ramon Rd:geo:-116.4661826,33.8154719
END:VEVENT
END:VCALENDAR