BEGIN:VCALENDAR
VERSION:2.0
PRODID:-//Discover Cathedral City - ECPv6.15.13//NONSGML v1.0//EN
CALSCALE:GREGORIAN
METHOD:PUBLISH
X-ORIGINAL-URL:https://www.discovercathedralcity.com
X-WR-CALDESC:Events for Discover Cathedral City
REFRESH-INTERVAL;VALUE=DURATION:PT1H
X-Robots-Tag:noindex
X-PUBLISHED-TTL:PT1H
BEGIN:VTIMEZONE
TZID:America/Los_Angeles
BEGIN:DAYLIGHT
TZOFFSETFROM:-0800
TZOFFSETTO:-0700
TZNAME:PDT
DTSTART:20220313T100000
END:DAYLIGHT
BEGIN:STANDARD
TZOFFSETFROM:-0700
TZOFFSETTO:-0800
TZNAME:PST
DTSTART:20221106T090000
END:STANDARD
BEGIN:DAYLIGHT
TZOFFSETFROM:-0800
TZOFFSETTO:-0700
TZNAME:PDT
DTSTART:20230312T100000
END:DAYLIGHT
BEGIN:STANDARD
TZOFFSETFROM:-0700
TZOFFSETTO:-0800
TZNAME:PST
DTSTART:20231105T090000
END:STANDARD
BEGIN:DAYLIGHT
TZOFFSETFROM:-0800
TZOFFSETTO:-0700
TZNAME:PDT
DTSTART:20240310T100000
END:DAYLIGHT
BEGIN:STANDARD
TZOFFSETFROM:-0700
TZOFFSETTO:-0800
TZNAME:PST
DTSTART:20241103T090000
END:STANDARD
END:VTIMEZONE
BEGIN:VEVENT
DTSTART;TZID=America/Los_Angeles:20231102T080000
DTEND;TZID=America/Los_Angeles:20231102T170000
DTSTAMP:20260420T181749
CREATED:20231017T162644Z
LAST-MODIFIED:20231017T164819Z
UID:10005098-1698912000-1698944400@www.discovercathedralcity.com
SUMMARY:C.E.R.T. (Community Emergency Response Team) Training
DESCRIPTION:HELP YOUR FAMILY AND NEIGHBORS RECOVER FROM MAJOR INCIDENTS WITH EMERGENCY RESPONSE TRAINING. \n\n\nTime & Location\n\n\nNov 02\, 8:00 AM PDT – Nov 04\, 5:00 PM PDT \nCCFD Administrative Office (EOC)\, 32100 Desert Vista Rd\, Cathedral City\, CA 92234\, USA \n\n\n\nAbout the event\n\n\nYour CC Firefighters are bringing emergency response training to Cathedral City residents: \n\nNovember 2 from 8AM to 5PM\nNovember 3 from 8AM to 5PM\nNovember 4 from 8AM to noon\n\nAll sessions are required for graduation.  Sign-ups are on a first-come\, first served basis\, and class size is limited to 20 Cathedral City residents.  You will experience hands-on field and classroom training in first aid\, search and rescue\, and light fire suppression.  Graduates will receive a certificate of completion. \nHave questions?  Give us a call at (760) 770-8200 \nDownload Flyer \n RSVP
URL:https://www.discovercathedralcity.com/event/c-e-r-t-community-emergency-response-team-training/2023-11-02/
LOCATION:Cathedral City Fire Department Administrative Headquarters\, 32-100 Desert Vista Road\, Cathedral City\, CA\, 92234\, United States
CATEGORIES:Community Events,Public Safety
ATTACH;FMTTYPE=image/jpeg:https://www.discovercathedralcity.com/wp-content/uploads/2023/10/Flier-November-2023-1-1.jpg
GEO:33.815125;-116.461222
X-APPLE-STRUCTURED-LOCATION;VALUE=URI;X-ADDRESS=Cathedral City Fire Department Administrative Headquarters 32-100 Desert Vista Road Cathedral City CA 92234 United States;X-APPLE-RADIUS=500;X-TITLE=32-100 Desert Vista Road:geo:-116.461222,33.815125
END:VEVENT
BEGIN:VEVENT
DTSTART;TZID=America/Los_Angeles:20231103T080000
DTEND;TZID=America/Los_Angeles:20231103T170000
DTSTAMP:20260420T181749
CREATED:20231017T162644Z
LAST-MODIFIED:20231017T164819Z
UID:10005099-1698998400-1699030800@www.discovercathedralcity.com
SUMMARY:C.E.R.T. (Community Emergency Response Team) Training
DESCRIPTION:HELP YOUR FAMILY AND NEIGHBORS RECOVER FROM MAJOR INCIDENTS WITH EMERGENCY RESPONSE TRAINING. \n\n\nTime & Location\n\n\nNov 02\, 8:00 AM PDT – Nov 04\, 5:00 PM PDT \nCCFD Administrative Office (EOC)\, 32100 Desert Vista Rd\, Cathedral City\, CA 92234\, USA \n\n\n\nAbout the event\n\n\nYour CC Firefighters are bringing emergency response training to Cathedral City residents: \n\nNovember 2 from 8AM to 5PM\nNovember 3 from 8AM to 5PM\nNovember 4 from 8AM to noon\n\nAll sessions are required for graduation.  Sign-ups are on a first-come\, first served basis\, and class size is limited to 20 Cathedral City residents.  You will experience hands-on field and classroom training in first aid\, search and rescue\, and light fire suppression.  Graduates will receive a certificate of completion. \nHave questions?  Give us a call at (760) 770-8200 \nDownload Flyer \n RSVP
URL:https://www.discovercathedralcity.com/event/c-e-r-t-community-emergency-response-team-training/2023-11-03/
LOCATION:Cathedral City Fire Department Administrative Headquarters\, 32-100 Desert Vista Road\, Cathedral City\, CA\, 92234\, United States
CATEGORIES:Community Events,Public Safety
ATTACH;FMTTYPE=image/jpeg:https://www.discovercathedralcity.com/wp-content/uploads/2023/10/Flier-November-2023-1-1.jpg
GEO:33.815125;-116.461222
X-APPLE-STRUCTURED-LOCATION;VALUE=URI;X-ADDRESS=Cathedral City Fire Department Administrative Headquarters 32-100 Desert Vista Road Cathedral City CA 92234 United States;X-APPLE-RADIUS=500;X-TITLE=32-100 Desert Vista Road:geo:-116.461222,33.815125
END:VEVENT
BEGIN:VEVENT
DTSTART;TZID=America/Los_Angeles:20231104T080000
DTEND;TZID=America/Los_Angeles:20231104T120000
DTSTAMP:20260420T181749
CREATED:20231017T162644Z
LAST-MODIFIED:20231017T164819Z
UID:10005100-1699084800-1699099200@www.discovercathedralcity.com
SUMMARY:C.E.R.T. (Community Emergency Response Team) Training
DESCRIPTION:HELP YOUR FAMILY AND NEIGHBORS RECOVER FROM MAJOR INCIDENTS WITH EMERGENCY RESPONSE TRAINING. \n\n\nTime & Location\n\n\nNov 02\, 8:00 AM PDT – Nov 04\, 5:00 PM PDT \nCCFD Administrative Office (EOC)\, 32100 Desert Vista Rd\, Cathedral City\, CA 92234\, USA \n\n\n\nAbout the event\n\n\nYour CC Firefighters are bringing emergency response training to Cathedral City residents: \n\nNovember 2 from 8AM to 5PM\nNovember 3 from 8AM to 5PM\nNovember 4 from 8AM to noon\n\nAll sessions are required for graduation.  Sign-ups are on a first-come\, first served basis\, and class size is limited to 20 Cathedral City residents.  You will experience hands-on field and classroom training in first aid\, search and rescue\, and light fire suppression.  Graduates will receive a certificate of completion. \nHave questions?  Give us a call at (760) 770-8200 \nDownload Flyer \n RSVP
URL:https://www.discovercathedralcity.com/event/c-e-r-t-community-emergency-response-team-training/2023-11-04/
LOCATION:Cathedral City Fire Department Administrative Headquarters\, 32-100 Desert Vista Road\, Cathedral City\, CA\, 92234\, United States
CATEGORIES:Community Events,Public Safety
ATTACH;FMTTYPE=image/jpeg:https://www.discovercathedralcity.com/wp-content/uploads/2023/10/Flier-November-2023-1-1.jpg
GEO:33.815125;-116.461222
X-APPLE-STRUCTURED-LOCATION;VALUE=URI;X-ADDRESS=Cathedral City Fire Department Administrative Headquarters 32-100 Desert Vista Road Cathedral City CA 92234 United States;X-APPLE-RADIUS=500;X-TITLE=32-100 Desert Vista Road:geo:-116.461222,33.815125
END:VEVENT
END:VCALENDAR