BEGIN:VCALENDAR
VERSION:2.0
PRODID:-//Discover Cathedral City - ECPv6.15.13//NONSGML v1.0//EN
CALSCALE:GREGORIAN
METHOD:PUBLISH
X-ORIGINAL-URL:https://www.discovercathedralcity.com
X-WR-CALDESC:Events for Discover Cathedral City
REFRESH-INTERVAL;VALUE=DURATION:PT1H
X-Robots-Tag:noindex
X-PUBLISHED-TTL:PT1H
BEGIN:VTIMEZONE
TZID:America/Los_Angeles
BEGIN:DAYLIGHT
TZOFFSETFROM:-0800
TZOFFSETTO:-0700
TZNAME:PDT
DTSTART:20230312T100000
END:DAYLIGHT
BEGIN:STANDARD
TZOFFSETFROM:-0700
TZOFFSETTO:-0800
TZNAME:PST
DTSTART:20231105T090000
END:STANDARD
BEGIN:DAYLIGHT
TZOFFSETFROM:-0800
TZOFFSETTO:-0700
TZNAME:PDT
DTSTART:20240310T100000
END:DAYLIGHT
BEGIN:STANDARD
TZOFFSETFROM:-0700
TZOFFSETTO:-0800
TZNAME:PST
DTSTART:20241103T090000
END:STANDARD
BEGIN:DAYLIGHT
TZOFFSETFROM:-0800
TZOFFSETTO:-0700
TZNAME:PDT
DTSTART:20250309T100000
END:DAYLIGHT
BEGIN:STANDARD
TZOFFSETFROM:-0700
TZOFFSETTO:-0800
TZNAME:PST
DTSTART:20251102T090000
END:STANDARD
END:VTIMEZONE
BEGIN:VEVENT
DTSTART;TZID=America/Los_Angeles:20240203T100000
DTEND;TZID=America/Los_Angeles:20240203T100000
DTSTAMP:20260420T121114
CREATED:20231212T183956Z
LAST-MODIFIED:20240130T214011Z
UID:10005125-1706954400-1706954400@www.discovercathedralcity.com
SUMMARY:Emergency Preparedness Community Workshop
DESCRIPTION:Saturday\, February 3rd at 11 am at Agua Caliente Elementary School. \nAll attendees receive basic knowledge on how to prepare for major emergencies. There is no cost for this workshop. The first 25 people who show up will receive an emergency preparedness kit. \nFor more information about any of these events\, please contact Fire Administration at 760-770-8200 or visit our website at https://www.cathedralcityfire.org/.
URL:https://www.discovercathedralcity.com/event/emergency-preparedness-community-workshop/
LOCATION:Agua Caliente Elementary School\, Multipurpose Room\, 30800 San Luis Rey Drive\, Cathedral City\, CA\, 92234\, United States
CATEGORIES:Community Events,Public Safety
ATTACH;FMTTYPE=image/jpeg:https://www.discovercathedralcity.com/wp-content/uploads/2024/01/English-r.jpg
GEO:33.8242381;-116.490753
X-APPLE-STRUCTURED-LOCATION;VALUE=URI;X-ADDRESS=Agua Caliente Elementary School Multipurpose Room 30800 San Luis Rey Drive Cathedral City CA 92234 United States;X-APPLE-RADIUS=500;X-TITLE=30800 San Luis Rey Drive:geo:-116.490753,33.8242381
END:VEVENT
END:VCALENDAR