BEGIN:VCALENDAR
VERSION:2.0
PRODID:-//Discover Cathedral City - ECPv6.15.13//NONSGML v1.0//EN
CALSCALE:GREGORIAN
METHOD:PUBLISH
X-ORIGINAL-URL:https://www.discovercathedralcity.com
X-WR-CALDESC:Events for Discover Cathedral City
REFRESH-INTERVAL;VALUE=DURATION:PT1H
X-Robots-Tag:noindex
X-PUBLISHED-TTL:PT1H
BEGIN:VTIMEZONE
TZID:America/Los_Angeles
BEGIN:DAYLIGHT
TZOFFSETFROM:-0800
TZOFFSETTO:-0700
TZNAME:PDT
DTSTART:20230312T100000
END:DAYLIGHT
BEGIN:STANDARD
TZOFFSETFROM:-0700
TZOFFSETTO:-0800
TZNAME:PST
DTSTART:20231105T090000
END:STANDARD
BEGIN:DAYLIGHT
TZOFFSETFROM:-0800
TZOFFSETTO:-0700
TZNAME:PDT
DTSTART:20240310T100000
END:DAYLIGHT
BEGIN:STANDARD
TZOFFSETFROM:-0700
TZOFFSETTO:-0800
TZNAME:PST
DTSTART:20241103T090000
END:STANDARD
BEGIN:DAYLIGHT
TZOFFSETFROM:-0800
TZOFFSETTO:-0700
TZNAME:PDT
DTSTART:20250309T100000
END:DAYLIGHT
BEGIN:STANDARD
TZOFFSETFROM:-0700
TZOFFSETTO:-0800
TZNAME:PST
DTSTART:20251102T090000
END:STANDARD
BEGIN:DAYLIGHT
TZOFFSETFROM:-0800
TZOFFSETTO:-0700
TZNAME:PDT
DTSTART:20260308T100000
END:DAYLIGHT
BEGIN:STANDARD
TZOFFSETFROM:-0700
TZOFFSETTO:-0800
TZNAME:PST
DTSTART:20261101T090000
END:STANDARD
END:VTIMEZONE
BEGIN:VEVENT
DTSTART;TZID=America/Los_Angeles:20250409T083000
DTEND;TZID=America/Los_Angeles:20250409T223000
DTSTAMP:20260419T100636
CREATED:20250325T175643Z
LAST-MODIFIED:20250325T180923Z
UID:10006633-1744187400-1744237800@www.discovercathedralcity.com
SUMMARY:Coachella Valley Fast Pitch
DESCRIPTION:Entrepreneurs\, it’s time to submit your emerging business for the 2025 Coachella Valley Fast Pitch!\nIt’s like Shark Tank\, but local. Your three-minute pitch could elevate your business to the next level! As a competitor\, you will: \n\n\n\nReceive professional guidance and coaching before your pitch\nPitch your idea to a panel of experts\nGet direct feedback on your business\, product\, or concept\nGain visibility\nCompete for prizes\nCompete for a chance to progress to the Riverside County Fast Pitch Finale\, where there is a $20\,000 (and growing) prize pool!\nNEW THIS YEAR! The chance to earn a spot at the\n\n\n(View Full event Description Here: https://cvep.com/event/coachella-valley-fast-pitch/)
URL:https://www.discovercathedralcity.com/event/coachella-valley-fast-pitch/
ATTACH;FMTTYPE=image/jpeg:https://www.discovercathedralcity.com/wp-content/uploads/2025/03/Fast-Pitch-Flyer.jpg
END:VEVENT
BEGIN:VEVENT
DTSTART;TZID=America/Los_Angeles:20241203T120000
DTEND;TZID=America/Los_Angeles:20241203T143000
DTSTAMP:20260419T100636
CREATED:20241120T224437Z
LAST-MODIFIED:20241120T224437Z
UID:10005654-1733227200-1733236200@www.discovercathedralcity.com
SUMMARY:Join Us for Cathedral City Small Business Week!
DESCRIPTION:📅 When: December 3rd\, 12:00 PM – 2:30 PM \n📍 Where: Cathedral City Hall \nCalling all small business owners and aspiring entrepreneurs! 🚀 \nDiscover free resources and expert advice to help grow and support your business. Agencies from across California will be on hand to share valuable insights and services tailored for both new and existing businesses. \nThis is your chance to network\, learn\, and thrive in the vibrant business community of Cathedral City. \n💼 Don’t miss this opportunity to invest in your future! \n\n#CathedralCity #SmallBusinessWeek #BusinessResources #Entrepreneurship
URL:https://www.discovercathedralcity.com/event/join-us-for-cathedral-city-small-business-week/
LOCATION:Cathedral City Council Chambers\, 68700 Ave Lalo Guerrero\, Cathedral City\, CA\, 92234\, United States
ATTACH;FMTTYPE=image/jpeg:https://www.discovercathedralcity.com/wp-content/uploads/2024/11/Small-Business-Week-Flyer_Page_1.jpg
GEO:33.7813891;-116.4641156
X-APPLE-STRUCTURED-LOCATION;VALUE=URI;X-ADDRESS=Cathedral City Council Chambers 68700 Ave Lalo Guerrero Cathedral City CA 92234 United States;X-APPLE-RADIUS=500;X-TITLE=68700 Ave Lalo Guerrero:geo:-116.4641156,33.7813891
END:VEVENT
END:VCALENDAR