BEGIN:VCALENDAR
VERSION:2.0
PRODID:-//Discover Cathedral City - ECPv6.15.13//NONSGML v1.0//EN
CALSCALE:GREGORIAN
METHOD:PUBLISH
X-WR-CALNAME:Discover Cathedral City
X-ORIGINAL-URL:https://www.discovercathedralcity.com
X-WR-CALDESC:Events for Discover Cathedral City
REFRESH-INTERVAL;VALUE=DURATION:PT1H
X-Robots-Tag:noindex
X-PUBLISHED-TTL:PT1H
BEGIN:VTIMEZONE
TZID:America/Los_Angeles
BEGIN:DAYLIGHT
TZOFFSETFROM:-0800
TZOFFSETTO:-0700
TZNAME:PDT
DTSTART:20230312T100000
END:DAYLIGHT
BEGIN:STANDARD
TZOFFSETFROM:-0700
TZOFFSETTO:-0800
TZNAME:PST
DTSTART:20231105T090000
END:STANDARD
BEGIN:DAYLIGHT
TZOFFSETFROM:-0800
TZOFFSETTO:-0700
TZNAME:PDT
DTSTART:20240310T100000
END:DAYLIGHT
BEGIN:STANDARD
TZOFFSETFROM:-0700
TZOFFSETTO:-0800
TZNAME:PST
DTSTART:20241103T090000
END:STANDARD
BEGIN:DAYLIGHT
TZOFFSETFROM:-0800
TZOFFSETTO:-0700
TZNAME:PDT
DTSTART:20250309T100000
END:DAYLIGHT
BEGIN:STANDARD
TZOFFSETFROM:-0700
TZOFFSETTO:-0800
TZNAME:PST
DTSTART:20251102T090000
END:STANDARD
END:VTIMEZONE
BEGIN:VEVENT
DTSTART;TZID=America/Los_Angeles:20240601T110000
DTEND;TZID=America/Los_Angeles:20240601T120000
DTSTAMP:20260420T002509
CREATED:20240530T220811Z
LAST-MODIFIED:20240530T220811Z
UID:10005590-1717239600-1717243200@www.discovercathedralcity.com
SUMMARY:Emergency Preparedness Event
DESCRIPTION:Join Mayor Pro Tem Nancy Ross\, Councilmember Rita Lamb\, and the Cathedral City Fire Department for an Emergency Preparedness – Grab & Go Event from 11 a.m. to noon on Saturday\, June 1\, 2024\, at the Cathedral City Library\, Multi-Purpose Room\, 33520 Date Palm Drive\, Cathedral City. \nThis event will provide information on how to respond to an emergency\, such as an earthquake\, and what items you will need in your preparedness kit during and after an emergency. \nEach household will learn how to make their own emergency kits and why each item was selected for the kit. \nFree emergency kits will be available while supplies last to Cathedral City households that attend thanks in part to our sponsors Target\, Lowe’s and Home Depot. \nFor more information\, please contact Cathedral City Fire Chief Michael Contreras at (760) 770-8200.
URL:https://www.discovercathedralcity.com/event/emergency-preparedness-event/
LOCATION:Cathedral City Public Library\, 33520 Date Palm Drive\, Cathedral City\, CA\, 92234\, United States
CATEGORIES:Public Safety
ATTACH;FMTTYPE=image/jpeg:https://www.discovercathedralcity.com/wp-content/uploads/2024/05/Emergency-Preparedness-Activity2024Letter.jpg
GEO:33.8042303;-116.45733
X-APPLE-STRUCTURED-LOCATION;VALUE=URI;X-ADDRESS=Cathedral City Public Library 33520 Date Palm Drive Cathedral City CA 92234 United States;X-APPLE-RADIUS=500;X-TITLE=33520 Date Palm Drive:geo:-116.45733,33.8042303
END:VEVENT
END:VCALENDAR