BEGIN:VCALENDAR
VERSION:2.0
PRODID:-//Discover Cathedral City - ECPv6.15.13//NONSGML v1.0//EN
CALSCALE:GREGORIAN
METHOD:PUBLISH
X-ORIGINAL-URL:https://www.discovercathedralcity.com
X-WR-CALDESC:Events for Discover Cathedral City
REFRESH-INTERVAL;VALUE=DURATION:PT1H
X-Robots-Tag:noindex
X-PUBLISHED-TTL:PT1H
BEGIN:VTIMEZONE
TZID:America/Los_Angeles
BEGIN:DAYLIGHT
TZOFFSETFROM:-0800
TZOFFSETTO:-0700
TZNAME:PDT
DTSTART:20230312T100000
END:DAYLIGHT
BEGIN:STANDARD
TZOFFSETFROM:-0700
TZOFFSETTO:-0800
TZNAME:PST
DTSTART:20231105T090000
END:STANDARD
BEGIN:DAYLIGHT
TZOFFSETFROM:-0800
TZOFFSETTO:-0700
TZNAME:PDT
DTSTART:20240310T100000
END:DAYLIGHT
BEGIN:STANDARD
TZOFFSETFROM:-0700
TZOFFSETTO:-0800
TZNAME:PST
DTSTART:20241103T090000
END:STANDARD
BEGIN:DAYLIGHT
TZOFFSETFROM:-0800
TZOFFSETTO:-0700
TZNAME:PDT
DTSTART:20250309T100000
END:DAYLIGHT
BEGIN:STANDARD
TZOFFSETFROM:-0700
TZOFFSETTO:-0800
TZNAME:PST
DTSTART:20251102T090000
END:STANDARD
END:VTIMEZONE
BEGIN:VEVENT
DTSTART;TZID=America/Los_Angeles:20241112T173000
DTEND;TZID=America/Los_Angeles:20241112T193000
DTSTAMP:20260420T061654
CREATED:20241017T231830Z
LAST-MODIFIED:20241017T231830Z
UID:10005647-1731432600-1731439800@www.discovercathedralcity.com
SUMMARY:Local Board Mixer @ Mary Pickford Theatre
DESCRIPTION:Date: Tuesday\, November 12\n\n\n\n\n\n\n\n\n\n\nTime: 5:30 – 7:30 p.m.\nLocation: Mary Pickford Theatre\, 36850 Pickfair St\, Cathedral City \nJoin the Greater Coachella Valley Chamber of Commerce for an evening of fun\, food\, and community connections at the Local Board Mixer. This event is open to both members and non-members\, so feel free to bring a friend. \nEnjoy a variety of activities including a pie-eating contest\, human bingo\, and more. The event supports the Cathedral City Senior Center and the Boys & Girls Club of Cathedral City. \nSponsors: Dinner with Patsi\, Sun Community Federal Credit Union\, Entravision\, City of Cathedral City. \nFor more information\, contact the Greater Coachella Valley Chamber of Commerce.
URL:https://www.discovercathedralcity.com/event/local-board-mixer-mary-pickford-theatre/
LOCATION:Mary Pickford Theatre\, 36850 Pickfair St\, Cathedral City\, CA\, 92234\, United States
CATEGORIES:Chamber of Commerce Event
ATTACH;FMTTYPE=image/jpeg:https://www.discovercathedralcity.com/wp-content/uploads/2024/10/CCBoardMixer_Flyer-scaled.jpg
GEO:33.781085;-116.463048
X-APPLE-STRUCTURED-LOCATION;VALUE=URI;X-ADDRESS=Mary Pickford Theatre 36850 Pickfair St Cathedral City CA 92234 United States;X-APPLE-RADIUS=500;X-TITLE=36850 Pickfair St:geo:-116.463048,33.781085
END:VEVENT
END:VCALENDAR