BEGIN:VCALENDAR
VERSION:2.0
PRODID:-//Discover Cathedral City - ECPv6.15.13//NONSGML v1.0//EN
CALSCALE:GREGORIAN
METHOD:PUBLISH
X-WR-CALNAME:Discover Cathedral City
X-ORIGINAL-URL:https://www.discovercathedralcity.com
X-WR-CALDESC:Events for Discover Cathedral City
REFRESH-INTERVAL;VALUE=DURATION:PT1H
X-Robots-Tag:noindex
X-PUBLISHED-TTL:PT1H
BEGIN:VTIMEZONE
TZID:America/Los_Angeles
BEGIN:DAYLIGHT
TZOFFSETFROM:-0800
TZOFFSETTO:-0700
TZNAME:PDT
DTSTART:20230312T100000
END:DAYLIGHT
BEGIN:STANDARD
TZOFFSETFROM:-0700
TZOFFSETTO:-0800
TZNAME:PST
DTSTART:20231105T090000
END:STANDARD
BEGIN:DAYLIGHT
TZOFFSETFROM:-0800
TZOFFSETTO:-0700
TZNAME:PDT
DTSTART:20240310T100000
END:DAYLIGHT
BEGIN:STANDARD
TZOFFSETFROM:-0700
TZOFFSETTO:-0800
TZNAME:PST
DTSTART:20241103T090000
END:STANDARD
BEGIN:DAYLIGHT
TZOFFSETFROM:-0800
TZOFFSETTO:-0700
TZNAME:PDT
DTSTART:20250309T100000
END:DAYLIGHT
BEGIN:STANDARD
TZOFFSETFROM:-0700
TZOFFSETTO:-0800
TZNAME:PST
DTSTART:20251102T090000
END:STANDARD
END:VTIMEZONE
BEGIN:VEVENT
DTSTART;TZID=America/Los_Angeles:20240921T160000
DTEND;TZID=America/Los_Angeles:20240921T180000
DTSTAMP:20260420T050429
CREATED:20240904T175454Z
LAST-MODIFIED:20240904T175454Z
UID:10005614-1726934400-1726941600@www.discovercathedralcity.com
SUMMARY:International Day of Peace
DESCRIPTION:This year’s International Day of Peace event by the Cathedral City Peace Initiative is scheduled for Saturday\, Sept. 21\, 2024\, from 4 to 6 p.m. at the Cathedral City Senior Center\, 37-171 West Buddy Rogers Avenue\, Cathedral City! \nThe event will feature a program focusing on the reality that people could create peace by using the rule of law and due process to assure peace in all communities and the world. At the same time\, participants will enjoy a peace-themed art show sponsored by local artist Karen Riley and her S.C.R.A.P. Gallery\, an organization that works with students to create environmental art. \nEach year the International Day of Peace is observed around the world on Sept. 21. The UN General Assembly has declared this as a day devoted to observing 24 hours of non-violence. Cathedral City is proud to be an International City of Peace.
URL:https://www.discovercathedralcity.com/event/international-day-of-peace-2/
LOCATION:Cathedral City Senior Center\, 37171 W. Buddy Rogers Avenue\, Cathedral City\, CA\, 92234\, United States
CATEGORIES:Community Events,Senior
ATTACH;FMTTYPE=image/jpeg:https://www.discovercathedralcity.com/wp-content/uploads/2024/09/International-Day-of-Peace-2024.jpg
GEO:33.7787774;-116.4646519
X-APPLE-STRUCTURED-LOCATION;VALUE=URI;X-ADDRESS=Cathedral City Senior Center 37171 W. Buddy Rogers Avenue Cathedral City CA 92234 United States;X-APPLE-RADIUS=500;X-TITLE=37171 W. Buddy Rogers Avenue:geo:-116.4646519,33.7787774
END:VEVENT
END:VCALENDAR