BEGIN:VCALENDAR
VERSION:2.0
PRODID:-//Discover Cathedral City - ECPv6.15.13//NONSGML v1.0//EN
CALSCALE:GREGORIAN
METHOD:PUBLISH
X-WR-CALNAME:Discover Cathedral City
X-ORIGINAL-URL:https://www.discovercathedralcity.com
X-WR-CALDESC:Events for Discover Cathedral City
REFRESH-INTERVAL;VALUE=DURATION:PT1H
X-Robots-Tag:noindex
X-PUBLISHED-TTL:PT1H
BEGIN:VTIMEZONE
TZID:America/Los_Angeles
BEGIN:DAYLIGHT
TZOFFSETFROM:-0800
TZOFFSETTO:-0700
TZNAME:PDT
DTSTART:20220313T100000
END:DAYLIGHT
BEGIN:STANDARD
TZOFFSETFROM:-0700
TZOFFSETTO:-0800
TZNAME:PST
DTSTART:20221106T090000
END:STANDARD
BEGIN:DAYLIGHT
TZOFFSETFROM:-0800
TZOFFSETTO:-0700
TZNAME:PDT
DTSTART:20230312T100000
END:DAYLIGHT
BEGIN:STANDARD
TZOFFSETFROM:-0700
TZOFFSETTO:-0800
TZNAME:PST
DTSTART:20231105T090000
END:STANDARD
BEGIN:DAYLIGHT
TZOFFSETFROM:-0800
TZOFFSETTO:-0700
TZNAME:PDT
DTSTART:20240310T100000
END:DAYLIGHT
BEGIN:STANDARD
TZOFFSETFROM:-0700
TZOFFSETTO:-0800
TZNAME:PST
DTSTART:20241103T090000
END:STANDARD
END:VTIMEZONE
BEGIN:VEVENT
DTSTART;TZID=America/Los_Angeles:20230602T123000
DTEND;TZID=America/Los_Angeles:20230602T123000
DTSTAMP:20260420T160800
CREATED:20230531T210019Z
LAST-MODIFIED:20230531T210351Z
UID:10004958-1685709000-1685709000@www.discovercathedralcity.com
SUMMARY:Qigong
DESCRIPTION:Qigong (thee-gong) is an ancient Chinese wellness\nsystem emphasizing breathing techniques and\nlow-impact body movements \nFree!\n12:00-12:30pm\nTue and Fri following the Senior Fitness class\nexcept 2nd Tue and 3rd Fri \nInstructor Sifu Ron teaches simple exercises that\nhelp reduce stress and anxiety and can improve\nyour positive well-being.
URL:https://www.discovercathedralcity.com/event/qigong/2023-06-02/
LOCATION:Cathedral City Senior Center\, 37171 W. Buddy Rogers Avenue\, Cathedral City\, CA\, 92234\, United States
CATEGORIES:Health,Senior
ATTACH;FMTTYPE=image/png:https://www.discovercathedralcity.com/wp-content/uploads/2023/05/Qigong-English.png
GEO:33.7787774;-116.4646519
X-APPLE-STRUCTURED-LOCATION;VALUE=URI;X-ADDRESS=Cathedral City Senior Center 37171 W. Buddy Rogers Avenue Cathedral City CA 92234 United States;X-APPLE-RADIUS=500;X-TITLE=37171 W. Buddy Rogers Avenue:geo:-116.4646519,33.7787774
END:VEVENT
BEGIN:VEVENT
DTSTART;TZID=America/Los_Angeles:20230606T123000
DTEND;TZID=America/Los_Angeles:20230606T123000
DTSTAMP:20260420T160800
CREATED:20230531T210019Z
LAST-MODIFIED:20230531T210351Z
UID:10004437-1686054600-1686054600@www.discovercathedralcity.com
SUMMARY:Qigong
DESCRIPTION:Qigong (thee-gong) is an ancient Chinese wellness\nsystem emphasizing breathing techniques and\nlow-impact body movements \nFree!\n12:00-12:30pm\nTue and Fri following the Senior Fitness class\nexcept 2nd Tue and 3rd Fri \nInstructor Sifu Ron teaches simple exercises that\nhelp reduce stress and anxiety and can improve\nyour positive well-being.
URL:https://www.discovercathedralcity.com/event/qigong/2023-06-06/
LOCATION:Cathedral City Senior Center\, 37171 W. Buddy Rogers Avenue\, Cathedral City\, CA\, 92234\, United States
CATEGORIES:Health,Senior
ATTACH;FMTTYPE=image/png:https://www.discovercathedralcity.com/wp-content/uploads/2023/05/Qigong-English.png
GEO:33.7787774;-116.4646519
X-APPLE-STRUCTURED-LOCATION;VALUE=URI;X-ADDRESS=Cathedral City Senior Center 37171 W. Buddy Rogers Avenue Cathedral City CA 92234 United States;X-APPLE-RADIUS=500;X-TITLE=37171 W. Buddy Rogers Avenue:geo:-116.4646519,33.7787774
END:VEVENT
BEGIN:VEVENT
DTSTART;TZID=America/Los_Angeles:20230609T123000
DTEND;TZID=America/Los_Angeles:20230609T123000
DTSTAMP:20260420T160800
CREATED:20230531T210019Z
LAST-MODIFIED:20230531T210351Z
UID:10004438-1686313800-1686313800@www.discovercathedralcity.com
SUMMARY:Qigong
DESCRIPTION:Qigong (thee-gong) is an ancient Chinese wellness\nsystem emphasizing breathing techniques and\nlow-impact body movements \nFree!\n12:00-12:30pm\nTue and Fri following the Senior Fitness class\nexcept 2nd Tue and 3rd Fri \nInstructor Sifu Ron teaches simple exercises that\nhelp reduce stress and anxiety and can improve\nyour positive well-being.
URL:https://www.discovercathedralcity.com/event/qigong/2023-06-09/
LOCATION:Cathedral City Senior Center\, 37171 W. Buddy Rogers Avenue\, Cathedral City\, CA\, 92234\, United States
CATEGORIES:Health,Senior
ATTACH;FMTTYPE=image/png:https://www.discovercathedralcity.com/wp-content/uploads/2023/05/Qigong-English.png
GEO:33.7787774;-116.4646519
X-APPLE-STRUCTURED-LOCATION;VALUE=URI;X-ADDRESS=Cathedral City Senior Center 37171 W. Buddy Rogers Avenue Cathedral City CA 92234 United States;X-APPLE-RADIUS=500;X-TITLE=37171 W. Buddy Rogers Avenue:geo:-116.4646519,33.7787774
END:VEVENT
BEGIN:VEVENT
DTSTART;TZID=America/Los_Angeles:20230613T123000
DTEND;TZID=America/Los_Angeles:20230613T123000
DTSTAMP:20260420T160800
CREATED:20230531T210019Z
LAST-MODIFIED:20230531T210351Z
UID:10004439-1686659400-1686659400@www.discovercathedralcity.com
SUMMARY:Qigong
DESCRIPTION:Qigong (thee-gong) is an ancient Chinese wellness\nsystem emphasizing breathing techniques and\nlow-impact body movements \nFree!\n12:00-12:30pm\nTue and Fri following the Senior Fitness class\nexcept 2nd Tue and 3rd Fri \nInstructor Sifu Ron teaches simple exercises that\nhelp reduce stress and anxiety and can improve\nyour positive well-being.
URL:https://www.discovercathedralcity.com/event/qigong/2023-06-13/
LOCATION:Cathedral City Senior Center\, 37171 W. Buddy Rogers Avenue\, Cathedral City\, CA\, 92234\, United States
CATEGORIES:Health,Senior
ATTACH;FMTTYPE=image/png:https://www.discovercathedralcity.com/wp-content/uploads/2023/05/Qigong-English.png
GEO:33.7787774;-116.4646519
X-APPLE-STRUCTURED-LOCATION;VALUE=URI;X-ADDRESS=Cathedral City Senior Center 37171 W. Buddy Rogers Avenue Cathedral City CA 92234 United States;X-APPLE-RADIUS=500;X-TITLE=37171 W. Buddy Rogers Avenue:geo:-116.4646519,33.7787774
END:VEVENT
BEGIN:VEVENT
DTSTART;TZID=America/Los_Angeles:20230620T123000
DTEND;TZID=America/Los_Angeles:20230620T123000
DTSTAMP:20260420T160800
CREATED:20230531T210019Z
LAST-MODIFIED:20230531T210351Z
UID:10004441-1687264200-1687264200@www.discovercathedralcity.com
SUMMARY:Qigong
DESCRIPTION:Qigong (thee-gong) is an ancient Chinese wellness\nsystem emphasizing breathing techniques and\nlow-impact body movements \nFree!\n12:00-12:30pm\nTue and Fri following the Senior Fitness class\nexcept 2nd Tue and 3rd Fri \nInstructor Sifu Ron teaches simple exercises that\nhelp reduce stress and anxiety and can improve\nyour positive well-being.
URL:https://www.discovercathedralcity.com/event/qigong/2023-06-20/
LOCATION:Cathedral City Senior Center\, 37171 W. Buddy Rogers Avenue\, Cathedral City\, CA\, 92234\, United States
CATEGORIES:Health,Senior
ATTACH;FMTTYPE=image/png:https://www.discovercathedralcity.com/wp-content/uploads/2023/05/Qigong-English.png
GEO:33.7787774;-116.4646519
X-APPLE-STRUCTURED-LOCATION;VALUE=URI;X-ADDRESS=Cathedral City Senior Center 37171 W. Buddy Rogers Avenue Cathedral City CA 92234 United States;X-APPLE-RADIUS=500;X-TITLE=37171 W. Buddy Rogers Avenue:geo:-116.4646519,33.7787774
END:VEVENT
BEGIN:VEVENT
DTSTART;TZID=America/Los_Angeles:20230620T130000
DTEND;TZID=America/Los_Angeles:20230620T150000
DTSTAMP:20260420T160800
CREATED:20230531T203249Z
LAST-MODIFIED:20230531T203249Z
UID:10004174-1687266000-1687273200@www.discovercathedralcity.com
SUMMARY:Vaccine Day
DESCRIPTION:Pneumonia\, Shingles and\nBivalent Covid-19 Vaccines\nwith Rite Aid\nTues\, June 20\, 1:00-3:30 pm\nCall 760-321-1548 to pre-register \nPlease bring your identification\nand Medicare and/or other\ninsurance card
URL:https://www.discovercathedralcity.com/event/vaccine-day-2/
LOCATION:Cathedral City Senior Center\, 37171 W. Buddy Rogers Avenue\, Cathedral City\, CA\, 92234\, United States
CATEGORIES:Senior
ATTACH;FMTTYPE=image/png:https://www.discovercathedralcity.com/wp-content/uploads/2023/05/Vaccine-Day-English-1.png
GEO:33.7787774;-116.4646519
X-APPLE-STRUCTURED-LOCATION;VALUE=URI;X-ADDRESS=Cathedral City Senior Center 37171 W. Buddy Rogers Avenue Cathedral City CA 92234 United States;X-APPLE-RADIUS=500;X-TITLE=37171 W. Buddy Rogers Avenue:geo:-116.4646519,33.7787774
END:VEVENT
BEGIN:VEVENT
DTSTART;TZID=America/Los_Angeles:20230623T123000
DTEND;TZID=America/Los_Angeles:20230623T123000
DTSTAMP:20260420T160800
CREATED:20230531T210019Z
LAST-MODIFIED:20230531T210351Z
UID:10004442-1687523400-1687523400@www.discovercathedralcity.com
SUMMARY:Qigong
DESCRIPTION:Qigong (thee-gong) is an ancient Chinese wellness\nsystem emphasizing breathing techniques and\nlow-impact body movements \nFree!\n12:00-12:30pm\nTue and Fri following the Senior Fitness class\nexcept 2nd Tue and 3rd Fri \nInstructor Sifu Ron teaches simple exercises that\nhelp reduce stress and anxiety and can improve\nyour positive well-being.
URL:https://www.discovercathedralcity.com/event/qigong/2023-06-23/
LOCATION:Cathedral City Senior Center\, 37171 W. Buddy Rogers Avenue\, Cathedral City\, CA\, 92234\, United States
CATEGORIES:Health,Senior
ATTACH;FMTTYPE=image/png:https://www.discovercathedralcity.com/wp-content/uploads/2023/05/Qigong-English.png
GEO:33.7787774;-116.4646519
X-APPLE-STRUCTURED-LOCATION;VALUE=URI;X-ADDRESS=Cathedral City Senior Center 37171 W. Buddy Rogers Avenue Cathedral City CA 92234 United States;X-APPLE-RADIUS=500;X-TITLE=37171 W. Buddy Rogers Avenue:geo:-116.4646519,33.7787774
END:VEVENT
BEGIN:VEVENT
DTSTART;TZID=America/Los_Angeles:20230624T110000
DTEND;TZID=America/Los_Angeles:20230624T120000
DTSTAMP:20260420T160800
CREATED:20230531T204456Z
LAST-MODIFIED:20230531T214932Z
UID:10004175-1687604400-1687608000@www.discovercathedralcity.com
SUMMARY:Healing Sound Bath with Simeon Den
DESCRIPTION:Experience the healing benefits of crystal\n“Tibetan singing bowls” \nRelax. Recharge. Harmonize Mind\, Body & Spirit \nSaturday\, June 24th\n11 am-12 pm \nCall 760-321-1548 to reserve your spot!\nBring a yoga mat\, blanket\, and/or pillow \nSuggested donation: $20 per person \n \n 
URL:https://www.discovercathedralcity.com/event/healing-sound-bath-with-simeon-den/
LOCATION:Cathedral City Senior Center\, 37171 W. Buddy Rogers Avenue\, Cathedral City\, CA\, 92234\, United States
CATEGORIES:Health,Senior
ATTACH;FMTTYPE=image/png:https://www.discovercathedralcity.com/wp-content/uploads/2023/05/English-1.png
GEO:33.7787774;-116.4646519
X-APPLE-STRUCTURED-LOCATION;VALUE=URI;X-ADDRESS=Cathedral City Senior Center 37171 W. Buddy Rogers Avenue Cathedral City CA 92234 United States;X-APPLE-RADIUS=500;X-TITLE=37171 W. Buddy Rogers Avenue:geo:-116.4646519,33.7787774
END:VEVENT
BEGIN:VEVENT
DTSTART;TZID=America/Los_Angeles:20230627T123000
DTEND;TZID=America/Los_Angeles:20230627T123000
DTSTAMP:20260420T160800
CREATED:20230531T210019Z
LAST-MODIFIED:20230531T210351Z
UID:10004443-1687869000-1687869000@www.discovercathedralcity.com
SUMMARY:Qigong
DESCRIPTION:Qigong (thee-gong) is an ancient Chinese wellness\nsystem emphasizing breathing techniques and\nlow-impact body movements \nFree!\n12:00-12:30pm\nTue and Fri following the Senior Fitness class\nexcept 2nd Tue and 3rd Fri \nInstructor Sifu Ron teaches simple exercises that\nhelp reduce stress and anxiety and can improve\nyour positive well-being.
URL:https://www.discovercathedralcity.com/event/qigong/2023-06-27/
LOCATION:Cathedral City Senior Center\, 37171 W. Buddy Rogers Avenue\, Cathedral City\, CA\, 92234\, United States
CATEGORIES:Health,Senior
ATTACH;FMTTYPE=image/png:https://www.discovercathedralcity.com/wp-content/uploads/2023/05/Qigong-English.png
GEO:33.7787774;-116.4646519
X-APPLE-STRUCTURED-LOCATION;VALUE=URI;X-ADDRESS=Cathedral City Senior Center 37171 W. Buddy Rogers Avenue Cathedral City CA 92234 United States;X-APPLE-RADIUS=500;X-TITLE=37171 W. Buddy Rogers Avenue:geo:-116.4646519,33.7787774
END:VEVENT
BEGIN:VEVENT
DTSTART;TZID=America/Los_Angeles:20230630T123000
DTEND;TZID=America/Los_Angeles:20230630T123000
DTSTAMP:20260420T160800
CREATED:20230531T210019Z
LAST-MODIFIED:20230531T210351Z
UID:10004444-1688128200-1688128200@www.discovercathedralcity.com
SUMMARY:Qigong
DESCRIPTION:Qigong (thee-gong) is an ancient Chinese wellness\nsystem emphasizing breathing techniques and\nlow-impact body movements \nFree!\n12:00-12:30pm\nTue and Fri following the Senior Fitness class\nexcept 2nd Tue and 3rd Fri \nInstructor Sifu Ron teaches simple exercises that\nhelp reduce stress and anxiety and can improve\nyour positive well-being.
URL:https://www.discovercathedralcity.com/event/qigong/2023-06-30/
LOCATION:Cathedral City Senior Center\, 37171 W. Buddy Rogers Avenue\, Cathedral City\, CA\, 92234\, United States
CATEGORIES:Health,Senior
ATTACH;FMTTYPE=image/png:https://www.discovercathedralcity.com/wp-content/uploads/2023/05/Qigong-English.png
GEO:33.7787774;-116.4646519
X-APPLE-STRUCTURED-LOCATION;VALUE=URI;X-ADDRESS=Cathedral City Senior Center 37171 W. Buddy Rogers Avenue Cathedral City CA 92234 United States;X-APPLE-RADIUS=500;X-TITLE=37171 W. Buddy Rogers Avenue:geo:-116.4646519,33.7787774
END:VEVENT
END:VCALENDAR